{ "currentVersion": 10.91, "serviceDescription": "
Historical map showing boundaries, streets, lot and concession numbers, land owners, barracks, military reserve<\/span><\/p> Includes inset: Fort Mississaga<\/span><\/p> Relief shown by shading.<\/span><\/p> Digital reproduction of map (29 3/4 x 52 in.) in the Public Archives of Canada. National Map Collection. Library and Archives Canada.<\/span><\/p> Georeferenced and modified from NMC Map number 11403 by Map, Data and GIS Library, Brock University. <\/span><\/p> <\/p><\/div><\/div><\/div>",
"name": "EarlyNiagara/NiagaraontheLake1853NMC11403",
"description": " Historical map showing boundaries, streets, lot and concession numbers, land owners, barracks, military reserve<\/span><\/p> Includes inset: Fort Mississaga<\/span><\/p> Relief shown by shading.<\/span><\/p> Digital reproduction of map (29 3/4 x 52 in.) in the Public Archives of Canada. National Map Collection. Library and Archives Canada.<\/span><\/p> Georeferenced and modified from NMC Map number 11403 by Map, Data and GIS Library, Brock University. <\/span><\/p> <\/p><\/div><\/div><\/div>",
"extent": {
"xmin": 654263.2223614673,
"ymin": 4788322.32978933,
"xmax": 659108.0435614673,
"ymax": 4792630.87940133,
"spatialReference": {
"wkid": 26917,
"latestWkid": 26917
}
},
"initialExtent": {
"xmin": 654263.2223614673,
"ymin": 4788322.32978933,
"xmax": 659108.0435614673,
"ymax": 4792630.87940133,
"spatialReference": {
"wkid": 26917,
"latestWkid": 26917
}
},
"fullExtent": {
"xmin": 654263.2223614673,
"ymin": 4788322.32978933,
"xmax": 659108.0435614673,
"ymax": 4792630.87940133,
"spatialReference": {
"wkid": 26917,
"latestWkid": 26917
}
},
"hasMultidimensions": false,
"pixelSizeX": 0.835314000000001,
"pixelSizeY": 0.8353139999999328,
"datasetFormat": "TIFF",
"uncompressedSize": 59832800,
"blockWidth": 128,
"blockHeight": 128,
"compressionType": "None",
"bandNames": [
"Band_1"
],
"allowCopy": true,
"allowAnalysis": true,
"bandCount": 1,
"noDataValue": 256,
"noDataValues": [
256
],
"pixelType": "U16",
"minPixelSize": 0,
"maxPixelSize": 0,
"copyrightText": "surveyed by F. F. Passmore Provl. Land Surveyor, ... verified by Lieut. Berdoe A. Wilkinson, Rl. Engrs. & Mr. Nelson Salker, Survr. & Dftsman. Rl. Engineer Dept.Map, Data & GIS Library, Brock University.",
"serviceDataType": "esriImageServiceDataTypeGeneric",
"serviceSourceType": "esriImageServiceSourceTypeDataset",
"minValues": [
0
],
"maxValues": [
255
],
"meanValues": [
206.6178853008
],
"stdvValues": [
27.132976768117
],
"objectIdField": "",
"fields": [],
"capabilities": "Mensuration,Image,Metadata",
"defaultMosaicMethod": "Center",
"allowedMosaicMethods": "",
"sortField": "",
"sortValue": null,
"sortAscending": true,
"mosaicOperator": "First",
"defaultCompressionQuality": 75,
"defaultResamplingMethod": "Bilinear",
"maxImageHeight": 4100,
"maxImageWidth": 15000,
"allowRasterFunction": true,
"rasterFunctionInfos": [
{
"name": "None",
"description": "",
"help": ""
}
],
"rasterTypeInfos": [
{
"name": "Raster Dataset",
"description": "Supports all ArcGIS Raster Datasets",
"help": ""
}
],
"mensurationCapabilities": "Basic",
"hasHistograms": true,
"hasColormap": false,
"hasRasterAttributeTable": false,
"minScale": 0,
"maxScale": 0,
"exportTilesAllowed": false,
"supportsStatistics": false,
"supportsAdvancedQueries": false,
"editFieldsInfo": null,
"ownershipBasedAccessControlForRasters": null,
"allowComputeTiePoints": false,
"useStandardizedQueries": true,
"advancedQueryCapabilities": {
"useStandardizedQueries": true,
"supportsStatistics": false,
"supportsOrderBy": false,
"supportsDistinct": false,
"supportsPagination": false
},
"spatialReference": {
"wkid": 26917,
"latestWkid": 26917
}
}