{ "currentVersion": 10.91, "serviceDescription": "
Historical map showing forts, streets and buildings.<\/SPAN><\/P> Relief shown by shading.<\/SPAN><\/P> Scale [ca. 1:2,400] or 1 in to 200 ft.<\/SPAN><\/P> Map date: 1853<\/SPAN><\/P> Digital reproduction of map (54 x 85 cm.) in the Public Archives of Canada. National Map Collection. Library and Archives Canada.<\/SPAN><\/P> Georeferenced and modified from NMC Map number 22533 by Map, Data and GIS Library, Brock University. <\/SPAN><\/P> <\/P><\/DIV><\/DIV><\/DIV>",
"name": "EarlyNiagara/NiagaraontheLake1853NMC22533",
"description": " Historical map showing forts, streets and buildings.<\/SPAN><\/P> Relief shown by shading.<\/SPAN><\/P> Scale [ca. 1:2,400] or 1 in to 200 ft.<\/SPAN><\/P> Map date: 1853<\/SPAN><\/P> Digital reproduction of map (54 x 85 cm.) in the Public Archives of Canada. National Map Collection. Library and Archives Canada.<\/SPAN><\/P> Georeferenced and modified from NMC Map number 22533 by Map, Data and GIS Library, Brock University. <\/SPAN><\/P> <\/P><\/DIV><\/DIV><\/DIV>",
"extent": {
"xmin": 655578.2372477293,
"ymin": 4790553.057214307,
"xmax": 658014.6220997294,
"ymax": 4792726.892086307,
"spatialReference": {
"wkid": 26917,
"latestWkid": 26917
}
},
"initialExtent": {
"xmin": 655578.2372477293,
"ymin": 4790553.057214307,
"xmax": 658014.6220997294,
"ymax": 4792726.892086307,
"spatialReference": {
"wkid": 26917,
"latestWkid": 26917
}
},
"fullExtent": {
"xmin": 655578.2372477293,
"ymin": 4790553.057214307,
"xmax": 658014.6220997294,
"ymax": 4792726.892086307,
"spatialReference": {
"wkid": 26917,
"latestWkid": 26917
}
},
"hasMultidimensions": false,
"pixelSizeX": 0.39481200000000755,
"pixelSizeY": 0.39481199999998534,
"datasetFormat": "TIFF",
"uncompressedSize": 67955052,
"blockWidth": 128,
"blockHeight": 128,
"compressionType": "None",
"bandNames": [
"Band_1"
],
"allowCopy": true,
"allowAnalysis": true,
"bandCount": 1,
"noDataValue": 256,
"noDataValues": [
256
],
"pixelType": "U16",
"minPixelSize": 0,
"maxPixelSize": 0,
"copyrightText": "[\"signed\"]",
"serviceDataType": "esriImageServiceDataTypeGeneric",
"serviceSourceType": "esriImageServiceSourceTypeDataset",
"minValues": [
7
],
"maxValues": [
255
],
"meanValues": [
196.5165528879
],
"stdvValues": [
22.98021448843
],
"objectIdField": "",
"fields": [],
"capabilities": "Image,Metadata,Mensuration",
"defaultMosaicMethod": "Center",
"allowedMosaicMethods": "",
"sortField": "",
"sortValue": null,
"sortAscending": true,
"mosaicOperator": "First",
"defaultCompressionQuality": 75,
"defaultResamplingMethod": "Bilinear",
"maxImageHeight": 4100,
"maxImageWidth": 15000,
"allowRasterFunction": true,
"rasterFunctionInfos": [
{
"name": "None",
"description": "",
"help": ""
}
],
"rasterTypeInfos": [
{
"name": "Raster Dataset",
"description": "Supports all ArcGIS Raster Datasets",
"help": ""
}
],
"mensurationCapabilities": "Basic",
"hasHistograms": true,
"hasColormap": false,
"hasRasterAttributeTable": false,
"minScale": 0,
"maxScale": 0,
"exportTilesAllowed": false,
"supportsStatistics": false,
"supportsAdvancedQueries": false,
"editFieldsInfo": null,
"ownershipBasedAccessControlForRasters": null,
"allowComputeTiePoints": false,
"useStandardizedQueries": true,
"advancedQueryCapabilities": {
"useStandardizedQueries": true,
"supportsStatistics": false,
"supportsOrderBy": false,
"supportsDistinct": false,
"supportsPagination": false
},
"spatialReference": {
"wkid": 26917,
"latestWkid": 26917
}
}