{
 "currentVersion": 10.91,
 "serviceDescription": "<div style=''><div><div><p><span>Historical map showing streets and buildings including Butlers Barracks, Dock Company land and \"ruins at Fort George\".<\/span><\/p><p><span>\"Copied from the original by R.J. Beatson. Captain R.E., Quebec 12th April, 1853. (signed) F.F. Passmore, Provincial Land Surveyor, Toronto, March 24, 1853.\"<\/span><\/p><p><span>Digital reproduction of map (17 x 21 in.) in the Public Archives of Canada. National Map Collection. Library and Archives Canada.<\/span><\/p><p><span>Georeferenced and modified from NMC Map number 4214 by Map, Data and GIS Library, Brock University. <\/span><\/p><p><span /><\/p><\/div><\/div><\/div>",
 "name": "EarlyNiagara/NiagaraontheLake1853NMC4214",
 "description": "<div style=''><div><div><p><span>Historical map showing streets and buildings including Butlers Barracks, Dock Company land and \"ruins at Fort George\".<\/span><\/p><p><span>\"Copied from the original by R.J. Beatson. Captain R.E., Quebec 12th April, 1853. (signed) F.F. Passmore, Provincial Land Surveyor, Toronto, March 24, 1853.\"<\/span><\/p><p><span>Digital reproduction of map (17 x 21 in.) in the Public Archives of Canada. National Map Collection. Library and Archives Canada.<\/span><\/p><p><span>Georeferenced and modified from NMC Map number 4214 by Map, Data and GIS Library, Brock University. <\/span><\/p><p><span /><\/p><\/div><\/div><\/div>",
 "extent": {
  "xmin": -8803305.77149215,
  "ymin": 5348386.748690267,
  "xmax": -8799767.56895015,
  "ymax": 5351775.853556267,
  "spatialReference": {
   "wkid": 102100,
   "latestWkid": 3857
  }
 },
 "initialExtent": {
  "xmin": -8803305.77149215,
  "ymin": 5348386.748690267,
  "xmax": -8799767.56895015,
  "ymax": 5351775.853556267,
  "spatialReference": {
   "wkid": 102100,
   "latestWkid": 3857
  }
 },
 "fullExtent": {
  "xmin": -8803305.77149215,
  "ymin": 5348386.748690267,
  "xmax": -8799767.56895015,
  "ymax": 5351775.853556267,
  "spatialReference": {
   "wkid": 102100,
   "latestWkid": 3857
  }
 },
 "hasMultidimensions": false,
 "pixelSizeX": 0.8192179999998886,
 "pixelSizeY": 0.819217999999974,
 "datasetFormat": "TIFF",
 "uncompressedSize": 35735406,
 "blockWidth": 128,
 "blockHeight": 128,
 "compressionType": "None",
 "bandNames": [
  "Band_1"
 ],
 "allowCopy": true,
 "allowAnalysis": true,
 "bandCount": 1,
 "noDataValue": 256,
 "noDataValues": [
  256
 ],
 "pixelType": "U16",
 "minPixelSize": 0,
 "maxPixelSize": 0,
 "copyrightText": "Map, Data & GIS Library, Brock University.",
 "serviceDataType": "esriImageServiceDataTypeGeneric",
 "serviceSourceType": "esriImageServiceSourceTypeDataset",
 "minValues": [
  0
 ],
 "maxValues": [
  254
 ],
 "meanValues": [
  191.29912041117
 ],
 "stdvValues": [
  36.371007450763
 ],
 "objectIdField": "",
 "fields": [],
 "capabilities": "Mensuration,Image,Metadata",
 "defaultMosaicMethod": "Center",
 "allowedMosaicMethods": "",
 "sortField": "",
 "sortValue": null,
 "sortAscending": true,
 "mosaicOperator": "First",
 "defaultCompressionQuality": 75,
 "defaultResamplingMethod": "Bilinear",
 "maxImageHeight": 4100,
 "maxImageWidth": 15000,
 "allowRasterFunction": true,
 "rasterFunctionInfos": [
  {
   "name": "None",
   "description": "",
   "help": ""
  }
 ],
 "rasterTypeInfos": [
  {
   "name": "Raster Dataset",
   "description": "Supports all ArcGIS Raster Datasets",
   "help": ""
  }
 ],
 "mensurationCapabilities": "Basic",
 "hasHistograms": true,
 "hasColormap": false,
 "hasRasterAttributeTable": false,
 "minScale": 0,
 "maxScale": 0,
 "exportTilesAllowed": false,
 "supportsStatistics": false,
 "supportsAdvancedQueries": false,
 "editFieldsInfo": null,
 "ownershipBasedAccessControlForRasters": null,
 "allowComputeTiePoints": false,
 "useStandardizedQueries": true,
 "advancedQueryCapabilities": {
  "useStandardizedQueries": true,
  "supportsStatistics": false,
  "supportsOrderBy": false,
  "supportsDistinct": false,
  "supportsPagination": false
 },
 "spatialReference": {
  "wkid": 102100,
  "latestWkid": 3857
 }
}
