{ "currentVersion": 10.91, "serviceDescription": "
Historical map showing the garrison reserve around Fort George in Niagara (NOTL), the land that will be retained by the ordnance, and the land to be used for settlement or pasturage by the Pensioners. A proposed line for the Erie and Ontario Railroad across the garrison reserve is shown. The location of telegraph posts is marked. Property owners, military buildings, and some vegetation are noted.<\/span><\/p> Scale [ca. 1:2,932]<\/span><\/p> Map date 1853<\/span><\/p> Digital reproduction of map (44 x 56 cm.) in the Public Archives of Canada. National Map Collection. Library and Archives Canada.<\/span><\/p> Georeferenced and modified from NMC Map number 4215 by Map, Data and GIS Library, Brock University. <\/span><\/p> <\/p><\/div><\/div><\/div>",
"name": "EarlyNiagara/NiagaraontheLake1853NMC4215",
"description": " Historical map showing the garrison reserve around Fort George in Niagara (NOTL), the land that will be retained by the ordnance, and the land to be used for settlement or pasturage by the Pensioners. A proposed line for the Erie and Ontario Railroad across the garrison reserve is shown. The location of telegraph posts is marked. Property owners, military buildings, and some vegetation are noted.<\/span><\/p> Scale [ca. 1:2,932]<\/span><\/p> Map date 1853<\/span><\/p> Digital reproduction of map (44 x 56 cm.) in the Public Archives of Canada. National Map Collection. Library and Archives Canada.<\/span><\/p> Georeferenced and modified from NMC Map number 4215 by Map, Data and GIS Library, Brock University. <\/span><\/p> <\/p><\/div><\/div><\/div>",
"extent": {
"xmin": 655955.1778285076,
"ymin": 4789203.557976787,
"xmax": 658221.5191165076,
"ymax": 4791336.821688787,
"spatialReference": {
"wkid": 26917,
"latestWkid": 26917
}
},
"initialExtent": {
"xmin": 655955.1778285076,
"ymin": 4789203.557976787,
"xmax": 658221.5191165076,
"ymax": 4791336.821688787,
"spatialReference": {
"wkid": 26917,
"latestWkid": 26917
}
},
"fullExtent": {
"xmin": 655955.1778285076,
"ymin": 4789203.557976787,
"xmax": 658221.5191165076,
"ymax": 4791336.821688787,
"spatialReference": {
"wkid": 26917,
"latestWkid": 26917
}
},
"hasMultidimensions": false,
"pixelSizeX": 0.3352079999999994,
"pixelSizeY": 0.335208000000016,
"datasetFormat": "TIFF",
"uncompressedSize": 86054008,
"blockWidth": 128,
"blockHeight": 128,
"compressionType": "None",
"bandNames": [
"Band_1"
],
"allowCopy": true,
"allowAnalysis": true,
"bandCount": 1,
"noDataValue": 256,
"noDataValues": [
256
],
"pixelType": "U16",
"minPixelSize": 0,
"maxPixelSize": 0,
"copyrightText": "[\"signed\"]",
"serviceDataType": "esriImageServiceDataTypeGeneric",
"serviceSourceType": "esriImageServiceSourceTypeDataset",
"minValues": [
0
],
"maxValues": [
255
],
"meanValues": [
192.10484042813
],
"stdvValues": [
36.085765262591
],
"objectIdField": "",
"fields": [],
"capabilities": "Mensuration,Image,Metadata",
"defaultMosaicMethod": "Center",
"allowedMosaicMethods": "",
"sortField": "",
"sortValue": null,
"sortAscending": true,
"mosaicOperator": "First",
"defaultCompressionQuality": 75,
"defaultResamplingMethod": "Bilinear",
"maxImageHeight": 4100,
"maxImageWidth": 15000,
"allowRasterFunction": true,
"rasterFunctionInfos": [
{
"name": "None",
"description": "",
"help": ""
}
],
"rasterTypeInfos": [
{
"name": "Raster Dataset",
"description": "Supports all ArcGIS Raster Datasets",
"help": ""
}
],
"mensurationCapabilities": "Basic",
"hasHistograms": true,
"hasColormap": false,
"hasRasterAttributeTable": false,
"minScale": 0,
"maxScale": 0,
"exportTilesAllowed": false,
"supportsStatistics": false,
"supportsAdvancedQueries": false,
"editFieldsInfo": null,
"ownershipBasedAccessControlForRasters": null,
"allowComputeTiePoints": false,
"useStandardizedQueries": true,
"advancedQueryCapabilities": {
"useStandardizedQueries": true,
"supportsStatistics": false,
"supportsOrderBy": false,
"supportsDistinct": false,
"supportsPagination": false
},
"spatialReference": {
"wkid": 26917,
"latestWkid": 26917
}
}