{
 "currentVersion": 10.91,
 "serviceDescription": "<DIV STYLE=\"text-align:Left;\"><DIV><DIV><P><SPAN>Map showing streets, buildings, military reserve, 'ruins of Fort George'.<\/SPAN><\/P><P><SPAN>Scale 1 inch to 100 feet<\/SPAN><\/P><P><SPAN>Map date: 1863<\/SPAN><\/P><P><SPAN>Digital reproduction of map (20 1/4 x 38 1/4 in.) in the Public Archives of Canada. National Map Collection. Library and Archives Canada.<\/SPAN><\/P><P><SPAN>Georeferenced and modified from NMC Map number 22534 by Map, Data and GIS Library, Brock University. <\/SPAN><\/P><P><SPAN /><\/P><\/DIV><\/DIV><\/DIV>",
 "name": "EarlyNiagara/NiagaraontheLake1863NMC22534",
 "description": "<DIV STYLE=\"text-align:Left;\"><DIV><DIV><P><SPAN>Map showing streets, buildings, military reserve, 'ruins of Fort George'.<\/SPAN><\/P><P><SPAN>Scale 1 inch to 100 feet<\/SPAN><\/P><P><SPAN>Map date: 1863<\/SPAN><\/P><P><SPAN>Digital reproduction of map (20 1/4 x 38 1/4 in.) in the Public Archives of Canada. National Map Collection. Library and Archives Canada.<\/SPAN><\/P><P><SPAN>Georeferenced and modified from NMC Map number 22534 by Map, Data and GIS Library, Brock University. <\/SPAN><\/P><P><SPAN /><\/P><\/DIV><\/DIV><\/DIV>",
 "extent": {
  "xmin": 656543.3859150066,
  "ymin": 4790372.520532152,
  "xmax": 657879.5987950066,
  "ymax": 4791567.614432151,
  "spatialReference": {
   "wkid": 26917,
   "latestWkid": 26917
  }
 },
 "initialExtent": {
  "xmin": 656543.3859150066,
  "ymin": 4790372.520532152,
  "xmax": 657879.5987950066,
  "ymax": 4791567.614432151,
  "spatialReference": {
   "wkid": 26917,
   "latestWkid": 26917
  }
 },
 "fullExtent": {
  "xmin": 656543.3859150066,
  "ymin": 4790372.520532152,
  "xmax": 657879.5987950066,
  "ymax": 4791567.614432151,
  "spatialReference": {
   "wkid": 26917,
   "latestWkid": 26917
  }
 },
 "hasMultidimensions": false,
 "pixelSizeX": 0.23878000000000116,
 "pixelSizeY": 0.2387799999999491,
 "datasetFormat": "TIFF",
 "uncompressedSize": 56015960,
 "blockWidth": 128,
 "blockHeight": 128,
 "compressionType": "None",
 "bandNames": [
  "Band_1"
 ],
 "allowCopy": true,
 "allowAnalysis": true,
 "bandCount": 1,
 "noDataValue": 256,
 "noDataValues": [
  256
 ],
 "pixelType": "U16",
 "minPixelSize": 0,
 "maxPixelSize": 0,
 "copyrightText": "[\"signed\"]",
 "serviceDataType": "esriImageServiceDataTypeGeneric",
 "serviceSourceType": "esriImageServiceSourceTypeDataset",
 "minValues": [
  18
 ],
 "maxValues": [
  241
 ],
 "meanValues": [
  192.4480464346
 ],
 "stdvValues": [
  41.718127684127
 ],
 "objectIdField": "",
 "fields": [],
 "capabilities": "Image,Metadata,Mensuration",
 "defaultMosaicMethod": "Center",
 "allowedMosaicMethods": "",
 "sortField": "",
 "sortValue": null,
 "sortAscending": true,
 "mosaicOperator": "First",
 "defaultCompressionQuality": 75,
 "defaultResamplingMethod": "Bilinear",
 "maxImageHeight": 4100,
 "maxImageWidth": 15000,
 "allowRasterFunction": true,
 "rasterFunctionInfos": [
  {
   "name": "None",
   "description": "",
   "help": ""
  }
 ],
 "rasterTypeInfos": [
  {
   "name": "Raster Dataset",
   "description": "Supports all ArcGIS Raster Datasets",
   "help": ""
  }
 ],
 "mensurationCapabilities": "Basic",
 "hasHistograms": true,
 "hasColormap": false,
 "hasRasterAttributeTable": false,
 "minScale": 0,
 "maxScale": 0,
 "exportTilesAllowed": false,
 "supportsStatistics": false,
 "supportsAdvancedQueries": false,
 "editFieldsInfo": null,
 "ownershipBasedAccessControlForRasters": null,
 "allowComputeTiePoints": false,
 "useStandardizedQueries": true,
 "advancedQueryCapabilities": {
  "useStandardizedQueries": true,
  "supportsStatistics": false,
  "supportsOrderBy": false,
  "supportsDistinct": false,
  "supportsPagination": false
 },
 "spatialReference": {
  "wkid": 26917,
  "latestWkid": 26917
 }
}
