{ "currentVersion": 10.91, "serviceDescription": "
Map date: 1894<\/SPAN><\/P> Scale [ca.1:5,454]<\/SPAN><\/P> Digital reproduction of map (65 x 56 cm.) in the Brock University Map, Data & GIS Library<\/SPAN><\/P> Georeferenced and modified from Brock call # G 3464 N55 1894 J64, by Map, Data and GIS Library, Brock University. <\/SPAN><\/P> <\/P><\/DIV><\/DIV><\/DIV>",
"name": "EarlyNiagara/NiagaraontheLake1894",
"description": " Map date: 1894<\/SPAN><\/P> Scale [ca.1:5,454]<\/SPAN><\/P> Digital reproduction of map (65 x 56 cm.) in the Brock University Map, Data & GIS Library<\/SPAN><\/P> Georeferenced and modified from Brock call # G 3464 N55 1894 J64, by Map, Data and GIS Library, Brock University. <\/SPAN><\/P> <\/P><\/DIV><\/DIV><\/DIV>",
"extent": {
"xmin": -8805176.811274411,
"ymin": 5347017.687112902,
"xmax": -8799779.85211941,
"ymax": 5355564.546937902,
"spatialReference": {
"wkid": 102100,
"latestWkid": 3857
}
},
"initialExtent": {
"xmin": -8805176.811274411,
"ymin": 5347017.687112902,
"xmax": -8799779.85211941,
"ymax": 5355564.546937902,
"spatialReference": {
"wkid": 102100,
"latestWkid": 3857
}
},
"fullExtent": {
"xmin": -8805176.811274411,
"ymin": 5347017.687112902,
"xmax": -8799779.85211941,
"ymax": 5355564.546937902,
"spatialReference": {
"wkid": 102100,
"latestWkid": 3857
}
},
"hasMultidimensions": false,
"pixelSizeX": 0.6928950000000959,
"pixelSizeY": 0.6928950000000136,
"datasetFormat": "TIFF",
"uncompressedSize": 576343152,
"blockWidth": 128,
"blockHeight": 128,
"compressionType": "LZW",
"bandNames": [
"Band_1",
"Band_2",
"Band_3"
],
"allowCopy": true,
"allowAnalysis": true,
"bandCount": 3,
"noDataValue": 256,
"noDataValues": [
256,
256,
256
],
"pixelType": "U16",
"minPixelSize": 0,
"maxPixelSize": 0,
"copyrightText": "Drawn by B. Frank Johnson\n\nPublisher: Duncan Lithographing\n\nMap, Data & GIS Library, Brock University.",
"serviceDataType": "esriImageServiceDataTypeGeneric",
"serviceSourceType": "esriImageServiceSourceTypeDataset",
"minValues": [
0,
0,
0
],
"maxValues": [
255,
255,
255
],
"meanValues": [
173.81615139753,
139.24633091271,
116.90440507649
],
"stdvValues": [
51.672683857601,
43.919608604107,
39.723523488608
],
"objectIdField": "",
"fields": [],
"capabilities": "Image,Metadata,Mensuration",
"defaultMosaicMethod": "Center",
"allowedMosaicMethods": "",
"sortField": "",
"sortValue": null,
"sortAscending": true,
"mosaicOperator": "First",
"defaultCompressionQuality": 75,
"defaultResamplingMethod": "Bilinear",
"maxImageHeight": 4100,
"maxImageWidth": 15000,
"allowRasterFunction": true,
"rasterFunctionInfos": [
{
"name": "None",
"description": "",
"help": ""
}
],
"rasterTypeInfos": [
{
"name": "Raster Dataset",
"description": "Supports all ArcGIS Raster Datasets",
"help": ""
}
],
"mensurationCapabilities": "Basic",
"hasHistograms": true,
"hasColormap": false,
"hasRasterAttributeTable": false,
"minScale": 0,
"maxScale": 0,
"exportTilesAllowed": false,
"supportsStatistics": false,
"supportsAdvancedQueries": false,
"editFieldsInfo": null,
"ownershipBasedAccessControlForRasters": null,
"allowComputeTiePoints": false,
"useStandardizedQueries": true,
"advancedQueryCapabilities": {
"useStandardizedQueries": true,
"supportsStatistics": false,
"supportsOrderBy": false,
"supportsDistinct": false,
"supportsPagination": false
},
"spatialReference": {
"wkid": 102100,
"latestWkid": 3857
}
}