{ "currentVersion": 10.91, "serviceDescription": "
Historical map showing streets, lot numbers, boundaries, cultural and hydrological features.<\/SPAN><\/P> \"File H-38\"--in top and bottom margins.<\/SPAN><\/P> Scale [1:31,680]<\/SPAN><\/P> Map date: 1961<\/SPAN><\/P> Reproduction of map (45 x 43 cm.) in Map, Data and GIS Library's historical map collection<\/SPAN><\/P> Georeferenced and modified from Brock call # <\/SPAN>G 3464 N55 G45 1961 N53 <\/SPAN><\/SPAN>by Map, Data and GIS Library, Brock University. <\/SPAN><\/P> <\/P><\/DIV><\/DIV><\/DIV>",
"name": "EarlyNiagara/NiagaraontheLake1961",
"description": " Historical map showing streets, lot numbers, boundaries, cultural and hydrological features.<\/SPAN><\/P> \"File H-38\"--in top and bottom margins.<\/SPAN><\/P> Scale [1:31,680]<\/SPAN><\/P> Map date: 1961<\/SPAN><\/P> Reproduction of map (45 x 43 cm.) in Map, Data and GIS Library's historical map collection<\/SPAN><\/P> Georeferenced and modified from Brock call # <\/SPAN>G 3464 N55 G45 1961 N53 <\/SPAN><\/SPAN>by Map, Data and GIS Library, Brock University. <\/SPAN><\/P> <\/P><\/DIV><\/DIV><\/DIV>",
"extent": {
"xmin": 644438.924294521,
"ymin": 4776936.551702368,
"xmax": 659900.190455521,
"ymax": 4793630.048357368,
"spatialReference": {
"wkid": 26917,
"latestWkid": 26917
}
},
"initialExtent": {
"xmin": 644438.924294521,
"ymin": 4776936.551702368,
"xmax": 659900.190455521,
"ymax": 4793630.048357368,
"spatialReference": {
"wkid": 26917,
"latestWkid": 26917
}
},
"fullExtent": {
"xmin": 644438.924294521,
"ymin": 4776936.551702368,
"xmax": 659900.190455521,
"ymax": 4793630.048357368,
"spatialReference": {
"wkid": 26917,
"latestWkid": 26917
}
},
"hasMultidimensions": false,
"pixelSizeX": 1.5364470000000008,
"pixelSizeY": 1.5364470000000343,
"datasetFormat": "TIFF",
"uncompressedSize": 218668990,
"blockWidth": 128,
"blockHeight": 128,
"compressionType": "None",
"bandNames": [
"Band_1"
],
"allowCopy": true,
"allowAnalysis": true,
"bandCount": 1,
"noDataValue": 256,
"noDataValues": [
256
],
"pixelType": "U16",
"minPixelSize": 0,
"maxPixelSize": 0,
"copyrightText": "Niagara Township Engineer\n\nMap, Data & GIS Library, Brock University.",
"serviceDataType": "esriImageServiceDataTypeGeneric",
"serviceSourceType": "esriImageServiceSourceTypeDataset",
"minValues": [
0
],
"maxValues": [
255
],
"meanValues": [
207.43842020543
],
"stdvValues": [
61.154567798719
],
"objectIdField": "",
"fields": [],
"capabilities": "Image,Metadata,Mensuration",
"defaultMosaicMethod": "Center",
"allowedMosaicMethods": "",
"sortField": "",
"sortValue": null,
"sortAscending": true,
"mosaicOperator": "First",
"defaultCompressionQuality": 75,
"defaultResamplingMethod": "Bilinear",
"maxImageHeight": 4100,
"maxImageWidth": 15000,
"allowRasterFunction": true,
"rasterFunctionInfos": [
{
"name": "None",
"description": "",
"help": ""
}
],
"rasterTypeInfos": [
{
"name": "Raster Dataset",
"description": "Supports all ArcGIS Raster Datasets",
"help": ""
}
],
"mensurationCapabilities": "Basic",
"hasHistograms": true,
"hasColormap": false,
"hasRasterAttributeTable": false,
"minScale": 0,
"maxScale": 0,
"exportTilesAllowed": false,
"supportsStatistics": false,
"supportsAdvancedQueries": false,
"editFieldsInfo": null,
"ownershipBasedAccessControlForRasters": null,
"allowComputeTiePoints": false,
"useStandardizedQueries": true,
"advancedQueryCapabilities": {
"useStandardizedQueries": true,
"supportsStatistics": false,
"supportsOrderBy": false,
"supportsDistinct": false,
"supportsPagination": false
},
"spatialReference": {
"wkid": 26917,
"latestWkid": 26917
}
}