{
 "currentVersion": 10.91,
 "serviceDescription": "Map date: 1966Scale [1:7,402]Digital reproduction of map (42 x 56 cm.) in the Brock University Map, Data & GIS Library.Georeferenced and modified from Brock call # G 3464 N55 G45 1966 P55, by Map, Data and GIS Library, Brock University. ",
 "name": "EarlyNiagara/NiagaraontheLake1966",
 "description": "Map date: 1966Scale [1:7,402]Digital reproduction of map (42 x 56 cm.) in the Brock University Map, Data & GIS Library.Georeferenced and modified from Brock call # G 3464 N55 G45 1966 P55, by Map, Data and GIS Library, Brock University. ",
 "extent": {
  "xmin": -8806638.265517887,
  "ymin": 5345936.708752455,
  "xmax": -8798829.934267886,
  "ymax": 5353531.404059455,
  "spatialReference": {
   "wkid": 102100,
   "latestWkid": 3857
  }
 },
 "initialExtent": {
  "xmin": -8806638.265517887,
  "ymin": 5345936.708752455,
  "xmax": -8798829.934267886,
  "ymax": 5353531.404059455,
  "spatialReference": {
   "wkid": 102100,
   "latestWkid": 3857
  }
 },
 "fullExtent": {
  "xmin": -8806638.265517887,
  "ymin": 5345936.708752455,
  "xmax": -8798829.934267886,
  "ymax": 5353531.404059455,
  "spatialReference": {
   "wkid": 102100,
   "latestWkid": 3857
  }
 },
 "hasMultidimensions": false,
 "pixelSizeX": 1.2493330000001193,
 "pixelSizeY": 1.2493329999999356,
 "datasetFormat": "TIFF",
 "uncompressedSize": 75987500,
 "blockWidth": 128,
 "blockHeight": 128,
 "compressionType": "LZW",
 "bandNames": [
  "Band_1"
 ],
 "allowCopy": true,
 "allowAnalysis": true,
 "bandCount": 1,
 "noDataValue": 256,
 "noDataValues": [
  256
 ],
 "pixelType": "U16",
 "minPixelSize": 0,
 "maxPixelSize": 0,
 "copyrightText": "\"Survey under instructions from the Department of Lands, Forests and Mines, dated 12th of June & 5th of October 1909 and 10th 1910.\"\nRevised Aug. 1966 [by Niagara-on-the-Lake Planning Board].\n\nMap, Data & GIS Library, Brock University.",
 "serviceDataType": "esriImageServiceDataTypeGeneric",
 "serviceSourceType": "esriImageServiceSourceTypeDataset",
 "minValues": [
  0
 ],
 "maxValues": [
  255
 ],
 "meanValues": [
  242.95489285463
 ],
 "stdvValues": [
  49.185224900789
 ],
 "objectIdField": "",
 "fields": [],
 "capabilities": "Image,Metadata,Mensuration",
 "defaultMosaicMethod": "Center",
 "allowedMosaicMethods": "",
 "sortField": "",
 "sortValue": null,
 "sortAscending": true,
 "mosaicOperator": "First",
 "defaultCompressionQuality": 75,
 "defaultResamplingMethod": "Bilinear",
 "maxImageHeight": 4100,
 "maxImageWidth": 15000,
 "allowRasterFunction": true,
 "rasterFunctionInfos": [
  {
   "name": "None",
   "description": "",
   "help": ""
  }
 ],
 "rasterTypeInfos": [
  {
   "name": "Raster Dataset",
   "description": "Supports all ArcGIS Raster Datasets",
   "help": ""
  }
 ],
 "mensurationCapabilities": "Basic",
 "hasHistograms": true,
 "hasColormap": false,
 "hasRasterAttributeTable": false,
 "minScale": 0,
 "maxScale": 0,
 "exportTilesAllowed": false,
 "supportsStatistics": false,
 "supportsAdvancedQueries": false,
 "editFieldsInfo": null,
 "ownershipBasedAccessControlForRasters": null,
 "allowComputeTiePoints": false,
 "useStandardizedQueries": true,
 "advancedQueryCapabilities": {
  "useStandardizedQueries": true,
  "supportsStatistics": false,
  "supportsOrderBy": false,
  "supportsDistinct": false,
  "supportsPagination": false
 },
 "spatialReference": {
  "wkid": 102100,
  "latestWkid": 3857
 }
}
