{ "currentVersion": 10.91, "serviceDescription": "
Shows oil fields, natural gas fields, natural gas pipe lines, compressor stations, main highways and county and township boundaries. Legend shows general geological divisions. Includes insets of 8 major fields at various scales with depth contours & survey grid, and a list of fields.<\/span><\/p><\/div><\/div>",
"name": "EarlyNiagara/OilGasSWontario1953",
"description": " Shows oil fields, natural gas fields, natural gas pipe lines, compressor stations, main highways and county and township boundaries. Legend shows general geological divisions. Includes insets of 8 major fields at various scales with depth contours & survey grid, and a list of fields.<\/span><\/p><\/div><\/div>",
"extent": {
"xmin": 316051.9475136781,
"ymin": 4610201.482040502,
"xmax": 686621.7611362904,
"ymax": 4879038.845677781,
"spatialReference": {
"wkid": 26917,
"latestWkid": 26917
}
},
"initialExtent": {
"xmin": 316051.9475136781,
"ymin": 4610201.482040502,
"xmax": 686621.7611362904,
"ymax": 4879038.845677781,
"spatialReference": {
"wkid": 26917,
"latestWkid": 26917
}
},
"fullExtent": {
"xmin": 316051.9475136781,
"ymin": 4610201.482040502,
"xmax": 686621.7611362904,
"ymax": 4879038.845677781,
"spatialReference": {
"wkid": 26917,
"latestWkid": 26917
}
},
"hasMultidimensions": false,
"pixelSizeX": 32.443513712363185,
"pixelSizeY": 32.39394669686454,
"datasetFormat": "TIFF",
"uncompressedSize": 284373534,
"blockWidth": 11422,
"blockHeight": 1024,
"compressionType": "LZW",
"bandNames": [
"Band_1",
"Band_2",
"Band_3"
],
"allowCopy": true,
"allowAnalysis": true,
"bandCount": 3,
"pixelType": "U8",
"minPixelSize": 0,
"maxPixelSize": 0,
"copyrightText": "Brock University Map, Data & GIS Library",
"serviceDataType": "esriImageServiceDataTypeRGB",
"serviceSourceType": "esriImageServiceSourceTypeDataset",
"minValues": [
0,
0,
0
],
"maxValues": [
255,
255,
255
],
"meanValues": [
208.47966423638,
211.58635089438,
195.94627075945
],
"stdvValues": [
50.71231003422,
50.991454805925,
51.705751387799
],
"objectIdField": "",
"fields": [],
"capabilities": "Mensuration,Image,Metadata",
"defaultMosaicMethod": "Center",
"allowedMosaicMethods": "",
"sortField": "",
"sortValue": null,
"sortAscending": true,
"mosaicOperator": "First",
"defaultCompressionQuality": 75,
"defaultResamplingMethod": "Bilinear",
"maxImageHeight": 4100,
"maxImageWidth": 15000,
"allowRasterFunction": true,
"rasterFunctionInfos": [
{
"name": "None",
"description": "",
"help": ""
}
],
"rasterTypeInfos": [
{
"name": "Raster Dataset",
"description": "Supports all ArcGIS Raster Datasets",
"help": ""
}
],
"mensurationCapabilities": "Basic",
"hasHistograms": true,
"hasColormap": false,
"hasRasterAttributeTable": false,
"minScale": 0,
"maxScale": 0,
"exportTilesAllowed": false,
"supportsStatistics": false,
"supportsAdvancedQueries": false,
"editFieldsInfo": null,
"ownershipBasedAccessControlForRasters": null,
"allowComputeTiePoints": false,
"useStandardizedQueries": true,
"advancedQueryCapabilities": {
"useStandardizedQueries": true,
"supportsStatistics": false,
"supportsOrderBy": false,
"supportsDistinct": false,
"supportsPagination": false
},
"spatialReference": {
"wkid": 26917,
"latestWkid": 26917
}
}