{
 "currentVersion": 10.91,
 "serviceDescription": "<DIV STYLE=\"text-align:Left;\"><DIV><DIV><P><SPAN>Historical map showing land use features, residential, commercial, industrial, institutional, park & open spaces, urbanized areas, boundaries. (Legend is not included on this sheet.)<\/SPAN><\/P><P><SPAN>Scale 1 inch to 400 feet.<\/SPAN><\/P><P><SPAN>Map date: 1961<\/SPAN><\/P><P><SPAN>Digital reproduction of map in the Brock University Map, Data & GIS Library collection. <\/SPAN><\/P><P><SPAN>Georeferenced and modified from Brock call# G 3464 S35 G4 1961 S35 Port Dalhousie, by Map, Data and GIS Library, Brock University.<\/SPAN><\/P><P><SPAN /><\/P><\/DIV><\/DIV><\/DIV>",
 "name": "EarlyNiagara/PortDalhousieExistingLanduse1961",
 "description": "<DIV STYLE=\"text-align:Left;\"><DIV><DIV><P><SPAN>Historical map showing land use features, residential, commercial, industrial, institutional, park & open spaces, urbanized areas, boundaries. (Legend is not included on this sheet.)<\/SPAN><\/P><P><SPAN>Scale 1 inch to 400 feet.<\/SPAN><\/P><P><SPAN>Map date: 1961<\/SPAN><\/P><P><SPAN>Digital reproduction of map in the Brock University Map, Data & GIS Library collection. <\/SPAN><\/P><P><SPAN>Georeferenced and modified from Brock call# G 3464 S35 G4 1961 S35 Port Dalhousie, by Map, Data and GIS Library, Brock University.<\/SPAN><\/P><P><SPAN /><\/P><\/DIV><\/DIV><\/DIV>",
 "extent": {
  "xmin": 637908.024207001,
  "ymin": 4779886.410693218,
  "xmax": 645636.767647001,
  "ymax": 4786803.073205218,
  "spatialReference": {
   "wkid": 26917,
   "latestWkid": 26917
  }
 },
 "initialExtent": {
  "xmin": 637908.024207001,
  "ymin": 4779886.410693218,
  "xmax": 645636.767647001,
  "ymax": 4786803.073205218,
  "spatialReference": {
   "wkid": 26917,
   "latestWkid": 26917
  }
 },
 "fullExtent": {
  "xmin": 637908.024207001,
  "ymin": 4779886.410693218,
  "xmax": 645636.767647001,
  "ymax": 4786803.073205218,
  "spatialReference": {
   "wkid": 26917,
   "latestWkid": 26917
  }
 },
 "hasMultidimensions": false,
 "pixelSizeX": 0.7763679999999991,
 "pixelSizeY": 0.7763679999999684,
 "datasetFormat": "TIFF",
 "uncompressedSize": 177378190,
 "blockWidth": 128,
 "blockHeight": 128,
 "compressionType": "None",
 "bandNames": [
  "Band_1"
 ],
 "allowCopy": true,
 "allowAnalysis": true,
 "bandCount": 1,
 "noDataValue": 256,
 "noDataValues": [
  256
 ],
 "pixelType": "U16",
 "minPixelSize": 0,
 "maxPixelSize": 0,
 "copyrightText": "City of St. Catharines, Planning Dept.\nMap, Data & GIS Library, Brock University.",
 "serviceDataType": "esriImageServiceDataTypeGeneric",
 "serviceSourceType": "esriImageServiceSourceTypeDataset",
 "minValues": [],
 "maxValues": [],
 "meanValues": [],
 "stdvValues": [],
 "objectIdField": "",
 "fields": [],
 "capabilities": "Image,Metadata,Mensuration",
 "defaultMosaicMethod": "Center",
 "allowedMosaicMethods": "",
 "sortField": "",
 "sortValue": null,
 "sortAscending": true,
 "mosaicOperator": "First",
 "defaultCompressionQuality": 75,
 "defaultResamplingMethod": "Bilinear",
 "maxImageHeight": 4100,
 "maxImageWidth": 15000,
 "allowRasterFunction": true,
 "rasterFunctionInfos": [
  {
   "name": "None",
   "description": "",
   "help": ""
  }
 ],
 "rasterTypeInfos": [
  {
   "name": "Raster Dataset",
   "description": "Supports all ArcGIS Raster Datasets",
   "help": ""
  }
 ],
 "mensurationCapabilities": "Basic",
 "hasHistograms": false,
 "hasColormap": false,
 "hasRasterAttributeTable": false,
 "minScale": 0,
 "maxScale": 0,
 "exportTilesAllowed": false,
 "supportsStatistics": false,
 "supportsAdvancedQueries": false,
 "editFieldsInfo": null,
 "ownershipBasedAccessControlForRasters": null,
 "allowComputeTiePoints": false,
 "useStandardizedQueries": true,
 "advancedQueryCapabilities": {
  "useStandardizedQueries": true,
  "supportsStatistics": false,
  "supportsOrderBy": false,
  "supportsDistinct": false,
  "supportsPagination": false
 },
 "spatialReference": {
  "wkid": 26917,
  "latestWkid": 26917
 }
}
