<?xml version="1.0" encoding="UTF-8" standalone="no"?>
<metadata xml:lang="en">
<Esri>
<CreaDate>20250311</CreaDate>
<CreaTime>14512900</CreaTime>
<ArcGISFormat>1.0</ArcGISFormat>
<SyncOnce>FALSE</SyncOnce>
<DataProperties>
<itemProps>
<itemName Sync="TRUE">G_3464_P68_1852_P34 Port Robinson original.tif</itemName>
<itemLocation>
<linkage Sync="TRUE">file://\\cronus.campus.brocku.local\maplibrary\DATA\Historical_Maps\Early_Niagara\Port-Robinson-1852-geo.tif</linkage>
<protocol Sync="TRUE">Local Area Network</protocol>
</itemLocation>
<imsContentType Sync="TRUE">002</imsContentType>
<nativeExtBox>
<westBL Sync="TRUE">645317.382837</westBL>
<eastBL Sync="TRUE">646518.869876</eastBL>
<southBL Sync="TRUE">4766310.802013</southBL>
<northBL Sync="TRUE">4767952.765556</northBL>
<exTypeCode Sync="TRUE">1</exTypeCode>
</nativeExtBox>
</itemProps>
<coordRef>
<type Sync="TRUE">Projected</type>
<geogcsn Sync="TRUE">GCS_North_American_1983</geogcsn>
<csUnits Sync="TRUE">Linear Unit: Meter (1.000000)</csUnits>
<projcsn Sync="TRUE">NAD_1983_UTM_Zone_17N</projcsn>
<peXml Sync="TRUE">&lt;ProjectedCoordinateSystem xsi:type='typens:ProjectedCoordinateSystem' xmlns:xsi='http://www.w3.org/2001/XMLSchema-instance' xmlns:xs='http://www.w3.org/2001/XMLSchema' xmlns:typens='http://www.esri.com/schemas/ArcGIS/3.3.0'&gt;&lt;WKT&gt;PROJCS[&amp;quot;NAD_1983_UTM_Zone_17N&amp;quot;,GEOGCS[&amp;quot;GCS_North_American_1983&amp;quot;,DATUM[&amp;quot;D_North_American_1983&amp;quot;,SPHEROID[&amp;quot;GRS_1980&amp;quot;,6378137.0,298.257222101]],PRIMEM[&amp;quot;Greenwich&amp;quot;,0.0],UNIT[&amp;quot;Degree&amp;quot;,0.0174532925199433]],PROJECTION[&amp;quot;Transverse_Mercator&amp;quot;],PARAMETER[&amp;quot;False_Easting&amp;quot;,500000.0],PARAMETER[&amp;quot;False_Northing&amp;quot;,0.0],PARAMETER[&amp;quot;Central_Meridian&amp;quot;,-81.0],PARAMETER[&amp;quot;Scale_Factor&amp;quot;,0.9996],PARAMETER[&amp;quot;Latitude_Of_Origin&amp;quot;,0.0],UNIT[&amp;quot;Meter&amp;quot;,1.0],AUTHORITY[&amp;quot;EPSG&amp;quot;,26917]]&lt;/WKT&gt;&lt;XOrigin&gt;-5120900&lt;/XOrigin&gt;&lt;YOrigin&gt;-9998100&lt;/YOrigin&gt;&lt;XYScale&gt;450445547.3910538&lt;/XYScale&gt;&lt;ZOrigin&gt;-100000&lt;/ZOrigin&gt;&lt;ZScale&gt;10000&lt;/ZScale&gt;&lt;MOrigin&gt;-100000&lt;/MOrigin&gt;&lt;MScale&gt;10000&lt;/MScale&gt;&lt;XYTolerance&gt;0.001&lt;/XYTolerance&gt;&lt;ZTolerance&gt;0.001&lt;/ZTolerance&gt;&lt;MTolerance&gt;0.001&lt;/MTolerance&gt;&lt;HighPrecision&gt;true&lt;/HighPrecision&gt;&lt;WKID&gt;26917&lt;/WKID&gt;&lt;LatestWKID&gt;26917&lt;/LatestWKID&gt;&lt;/ProjectedCoordinateSystem&gt;</peXml>
</coordRef>
<RasterProperties>
<General>
<PixelDepth Sync="TRUE">8</PixelDepth>
<HasColormap Sync="TRUE">FALSE</HasColormap>
<CompressionType Sync="TRUE">LZW</CompressionType>
<NumBands Sync="TRUE">3</NumBands>
<Format Sync="TRUE">TIFF</Format>
<HasPyramids Sync="TRUE">TRUE</HasPyramids>
<SourceType Sync="TRUE">continuous</SourceType>
<PixelType Sync="TRUE">unsigned integer</PixelType>
<NoDataValue Sync="TRUE"/>
</General>
</RasterProperties>
<lineage>
<Process Date="20250304" Name="" Time="144956" ToolSource="c:\program files\arcgis\pro\Resources\ArcToolbox\Toolboxes\Data Management Tools.tbx\Rename" export="">Rename "Z:\Historical_maps\Prep-for-DSpace-packages\Packaged\PortRobinson1852\G_3464_P68_1852_P34 Port Robinson original.tif" Z:\Historical_maps\Prep-for-DSpace-packages\Packaged\PortRobinson1852\Port-Robinson-1852-geo.tif RasterDataset</Process>
<Process Date="20250311" Time="145129" ToolSource="c:\program files\arcgis\pro\Resources\ArcToolbox\toolboxes\Data Management Tools.tbx\Copy">Copy Z:\Historical_maps\Prep-for-DSpace-packages\Packaged\PortRobinson1852\Port-Robinson-1852-geo.tif \\cronus.campus.brocku.local\maplibrary\DATA\Historical_Maps\Early_Niagara\Port-Robinson-1852-geo.tif "Raster Dataset" #</Process>
</lineage>
<copyHistory>
<copy date="20250311" dest="\\cronus.campus.brocku.local\maplibrary\DATA\Historical_Maps\Early_Niagara\Port-Robinson-1852-geo.tif" source="Z:\Historical_maps\Prep-for-DSpace-packages\Packaged\PortRobinson1852\Port-Robinson-1852-geo.tif" time="14512900"/>
</copyHistory>
</DataProperties>
<SyncDate>20250124</SyncDate>
<SyncTime>15001800</SyncTime>
<ModDate>20250311</ModDate>
<ModTime>14505400</ModTime>
<scaleRange>
<minScale>50000</minScale>
<maxScale>5000</maxScale>
</scaleRange>
<ArcGISProfile>ISO19139</ArcGISProfile>
</Esri>
<mdLang>
<languageCode value="eng"/>
<countryCode value="CA"/>
</mdLang>
<mdHrLv>
<ScopeCd value="005"/>
</mdHrLv>
<mdHrLvName>dataset</mdHrLvName>
<mdContact>
<rpIndName>Maps, Data &amp; GIS</rpIndName>
<rpOrgName>Brock University</rpOrgName>
<role>
<RoleCd value="006"/>
</role>
<rpCntInfo>
<cntAddress addressType="postal">
<delPoint>1812 Sir Isaac Brock Way</delPoint>
<city>St. Catharines</city>
<adminArea>Ontario</adminArea>
<postCode>L2S 3A1</postCode>
<country>CA</country>
<eMailAdd>maplib@brocku.ca</eMailAdd>
</cntAddress>
<cntPhone>
<voiceNum>(905) 688-5550 ext. 5890</voiceNum>
</cntPhone>
</rpCntInfo>
<displayName>Maps, Data &amp; GIS</displayName>
</mdContact>
<distInfo>
<distFormat>
<formatName>Raster Dataset</formatName>
</distFormat>
</distInfo>
<dataIdInfo>
<placeKeys>
<keyword>Thorold</keyword>
<keyword>Port Robinson</keyword>
</placeKeys>
<idPoC>
<rpOrgName>Brock University</rpOrgName>
<rpCntInfo>
<cntAddress>
<eMailAdd>maplib@brocku.ca</eMailAdd>
</cntAddress>
</rpCntInfo>
<rpIndName>Maps, Data &amp; GIS</rpIndName>
</idPoC>
<idPurp>Historical map images for GIS applications.</idPurp>
<idAbs>&lt;DIV STYLE="text-align:Left;"&gt;&lt;DIV&gt;&lt;P&gt;&lt;SPAN&gt;Historical map showing streets, lot numbers and measurements, the first Welland Canal, towing path, back water and creeks. Oriented with north to the right. "Filed by Board of Works Dept., Oct 11th 1852 at 3 pm, [signed] J.C. Page" Photoreproduction. Described in: Mapping Upper Canada, 1780-1867 / Joan Winearls. 1991. Reference no.: B2013&lt;/SPAN&gt;&lt;/P&gt;&lt;/DIV&gt;&lt;/DIV&gt;</idAbs>
<idCitation>
<resTitle>PortRobinson1852</resTitle>
<presForm>
<PresFormCd Sync="TRUE" value="005"/>
</presForm>
</idCitation>
<resMaint>
<maintFreq>
<MaintFreqCd value="009"/>
</maintFreq>
<maintCont>
<rpIndName>Maps, Data &amp; GIS</rpIndName>
<rpOrgName>Brock University</rpOrgName>
<role>
<RoleCd value="006"/>
</role>
<rpCntInfo>
<cntAddress addressType="postal">
<delPoint>1812 Sir Isaac Brock Way</delPoint>
<city>St. Catharines</city>
<adminArea>Ontario</adminArea>
<postCode>L2S 3A1</postCode>
<country>CA</country>
<eMailAdd>maplib@brocku.ca</eMailAdd>
</cntAddress>
<cntPhone>
<voiceNum>(905) 688-5550 ext. 5890</voiceNum>
</cntPhone>
</rpCntInfo>
<displayName>Maps, Data &amp; GIS</displayName>
</maintCont>
</resMaint>
<envirDesc Sync="TRUE">Microsoft Windows 10 Version 10.0 (Build 19045) ; Esri ArcGIS 13.3.0.52636</envirDesc>
<dataLang>
<languageCode Sync="TRUE" value="eng"/>
<countryCode Sync="TRUE" value="CAN"/>
</dataLang>
<spatRpType>
<SpatRepTypCd Sync="TRUE" value="002"/>
</spatRpType>
<dataExt>
<geoEle>
<GeoBndBox esriExtentType="search">
<exTypeCode Sync="TRUE">1</exTypeCode>
<westBL Sync="TRUE">-79.216138</westBL>
<eastBL Sync="TRUE">-79.200964</eastBL>
<northBL Sync="TRUE">43.050366</northBL>
<southBL Sync="TRUE">43.035356</southBL>
</GeoBndBox>
</geoEle>
</dataExt>
<idCredit>Brock University Map, Data &amp; GIS Library</idCredit>
<searchKeys>
<keyword>Port Robinson</keyword>
<keyword>Niagara</keyword>
<keyword>historical</keyword>
<keyword>1852</keyword>
<keyword>Welland Canal</keyword>
</searchKeys>
<resConst>
<Consts>
<useLimit/>
</Consts>
</resConst>
</dataIdInfo>
<mdMaint>
<maintFreq>
<MaintFreqCd value="009"/>
</maintFreq>
<maintCont>
<rpIndName>Maps, Data &amp; GIS</rpIndName>
<rpOrgName>Brock University</rpOrgName>
<role>
<RoleCd value="006"/>
</role>
<rpCntInfo>
<cntAddress addressType="postal">
<delPoint>1812 Sir Isaac Brock Way</delPoint>
<city>St. Catharines</city>
<adminArea>Ontario</adminArea>
<postCode>L2S 3A1</postCode>
<country>CA</country>
<eMailAdd>maplib@brocku.ca</eMailAdd>
</cntAddress>
<cntPhone>
<voiceNum>(905) 688-5550 ext. 5890</voiceNum>
</cntPhone>
</rpCntInfo>
<displayName>Maps, Data &amp; GIS</displayName>
</maintCont>
</mdMaint>
<mdConst>
<Consts>
<useLimit>No restrictions.</useLimit>
</Consts>
</mdConst>
<contInfo>
<ImgDesc>
<contentTyp>
<ContentTypCd Sync="TRUE" value="001"/>
</contentTyp>
<covDim>
<Band>
<dimDescrp Sync="TRUE">Band_1</dimDescrp>
<maxVal Sync="TRUE">255.000000</maxVal>
<minVal Sync="TRUE">0.000000</minVal>
<bitsPerVal Sync="TRUE">8</bitsPerVal>
<valUnit>
<UOM type="length"/>
</valUnit>
</Band>
<Band>
<dimDescrp Sync="TRUE">Band_2</dimDescrp>
<maxVal Sync="TRUE">255.000000</maxVal>
<minVal Sync="TRUE">0.000000</minVal>
<bitsPerVal Sync="TRUE">8</bitsPerVal>
<valUnit>
<UOM type="length"/>
</valUnit>
</Band>
<Band>
<dimDescrp Sync="TRUE">Band_3</dimDescrp>
<maxVal Sync="TRUE">255.000000</maxVal>
<minVal Sync="TRUE">0.000000</minVal>
<bitsPerVal Sync="TRUE">8</bitsPerVal>
<valUnit>
<UOM type="length"/>
</valUnit>
</Band>
</covDim>
</ImgDesc>
</contInfo>
<refSysInfo>
<RefSystem>
<refSysID>
<identCode Sync="TRUE" code="26917"/>
<idCodeSpace Sync="TRUE">EPSG</idCodeSpace>
<idVersion Sync="TRUE">6.11(3.0.1)</idVersion>
</refSysID>
</RefSystem>
</refSysInfo>
<spatRepInfo>
<Georect>
<cellGeo>
<CellGeoCd Sync="TRUE" value="002"/>
</cellGeo>
<numDims Sync="TRUE">2</numDims>
<tranParaAv Sync="TRUE">1</tranParaAv>
<chkPtAv Sync="TRUE">0</chkPtAv>
<cornerPts>
<pos Sync="TRUE">645317.382837 4766310.802013</pos>
</cornerPts>
<cornerPts>
<pos Sync="TRUE">645317.382837 4767952.765556</pos>
</cornerPts>
<cornerPts>
<pos Sync="TRUE">646518.869876 4767952.765556</pos>
</cornerPts>
<cornerPts>
<pos Sync="TRUE">646518.869876 4766310.802013</pos>
</cornerPts>
<centerPt>
<pos Sync="TRUE">645918.126357 4767131.783784</pos>
</centerPt>
<axisDimension type="002">
<dimSize Sync="TRUE">11616</dimSize>
<dimResol>
<value Sync="TRUE" uom="m">0.103434</value>
</dimResol>
</axisDimension>
<axisDimension type="001">
<dimSize Sync="TRUE">8009</dimSize>
<dimResol>
<value Sync="TRUE" uom="m">0.205015</value>
</dimResol>
</axisDimension>
<ptInPixel>
<PixOrientCd Sync="TRUE" value="001"/>
</ptInPixel>
</Georect>
</spatRepInfo>
<mdDateSt Sync="TRUE">20250311</mdDateSt>
</metadata>
