{ "currentVersion": 10.91, "serviceDescription": "
Historical map showing streets, lot numbers and measurements, the first Welland Canal, towing path, back water and creeks. Oriented with north to the right. \"Filed by Board of Works Dept., Oct 11th 1852 at 3 pm, [signed] J.C. Page\" Photoreproduction. Described in: Mapping Upper Canada, 1780-1867 / Joan Winearls. 1991. Reference no.: B2013<\/span><\/p><\/div><\/div>",
"name": "EarlyNiagara/PortRobinson1852",
"description": " Historical map showing streets, lot numbers and measurements, the first Welland Canal, towing path, back water and creeks. Oriented with north to the right. \"Filed by Board of Works Dept., Oct 11th 1852 at 3 pm, [signed] J.C. Page\" Photoreproduction. Described in: Mapping Upper Canada, 1780-1867 / Joan Winearls. 1991. Reference no.: B2013<\/span><\/p><\/div><\/div>",
"extent": {
"xmin": 645317.3828371436,
"ymin": 4766310.802013207,
"xmax": 646518.8698762995,
"ymax": 4767952.765555651,
"spatialReference": {
"wkid": 26917,
"latestWkid": 26917
}
},
"initialExtent": {
"xmin": 645317.3828371436,
"ymin": 4766310.802013207,
"xmax": 646518.8698762995,
"ymax": 4767952.765555651,
"spatialReference": {
"wkid": 26917,
"latestWkid": 26917
}
},
"fullExtent": {
"xmin": 645317.3828371436,
"ymin": 4766310.802013207,
"xmax": 646518.8698762995,
"ymax": 4767952.765555651,
"spatialReference": {
"wkid": 26917,
"latestWkid": 26917
}
},
"hasMultidimensions": false,
"pixelSizeX": 0.10343380158022632,
"pixelSizeY": 0.2050148011541641,
"datasetFormat": "TIFF",
"uncompressedSize": 279062784,
"blockWidth": 11616,
"blockHeight": 7,
"compressionType": "LZW",
"bandNames": [
"Band_1",
"Band_2",
"Band_3"
],
"allowCopy": true,
"allowAnalysis": true,
"bandCount": 3,
"pixelType": "U8",
"minPixelSize": 0,
"maxPixelSize": 0,
"copyrightText": "Brock University Map, Data & GIS Library",
"serviceDataType": "esriImageServiceDataTypeRGB",
"serviceSourceType": "esriImageServiceSourceTypeDataset",
"minValues": [
0,
0,
0
],
"maxValues": [
255,
255,
255
],
"meanValues": [
226.23351598353,
213.43856053205,
180.1667883445
],
"stdvValues": [
35.416150704867,
37.317399526589,
28.860235688123
],
"objectIdField": "",
"fields": [],
"capabilities": "Mensuration,Image,Metadata",
"defaultMosaicMethod": "Center",
"allowedMosaicMethods": "",
"sortField": "",
"sortValue": null,
"sortAscending": true,
"mosaicOperator": "First",
"defaultCompressionQuality": 75,
"defaultResamplingMethod": "Bilinear",
"maxImageHeight": 4100,
"maxImageWidth": 15000,
"allowRasterFunction": true,
"rasterFunctionInfos": [
{
"name": "None",
"description": "",
"help": ""
}
],
"rasterTypeInfos": [
{
"name": "Raster Dataset",
"description": "Supports all ArcGIS Raster Datasets",
"help": ""
}
],
"mensurationCapabilities": "Basic",
"hasHistograms": true,
"hasColormap": false,
"hasRasterAttributeTable": false,
"minScale": 0,
"maxScale": 0,
"exportTilesAllowed": false,
"supportsStatistics": false,
"supportsAdvancedQueries": false,
"editFieldsInfo": null,
"ownershipBasedAccessControlForRasters": null,
"allowComputeTiePoints": false,
"useStandardizedQueries": true,
"advancedQueryCapabilities": {
"useStandardizedQueries": true,
"supportsStatistics": false,
"supportsOrderBy": false,
"supportsDistinct": false,
"supportsPagination": false
},
"spatialReference": {
"wkid": 26917,
"latestWkid": 26917
}
}