{ "currentVersion": 10.91, "serviceDescription": "
Historical map showing part of the Queenston and Grimsby Road. Shows road as planned and actual route via St. Davids and St. Catharines ; distances, buildings with names of owners, relief, trees, bridges, culverts.<\/SPAN><\/P> Relief shown by shading and landform drawings.<\/SPAN><\/P> Map date: 1838<\/SPAN><\/P> Digital reproduction of map (20 x 198 in.) in the Public Archives of Canada. National Map Collection. Library and Archives Canada.<\/SPAN><\/P> Georeferenced and modified from NMC Map number 119584-3, by Map, Data and GIS Library, Brock University. <\/SPAN><\/P> <\/P><\/DIV><\/DIV><\/DIV>",
"name": "EarlyNiagara/Queenston16MileCreek1838NMC1195843",
"description": " Historical map showing part of the Queenston and Grimsby Road. Shows road as planned and actual route via St. Davids and St. Catharines ; distances, buildings with names of owners, relief, trees, bridges, culverts.<\/SPAN><\/P> Relief shown by shading and landform drawings.<\/SPAN><\/P> Map date: 1838<\/SPAN><\/P> Digital reproduction of map (20 x 198 in.) in the Public Archives of Canada. National Map Collection. Library and Archives Canada.<\/SPAN><\/P> Georeferenced and modified from NMC Map number 119584-3, by Map, Data and GIS Library, Brock University. <\/SPAN><\/P> <\/P><\/DIV><\/DIV><\/DIV>",
"extent": {
"xmin": 640123.6635956352,
"ymin": 4777675.310973675,
"xmax": 646780.2172706352,
"ymax": 4781005.347252675,
"spatialReference": {
"wkid": 26917,
"latestWkid": 26917
}
},
"initialExtent": {
"xmin": 640123.6635956352,
"ymin": 4777675.310973675,
"xmax": 646780.2172706352,
"ymax": 4781005.347252675,
"spatialReference": {
"wkid": 26917,
"latestWkid": 26917
}
},
"fullExtent": {
"xmin": 640123.6635956352,
"ymin": 4777675.310973675,
"xmax": 646780.2172706352,
"ymax": 4781005.347252675,
"spatialReference": {
"wkid": 26917,
"latestWkid": 26917
}
},
"hasMultidimensions": false,
"pixelSizeX": 1.1729609999999955,
"pixelSizeY": 1.1729610000001205,
"datasetFormat": "TIFF",
"uncompressedSize": 32216972,
"blockWidth": 128,
"blockHeight": 128,
"compressionType": "None",
"bandNames": [
"Band_1"
],
"allowCopy": true,
"allowAnalysis": true,
"bandCount": 1,
"noDataValue": 256,
"noDataValues": [
256
],
"pixelType": "U16",
"minPixelSize": 0,
"maxPixelSize": 0,
"copyrightText": "Signed: \"Francis Hall Civil Engineer 23d Feby 1838\"\nMap, Data & GIS Library, Brock University.",
"serviceDataType": "esriImageServiceDataTypeGeneric",
"serviceSourceType": "esriImageServiceSourceTypeDataset",
"minValues": [
4
],
"maxValues": [
255
],
"meanValues": [
167.84455769394
],
"stdvValues": [
61.92531971495
],
"objectIdField": "",
"fields": [],
"capabilities": "Image,Metadata,Mensuration",
"defaultMosaicMethod": "Center",
"allowedMosaicMethods": "",
"sortField": "",
"sortValue": null,
"sortAscending": true,
"mosaicOperator": "First",
"defaultCompressionQuality": 75,
"defaultResamplingMethod": "Bilinear",
"maxImageHeight": 4100,
"maxImageWidth": 15000,
"allowRasterFunction": true,
"rasterFunctionInfos": [
{
"name": "None",
"description": "",
"help": ""
}
],
"rasterTypeInfos": [
{
"name": "Raster Dataset",
"description": "Supports all ArcGIS Raster Datasets",
"help": ""
}
],
"mensurationCapabilities": "Basic",
"hasHistograms": true,
"hasColormap": false,
"hasRasterAttributeTable": false,
"minScale": 0,
"maxScale": 0,
"exportTilesAllowed": false,
"supportsStatistics": false,
"supportsAdvancedQueries": false,
"editFieldsInfo": null,
"ownershipBasedAccessControlForRasters": null,
"allowComputeTiePoints": false,
"useStandardizedQueries": true,
"advancedQueryCapabilities": {
"useStandardizedQueries": true,
"supportsStatistics": false,
"supportsOrderBy": false,
"supportsDistinct": false,
"supportsPagination": false
},
"spatialReference": {
"wkid": 26917,
"latestWkid": 26917
}
}