{ "currentVersion": 10.91, "serviceDescription": "
Historical map showing the location and dimensions of the proposed building lots for merchants and traders in Queenston. It shows Robert Hamilton & Co occupying one lot, storehouse, \"A Range of Log Buildings\" (Rangers' barracks), roads, cliff and two small lakes to the west. It was included in Col McDonnell's letter of 10 Aug 1798 enclosing permission for a bldg lot to Thomas Clark at Queenston.<\/SPAN><\/P> Scale: 1 inch to 1.4 chains<\/SPAN><\/P> Relief shown by shading<\/SPAN><\/P> Map date: 1798<\/SPAN><\/P> Digital reproduction of map (13 1/2 x 19 3/4 in.) in the Public Archives of Canada. National Map Collection. Library and Archives Canada.<\/SPAN><\/P> Georeferenced and modified from NMC Map number 4208 by Map, Data and GIS Library, Brock University. <\/SPAN><\/P> <\/P><\/DIV><\/DIV><\/DIV>",
"name": "EarlyNiagara/Queenston1798NMC4208",
"description": " Historical map showing the location and dimensions of the proposed building lots for merchants and traders in Queenston. It shows Robert Hamilton & Co occupying one lot, storehouse, \"A Range of Log Buildings\" (Rangers' barracks), roads, cliff and two small lakes to the west. It was included in Col McDonnell's letter of 10 Aug 1798 enclosing permission for a bldg lot to Thomas Clark at Queenston.<\/SPAN><\/P> Scale: 1 inch to 1.4 chains<\/SPAN><\/P> Relief shown by shading<\/SPAN><\/P> Map date: 1798<\/SPAN><\/P> Digital reproduction of map (13 1/2 x 19 3/4 in.) in the Public Archives of Canada. National Map Collection. Library and Archives Canada.<\/SPAN><\/P> Georeferenced and modified from NMC Map number 4208 by Map, Data and GIS Library, Brock University. <\/SPAN><\/P> <\/P><\/DIV><\/DIV><\/DIV>",
"extent": {
"xmin": 658084.3609182214,
"ymin": 4780678.799386349,
"xmax": 658620.6879062214,
"ymax": 4781158.234322349,
"spatialReference": {
"wkid": 26917,
"latestWkid": 26917
}
},
"initialExtent": {
"xmin": 658084.3609182214,
"ymin": 4780678.799386349,
"xmax": 658620.6879062214,
"ymax": 4781158.234322349,
"spatialReference": {
"wkid": 26917,
"latestWkid": 26917
}
},
"fullExtent": {
"xmin": 658084.3609182214,
"ymin": 4780678.799386349,
"xmax": 658620.6879062214,
"ymax": 4781158.234322349,
"spatialReference": {
"wkid": 26917,
"latestWkid": 26917
}
},
"hasMultidimensions": false,
"pixelSizeX": 0.08378799999999328,
"pixelSizeY": 0.08378800000000598,
"datasetFormat": "TIFF",
"uncompressedSize": 73253044,
"blockWidth": 128,
"blockHeight": 128,
"compressionType": "None",
"bandNames": [
"Band_1"
],
"allowCopy": true,
"allowAnalysis": true,
"bandCount": 1,
"noDataValue": 256,
"noDataValues": [
256
],
"pixelType": "U16",
"minPixelSize": 0,
"maxPixelSize": 0,
"copyrightText": "[\"signed\"]",
"serviceDataType": "esriImageServiceDataTypeGeneric",
"serviceSourceType": "esriImageServiceSourceTypeDataset",
"minValues": [],
"maxValues": [],
"meanValues": [],
"stdvValues": [],
"objectIdField": "",
"fields": [],
"capabilities": "Image,Metadata,Mensuration",
"defaultMosaicMethod": "Center",
"allowedMosaicMethods": "",
"sortField": "",
"sortValue": null,
"sortAscending": true,
"mosaicOperator": "First",
"defaultCompressionQuality": 75,
"defaultResamplingMethod": "Bilinear",
"maxImageHeight": 4100,
"maxImageWidth": 15000,
"allowRasterFunction": true,
"rasterFunctionInfos": [
{
"name": "None",
"description": "",
"help": ""
}
],
"rasterTypeInfos": [
{
"name": "Raster Dataset",
"description": "Supports all ArcGIS Raster Datasets",
"help": ""
}
],
"mensurationCapabilities": "Basic",
"hasHistograms": false,
"hasColormap": false,
"hasRasterAttributeTable": false,
"minScale": 0,
"maxScale": 0,
"exportTilesAllowed": false,
"supportsStatistics": false,
"supportsAdvancedQueries": false,
"editFieldsInfo": null,
"ownershipBasedAccessControlForRasters": null,
"allowComputeTiePoints": false,
"useStandardizedQueries": true,
"advancedQueryCapabilities": {
"useStandardizedQueries": true,
"supportsStatistics": false,
"supportsOrderBy": false,
"supportsDistinct": false,
"supportsPagination": false
},
"spatialReference": {
"wkid": 26917,
"latestWkid": 26917
}
}