{ "currentVersion": 10.91, "serviceDescription": "
Map date: 1798NMC-???Scale [ca. 1:1,108]Relief shown by shading.Oriented with north to the right.\"H3/440 1798 Queenston\"--written in ink in top right margin.\"Approved (signed) Robt. Prescott By order of the Commander in Chief (signed) James Green, Mil. Sec'y.\"Digital reproduction of map (43 x 53 cm.) in the Brock University Map, Data & GIS Library collection. Georeferenced and modified from Brock call# G 3464 Q84 G46 1798 M36 by Map, Data and GIS Library, Brock University.<\/span><\/p><\/div><\/div>",
"name": "EarlyNiagara/Queenston1798NMC4347col",
"description": " Map date: 1798NMC-???Scale [ca. 1:1,108]Relief shown by shading.Oriented with north to the right.\"H3/440 1798 Queenston\"--written in ink in top right margin.\"Approved (signed) Robt. Prescott By order of the Commander in Chief (signed) James Green, Mil. Sec'y.\"Digital reproduction of map (43 x 53 cm.) in the Brock University Map, Data & GIS Library collection. Georeferenced and modified from Brock call# G 3464 Q84 G46 1798 M36 by Map, Data and GIS Library, Brock University.<\/span><\/p><\/div><\/div>",
"extent": {
"xmin": -8800483.620854663,
"ymin": 5336748.728431636,
"xmax": -8799576.074241662,
"ymax": 5337398.682748635,
"spatialReference": {
"wkid": 102100,
"latestWkid": 3857
}
},
"initialExtent": {
"xmin": -8800483.620854663,
"ymin": 5336748.728431636,
"xmax": -8799576.074241662,
"ymax": 5337398.682748635,
"spatialReference": {
"wkid": 102100,
"latestWkid": 3857
}
},
"fullExtent": {
"xmin": -8800483.620854663,
"ymin": 5336748.728431636,
"xmax": -8799576.074241662,
"ymax": 5337398.682748635,
"spatialReference": {
"wkid": 102100,
"latestWkid": 3857
}
},
"hasMultidimensions": false,
"pixelSizeX": 0.1456970000000535,
"pixelSizeY": 0.14569699999994692,
"datasetFormat": "TIFF",
"uncompressedSize": 166725414,
"blockWidth": 128,
"blockHeight": 128,
"compressionType": "LZW",
"bandNames": [
"Band_1",
"Band_2",
"Band_3"
],
"allowCopy": true,
"allowAnalysis": true,
"bandCount": 3,
"noDataValue": 256,
"noDataValues": [
256,
256,
256
],
"pixelType": "U16",
"minPixelSize": 0,
"maxPixelSize": 0,
"copyrightText": "Gother MannJames GreenRobert PrescottMap, Data & GIS Library, Brock University.",
"serviceDataType": "esriImageServiceDataTypeGeneric",
"serviceSourceType": "esriImageServiceSourceTypeDataset",
"minValues": [
25,
22,
21
],
"maxValues": [
255,
252,
222
],
"meanValues": [
242.69219532604,
222.87584339471,
178.45067668777
],
"stdvValues": [
24.042387624384,
22.958037775876,
18.609802606215
],
"objectIdField": "",
"fields": [],
"capabilities": "Mensuration,Image,Metadata",
"defaultMosaicMethod": "Center",
"allowedMosaicMethods": "",
"sortField": "",
"sortValue": null,
"sortAscending": true,
"mosaicOperator": "First",
"defaultCompressionQuality": 75,
"defaultResamplingMethod": "Bilinear",
"maxImageHeight": 4100,
"maxImageWidth": 15000,
"allowRasterFunction": true,
"rasterFunctionInfos": [
{
"name": "None",
"description": "",
"help": ""
}
],
"rasterTypeInfos": [
{
"name": "Raster Dataset",
"description": "Supports all ArcGIS Raster Datasets",
"help": ""
}
],
"mensurationCapabilities": "Basic",
"hasHistograms": false,
"hasColormap": false,
"hasRasterAttributeTable": false,
"minScale": 0,
"maxScale": 0,
"exportTilesAllowed": false,
"supportsStatistics": false,
"supportsAdvancedQueries": false,
"editFieldsInfo": null,
"ownershipBasedAccessControlForRasters": null,
"allowComputeTiePoints": false,
"useStandardizedQueries": true,
"advancedQueryCapabilities": {
"useStandardizedQueries": true,
"supportsStatistics": false,
"supportsOrderBy": false,
"supportsDistinct": false,
"supportsPagination": false
},
"spatialReference": {
"wkid": 102100,
"latestWkid": 3857
}
}