{ "currentVersion": 10.91, "serviceDescription": "
Historical map showing the plan of the Village of Queenston. It shows roads, boundaries of fields, relief, treed areas, ravines, wharfs, buildings, barracks, and the fuel yard. There is a note of the \u2018position where Brock fell'.<\/span><\/p> [signed] John Alexander, Lieut, Ryl. Engrs. and Henry Vavasour, Comg. Ryl. Engrs.<\/span><\/p> Relief shown by hachures and shading.<\/span><\/p> Geographic coverage from Niagara River to Village of St. Davids.<\/span><\/p> Digital reproduction of map (76 x 87 cm.) in the Public Archives of Canada. National Map Collection. Library and Archives Canada.<\/span><\/p> Georeferenced and modified from NMC Map number 22750 by Map, Data and GIS Library, Brock University. <\/span><\/p> <\/p><\/div><\/div><\/div>",
"name": "EarlyNiagara/Queenston1818NMC22750",
"description": " Historical map showing the plan of the Village of Queenston. It shows roads, boundaries of fields, relief, treed areas, ravines, wharfs, buildings, barracks, and the fuel yard. There is a note of the \u2018position where Brock fell'.<\/span><\/p> [signed] John Alexander, Lieut, Ryl. Engrs. and Henry Vavasour, Comg. Ryl. Engrs.<\/span><\/p> Relief shown by hachures and shading.<\/span><\/p> Geographic coverage from Niagara River to Village of St. Davids.<\/span><\/p> Digital reproduction of map (76 x 87 cm.) in the Public Archives of Canada. National Map Collection. Library and Archives Canada.<\/span><\/p> Georeferenced and modified from NMC Map number 22750 by Map, Data and GIS Library, Brock University. <\/span><\/p> <\/p><\/div><\/div><\/div>",
"extent": {
"xmin": -8806594.312118143,
"ymin": 5332360.205675191,
"xmax": -8798281.560830757,
"ymax": 5339625.764502249,
"spatialReference": {
"wkid": 102100,
"latestWkid": 3857
}
},
"initialExtent": {
"xmin": -8806594.312118143,
"ymin": 5332360.205675191,
"xmax": -8798281.560830757,
"ymax": 5339625.764502249,
"spatialReference": {
"wkid": 102100,
"latestWkid": 3857
}
},
"fullExtent": {
"xmin": -8806594.312118143,
"ymin": 5332360.205675191,
"xmax": -8798281.560830757,
"ymax": 5339625.764502249,
"spatialReference": {
"wkid": 102100,
"latestWkid": 3857
}
},
"hasMultidimensions": false,
"pixelSizeX": 1.2421923621317725,
"pixelSizeY": 1.240703351615007,
"datasetFormat": "TIFF",
"uncompressedSize": 117565056,
"blockWidth": 6692,
"blockHeight": 13,
"compressionType": "LZW",
"bandNames": [
"Band_1",
"Band_2",
"Band_3"
],
"allowCopy": true,
"allowAnalysis": true,
"bandCount": 3,
"pixelType": "U8",
"minPixelSize": 0,
"maxPixelSize": 0,
"copyrightText": "Map, Data & GIS Library, Brock University.",
"serviceDataType": "esriImageServiceDataTypeRGB",
"serviceSourceType": "esriImageServiceSourceTypeDataset",
"minValues": [],
"maxValues": [],
"meanValues": [],
"stdvValues": [],
"objectIdField": "",
"fields": [],
"capabilities": "Mensuration,Image,Metadata",
"defaultMosaicMethod": "Center",
"allowedMosaicMethods": "",
"sortField": "",
"sortValue": null,
"sortAscending": true,
"mosaicOperator": "First",
"defaultCompressionQuality": 75,
"defaultResamplingMethod": "Bilinear",
"maxImageHeight": 4100,
"maxImageWidth": 15000,
"allowRasterFunction": true,
"rasterFunctionInfos": [
{
"name": "None",
"description": "",
"help": ""
}
],
"rasterTypeInfos": [
{
"name": "Raster Dataset",
"description": "Supports all ArcGIS Raster Datasets",
"help": ""
}
],
"mensurationCapabilities": "Basic",
"hasHistograms": false,
"hasColormap": false,
"hasRasterAttributeTable": false,
"minScale": 0,
"maxScale": 0,
"exportTilesAllowed": false,
"supportsStatistics": false,
"supportsAdvancedQueries": false,
"editFieldsInfo": null,
"ownershipBasedAccessControlForRasters": null,
"allowComputeTiePoints": false,
"useStandardizedQueries": true,
"advancedQueryCapabilities": {
"useStandardizedQueries": true,
"supportsStatistics": false,
"supportsOrderBy": false,
"supportsDistinct": false,
"supportsPagination": false
},
"spatialReference": {
"wkid": 102100,
"latestWkid": 3857
}
}