{ "currentVersion": 10.91, "serviceDescription": "
Historical map showing the Village of Queenston showing the reserve along the shore and west to the road that leads to St. David's. It shows streets (to Fort Erie & St. David's), paths, buildings (some with owners identified), the Government Wharf, and relief.<\/span><\/p> Digital reproduction of map (26 x 38 cm.) in the Public Archives of Canada. National Map Collection. Library and Archives Canada.<\/span><\/p> Relief shown by hachures.<\/span><\/p> Georeferenced and modified from NMC Map number 4349 by Map, Data and GIS Library, Brock University. <\/span><\/p> <\/p><\/div><\/div><\/div>",
"name": "EarlyNiagara/Queenston1819NMC4349",
"description": " Historical map showing the Village of Queenston showing the reserve along the shore and west to the road that leads to St. David's. It shows streets (to Fort Erie & St. David's), paths, buildings (some with owners identified), the Government Wharf, and relief.<\/span><\/p> Digital reproduction of map (26 x 38 cm.) in the Public Archives of Canada. National Map Collection. Library and Archives Canada.<\/span><\/p> Relief shown by hachures.<\/span><\/p> Georeferenced and modified from NMC Map number 4349 by Map, Data and GIS Library, Brock University. <\/span><\/p> <\/p><\/div><\/div><\/div>",
"extent": {
"xmin": -8802720.572732024,
"ymin": 5335092.977704779,
"xmax": -8798990.231250023,
"ymax": 5337799.792850779,
"spatialReference": {
"wkid": 102100,
"latestWkid": 3857
}
},
"initialExtent": {
"xmin": -8802720.572732024,
"ymin": 5335092.977704779,
"xmax": -8798990.231250023,
"ymax": 5337799.792850779,
"spatialReference": {
"wkid": 102100,
"latestWkid": 3857
}
},
"fullExtent": {
"xmin": -8802720.572732024,
"ymin": 5335092.977704779,
"xmax": -8798990.231250023,
"ymax": 5337799.792850779,
"spatialReference": {
"wkid": 102100,
"latestWkid": 3857
}
},
"hasMultidimensions": false,
"pixelSizeX": 0.5421220000000618,
"pixelSizeY": 0.542122000000025,
"datasetFormat": "TIFF",
"uncompressedSize": 68713666,
"blockWidth": 128,
"blockHeight": 128,
"compressionType": "None",
"bandNames": [
"Band_1"
],
"allowCopy": true,
"allowAnalysis": true,
"bandCount": 1,
"noDataValue": 256,
"noDataValues": [
256
],
"pixelType": "U16",
"minPixelSize": 0,
"maxPixelSize": 0,
"copyrightText": "[\"signed\"]",
"serviceDataType": "esriImageServiceDataTypeGeneric",
"serviceSourceType": "esriImageServiceSourceTypeDataset",
"minValues": [
16
],
"maxValues": [
251
],
"meanValues": [
186.84925183299
],
"stdvValues": [
35.33865902498
],
"objectIdField": "",
"fields": [],
"capabilities": "Mensuration,Image,Metadata",
"defaultMosaicMethod": "Center",
"allowedMosaicMethods": "",
"sortField": "",
"sortValue": null,
"sortAscending": true,
"mosaicOperator": "First",
"defaultCompressionQuality": 75,
"defaultResamplingMethod": "Bilinear",
"maxImageHeight": 4100,
"maxImageWidth": 15000,
"allowRasterFunction": true,
"rasterFunctionInfos": [
{
"name": "None",
"description": "",
"help": ""
}
],
"rasterTypeInfos": [
{
"name": "Raster Dataset",
"description": "Supports all ArcGIS Raster Datasets",
"help": ""
}
],
"mensurationCapabilities": "Basic",
"hasHistograms": true,
"hasColormap": false,
"hasRasterAttributeTable": false,
"minScale": 0,
"maxScale": 0,
"exportTilesAllowed": false,
"supportsStatistics": false,
"supportsAdvancedQueries": false,
"editFieldsInfo": null,
"ownershipBasedAccessControlForRasters": null,
"allowComputeTiePoints": false,
"useStandardizedQueries": true,
"advancedQueryCapabilities": {
"useStandardizedQueries": true,
"supportsStatistics": false,
"supportsOrderBy": false,
"supportsDistinct": false,
"supportsPagination": false
},
"spatialReference": {
"wkid": 102100,
"latestWkid": 3857
}
}