{ "currentVersion": 10.91, "serviceDescription": "
Historical map showing buildings, roads, 'proposed road from the shore', wharf and stores.<\/span><\/p> Digital reproduction of map (67 x 83 cm.) in the Public Archives of Canada. National Map Collection. Library and Archives Canada.<\/span><\/p> Relief shown by shading<\/span><\/p> Georeferenced and modified from NMC Map number 22752 by Map, Data and GIS Library, Brock University. <\/span><\/p> <\/p><\/div><\/div><\/div>",
"name": "EarlyNiagara/Queenston1835NMC22752",
"description": " Historical map showing buildings, roads, 'proposed road from the shore', wharf and stores.<\/span><\/p> Digital reproduction of map (67 x 83 cm.) in the Public Archives of Canada. National Map Collection. Library and Archives Canada.<\/span><\/p> Relief shown by shading<\/span><\/p> Georeferenced and modified from NMC Map number 22752 by Map, Data and GIS Library, Brock University. <\/span><\/p> <\/p><\/div><\/div><\/div>",
"extent": {
"xmin": -8802777.574706903,
"ymin": 5335418.395618976,
"xmax": -8799305.095586903,
"ymax": 5338077.761074976,
"spatialReference": {
"wkid": 102100,
"latestWkid": 3857
}
},
"initialExtent": {
"xmin": -8802777.574706903,
"ymin": 5335418.395618976,
"xmax": -8799305.095586903,
"ymax": 5338077.761074976,
"spatialReference": {
"wkid": 102100,
"latestWkid": 3857
}
},
"fullExtent": {
"xmin": -8802777.574706903,
"ymin": 5335418.395618976,
"xmax": -8799305.095586903,
"ymax": 5338077.761074976,
"spatialReference": {
"wkid": 102100,
"latestWkid": 3857
}
},
"hasMultidimensions": false,
"pixelSizeX": 0.4651679999999108,
"pixelSizeY": 0.4651679999999948,
"datasetFormat": "TIFF",
"uncompressedSize": 85354810,
"blockWidth": 128,
"blockHeight": 128,
"compressionType": "None",
"bandNames": [
"Band_1"
],
"allowCopy": true,
"allowAnalysis": true,
"bandCount": 1,
"noDataValue": 256,
"noDataValues": [
256
],
"pixelType": "U16",
"minPixelSize": 0,
"maxPixelSize": 0,
"copyrightText": "(signed) Gother Mann Captn. Commandg. Royl. Engineers.\"Surveyor General's Office Toronto, Upper Canada, 16th April 1835, (Copy) Henry Lizars, (signed) S.P. Hurd S.G.\"Map, Data & GIS Library, Brock University.",
"serviceDataType": "esriImageServiceDataTypeGeneric",
"serviceSourceType": "esriImageServiceSourceTypeDataset",
"minValues": [
10
],
"maxValues": [
255
],
"meanValues": [
187.83692853793
],
"stdvValues": [
35.005269004831
],
"objectIdField": "",
"fields": [],
"capabilities": "Mensuration,Image,Metadata",
"defaultMosaicMethod": "Center",
"allowedMosaicMethods": "",
"sortField": "",
"sortValue": null,
"sortAscending": true,
"mosaicOperator": "First",
"defaultCompressionQuality": 75,
"defaultResamplingMethod": "Bilinear",
"maxImageHeight": 4100,
"maxImageWidth": 15000,
"allowRasterFunction": true,
"rasterFunctionInfos": [
{
"name": "None",
"description": "",
"help": ""
}
],
"rasterTypeInfos": [
{
"name": "Raster Dataset",
"description": "Supports all ArcGIS Raster Datasets",
"help": ""
}
],
"mensurationCapabilities": "Basic",
"hasHistograms": true,
"hasColormap": false,
"hasRasterAttributeTable": false,
"minScale": 0,
"maxScale": 0,
"exportTilesAllowed": false,
"supportsStatistics": false,
"supportsAdvancedQueries": false,
"editFieldsInfo": null,
"ownershipBasedAccessControlForRasters": null,
"allowComputeTiePoints": false,
"useStandardizedQueries": true,
"advancedQueryCapabilities": {
"useStandardizedQueries": true,
"supportsStatistics": false,
"supportsOrderBy": false,
"supportsDistinct": false,
"supportsPagination": false
},
"spatialReference": {
"wkid": 102100,
"latestWkid": 3857
}
}