{ "currentVersion": 10.91, "serviceDescription": "
Historical map showing the military reserve, roads, buildings, railways, proposed grant for Queenston Suspension Bridge.<\/SPAN><\/P> Map identifies location where \"...Sir I. Brock fell 13th Oct. 1812\" and Brock's Monument.<\/SPAN><\/P> Relief shown by hachures.<\/SPAN><\/P> Map date: 1850<\/SPAN><\/P> Also known as title: Skeleton map, no.16 Queenston.<\/SPAN><\/P> Digital reproduction of map (30 x 38 cm.) in the Public Archives of Canada. National Map Collection. Library and Archives Canada.<\/SPAN><\/P> Georeferenced and modified from NMC Map number 4351 by Map, Data and GIS Library, Brock University. <\/SPAN><\/P> <\/P><\/DIV><\/DIV><\/DIV>",
"name": "EarlyNiagara/Queenston1850NMC4351",
"description": " Historical map showing the military reserve, roads, buildings, railways, proposed grant for Queenston Suspension Bridge.<\/SPAN><\/P> Map identifies location where \"...Sir I. Brock fell 13th Oct. 1812\" and Brock's Monument.<\/SPAN><\/P> Relief shown by hachures.<\/SPAN><\/P> Map date: 1850<\/SPAN><\/P> Also known as title: Skeleton map, no.16 Queenston.<\/SPAN><\/P> Digital reproduction of map (30 x 38 cm.) in the Public Archives of Canada. National Map Collection. Library and Archives Canada.<\/SPAN><\/P> Georeferenced and modified from NMC Map number 4351 by Map, Data and GIS Library, Brock University. <\/SPAN><\/P> <\/P><\/DIV><\/DIV><\/DIV>",
"extent": {
"xmin": 656022.3238408008,
"ymin": 4778492.685333983,
"xmax": 659673.9331008008,
"ymax": 4782654.787125983,
"spatialReference": {
"wkid": 26917,
"latestWkid": 26917
}
},
"initialExtent": {
"xmin": 656022.3238408008,
"ymin": 4778492.685333983,
"xmax": 659673.9331008008,
"ymax": 4782654.787125983,
"spatialReference": {
"wkid": 26917,
"latestWkid": 26917
}
},
"fullExtent": {
"xmin": 656022.3238408008,
"ymin": 4778492.685333983,
"xmax": 659673.9331008008,
"ymax": 4782654.787125983,
"spatialReference": {
"wkid": 26917,
"latestWkid": 26917
}
},
"hasMultidimensions": false,
"pixelSizeX": 0.6106370000000093,
"pixelSizeY": 0.6106370000000344,
"datasetFormat": "TIFF",
"uncompressedSize": 81507400,
"blockWidth": 128,
"blockHeight": 128,
"compressionType": "None",
"bandNames": [
"Band_1"
],
"allowCopy": true,
"allowAnalysis": true,
"bandCount": 1,
"noDataValue": 256,
"noDataValues": [
256
],
"pixelType": "U16",
"minPixelSize": 0,
"maxPixelSize": 0,
"copyrightText": "[\"signed\"]",
"serviceDataType": "esriImageServiceDataTypeGeneric",
"serviceSourceType": "esriImageServiceSourceTypeDataset",
"minValues": [
16
],
"maxValues": [
250
],
"meanValues": [
199.12956380347
],
"stdvValues": [
36.809260341753
],
"objectIdField": "",
"fields": [],
"capabilities": "Image,Metadata,Mensuration",
"defaultMosaicMethod": "Center",
"allowedMosaicMethods": "",
"sortField": "",
"sortValue": null,
"sortAscending": true,
"mosaicOperator": "First",
"defaultCompressionQuality": 75,
"defaultResamplingMethod": "Bilinear",
"maxImageHeight": 4100,
"maxImageWidth": 15000,
"allowRasterFunction": true,
"rasterFunctionInfos": [
{
"name": "None",
"description": "",
"help": ""
}
],
"rasterTypeInfos": [
{
"name": "Raster Dataset",
"description": "Supports all ArcGIS Raster Datasets",
"help": ""
}
],
"mensurationCapabilities": "Basic",
"hasHistograms": true,
"hasColormap": false,
"hasRasterAttributeTable": false,
"minScale": 0,
"maxScale": 0,
"exportTilesAllowed": false,
"supportsStatistics": false,
"supportsAdvancedQueries": false,
"editFieldsInfo": null,
"ownershipBasedAccessControlForRasters": null,
"allowComputeTiePoints": false,
"useStandardizedQueries": true,
"advancedQueryCapabilities": {
"useStandardizedQueries": true,
"supportsStatistics": false,
"supportsOrderBy": false,
"supportsDistinct": false,
"supportsPagination": false
},
"spatialReference": {
"wkid": 26917,
"latestWkid": 26917
}
}