{ "currentVersion": 10.91, "serviceDescription": "
Historical map showing boundaries, roads, lot and concession numbers, buildings in the Village of Queenston, some land owners names, Niagara River and suspension bridge location.<\/SPAN><\/P> Includes subtitle: Plan shewing the boundaries as marked on the ground, of the Military Reserve belonging to the Ordnance, at the Village of Queenston, Township of Niagara County of Lincoln, Canada West<\/SPAN><\/P> Relief shown by shading.<\/SPAN><\/P> Scale [ca 1:6,451]<\/SPAN><\/P> Map date: 1854.<\/SPAN><\/P> Digital reproduction of map in the Public Archives of Canada. National Map Collection. Library and Archives Canada.<\/SPAN><\/P> Georeferenced and modified from NMC Map number 11434 by Map, Data and GIS Library, Brock University. <\/SPAN><\/P> <\/P><\/DIV><\/DIV><\/DIV>",
"name": "EarlyNiagara/Queenston1854NMC11434",
"description": " Historical map showing boundaries, roads, lot and concession numbers, buildings in the Village of Queenston, some land owners names, Niagara River and suspension bridge location.<\/SPAN><\/P> Includes subtitle: Plan shewing the boundaries as marked on the ground, of the Military Reserve belonging to the Ordnance, at the Village of Queenston, Township of Niagara County of Lincoln, Canada West<\/SPAN><\/P> Relief shown by shading.<\/SPAN><\/P> Scale [ca 1:6,451]<\/SPAN><\/P> Map date: 1854.<\/SPAN><\/P> Digital reproduction of map in the Public Archives of Canada. National Map Collection. Library and Archives Canada.<\/SPAN><\/P> Georeferenced and modified from NMC Map number 11434 by Map, Data and GIS Library, Brock University. <\/SPAN><\/P> <\/P><\/DIV><\/DIV><\/DIV>",
"extent": {
"xmin": 656746.3615021294,
"ymin": 4778475.955235636,
"xmax": 659288.6860141293,
"ymax": 4782830.542563636,
"spatialReference": {
"wkid": 26917,
"latestWkid": 26917
}
},
"initialExtent": {
"xmin": 656746.3615021294,
"ymin": 4778475.955235636,
"xmax": 659288.6860141293,
"ymax": 4782830.542563636,
"spatialReference": {
"wkid": 26917,
"latestWkid": 26917
}
},
"fullExtent": {
"xmin": 656746.3615021294,
"ymin": 4778475.955235636,
"xmax": 659288.6860141293,
"ymax": 4782830.542563636,
"spatialReference": {
"wkid": 26917,
"latestWkid": 26917
}
},
"hasMultidimensions": false,
"pixelSizeX": 0.6784959999999901,
"pixelSizeY": 0.6784959999999991,
"datasetFormat": "TIFF",
"uncompressedSize": 48096492,
"blockWidth": 128,
"blockHeight": 128,
"compressionType": "None",
"bandNames": [
"Band_1"
],
"allowCopy": true,
"allowAnalysis": true,
"bandCount": 1,
"noDataValue": 256,
"noDataValues": [
256
],
"pixelType": "U16",
"minPixelSize": 0,
"maxPixelSize": 0,
"copyrightText": "Surveyed by Mr. William Hawkins\n[Signed] William Hawkins\n[Signed] Alex. Gordon\nMap, Data & GIS Library, Brock University.",
"serviceDataType": "esriImageServiceDataTypeGeneric",
"serviceSourceType": "esriImageServiceSourceTypeDataset",
"minValues": [
0
],
"maxValues": [
255
],
"meanValues": [
187.84642491979
],
"stdvValues": [
37.434643525824
],
"objectIdField": "",
"fields": [],
"capabilities": "Image,Metadata,Mensuration",
"defaultMosaicMethod": "Center",
"allowedMosaicMethods": "",
"sortField": "",
"sortValue": null,
"sortAscending": true,
"mosaicOperator": "First",
"defaultCompressionQuality": 75,
"defaultResamplingMethod": "Bilinear",
"maxImageHeight": 4100,
"maxImageWidth": 15000,
"allowRasterFunction": true,
"rasterFunctionInfos": [
{
"name": "None",
"description": "",
"help": ""
}
],
"rasterTypeInfos": [
{
"name": "Raster Dataset",
"description": "Supports all ArcGIS Raster Datasets",
"help": ""
}
],
"mensurationCapabilities": "Basic",
"hasHistograms": true,
"hasColormap": false,
"hasRasterAttributeTable": false,
"minScale": 0,
"maxScale": 0,
"exportTilesAllowed": false,
"supportsStatistics": false,
"supportsAdvancedQueries": false,
"editFieldsInfo": null,
"ownershipBasedAccessControlForRasters": null,
"allowComputeTiePoints": false,
"useStandardizedQueries": true,
"advancedQueryCapabilities": {
"useStandardizedQueries": true,
"supportsStatistics": false,
"supportsOrderBy": false,
"supportsDistinct": false,
"supportsPagination": false
},
"spatialReference": {
"wkid": 26917,
"latestWkid": 26917
}
}