{ "currentVersion": 10.91, "serviceDescription": "
Map showing road, boundary and transportation features, township lot and concession lines, built up areas, legend. Sheet 30111. Bruce, Grey (1977) -- 30121. Ottawa-Carleton, Lanark, Leeds & Grenville (1972, 1974) -- 30131. Lennox & Addington, Frontenac, Prince Edward (1974) -- 30141. Huron, Wellington, Dufferin, Perth, Waterloo (1976) -- 30151. York, Peel, Halton, Hamilton-Wentworth, Niagara, east portion of Haldimand-Norfolk (1974) -- 30161. Essex, Kent, Lambton (1972, 1976) -- 30171. Northumberland, Peterborough, Victoria, Durham (1975) -- 30181. Prescott & Russell, Stormont, Dundas & Glengarry (1972) -- 30191. Renfrew (1972, 1979) -- 30201. Haliburton, Muskoka (1979) -- 30301. Hastings (1972, 1978) -- 30401. Manitoulin (1972, 1977) -- 30501. Nipissing, South (1972, 1977) -- 30601. Parry Sound (1979) -- 30701. Simcoe -- 30801. Brant, Oxford, Middlesex, Elgin, west portion of Haldimand-Norfolk (1975).<\/span><\/p><\/div><\/div>",
"name": "EarlyNiagara/SOntarioCounties1974",
"description": " Map showing road, boundary and transportation features, township lot and concession lines, built up areas, legend. Sheet 30111. Bruce, Grey (1977) -- 30121. Ottawa-Carleton, Lanark, Leeds & Grenville (1972, 1974) -- 30131. Lennox & Addington, Frontenac, Prince Edward (1974) -- 30141. Huron, Wellington, Dufferin, Perth, Waterloo (1976) -- 30151. York, Peel, Halton, Hamilton-Wentworth, Niagara, east portion of Haldimand-Norfolk (1974) -- 30161. Essex, Kent, Lambton (1972, 1976) -- 30171. Northumberland, Peterborough, Victoria, Durham (1975) -- 30181. Prescott & Russell, Stormont, Dundas & Glengarry (1972) -- 30191. Renfrew (1972, 1979) -- 30201. Haliburton, Muskoka (1979) -- 30301. Hastings (1972, 1978) -- 30401. Manitoulin (1972, 1977) -- 30501. Nipissing, South (1972, 1977) -- 30601. Parry Sound (1979) -- 30701. Simcoe -- 30801. Brant, Oxford, Middlesex, Elgin, west portion of Haldimand-Norfolk (1975).<\/span><\/p><\/div><\/div>",
"extent": {
"xmin": 554577.4024476124,
"ymin": 4730451.014055534,
"xmax": 694921.3326123487,
"ymax": 4923577.336166137,
"spatialReference": {
"wkid": 26917,
"latestWkid": 26917
}
},
"initialExtent": {
"xmin": 554577.4024476124,
"ymin": 4730451.014055534,
"xmax": 694921.3326123487,
"ymax": 4923577.336166137,
"spatialReference": {
"wkid": 26917,
"latestWkid": 26917
}
},
"fullExtent": {
"xmin": 554577.4024476124,
"ymin": 4730451.014055534,
"xmax": 694921.3326123487,
"ymax": 4923577.336166137,
"spatialReference": {
"wkid": 26917,
"latestWkid": 26917
}
},
"hasMultidimensions": false,
"pixelSizeX": 10.596793277313225,
"pixelSizeY": 10.560275705960336,
"datasetFormat": "TIFF",
"uncompressedSize": 726618816,
"blockWidth": 13244,
"blockHeight": 1024,
"compressionType": "YCbCr JPEG",
"bandNames": [
"Band_1",
"Band_2",
"Band_3"
],
"allowCopy": true,
"allowAnalysis": true,
"bandCount": 3,
"pixelType": "U8",
"minPixelSize": 0,
"maxPixelSize": 0,
"copyrightText": "Brock University Map, Data & GIS Library",
"serviceDataType": "esriImageServiceDataTypeRGB",
"serviceSourceType": "esriImageServiceSourceTypeDataset",
"minValues": [
0,
0,
0
],
"maxValues": [
255,
255,
255
],
"meanValues": [
229.11992482594,
228.14336099025,
220.13763501136
],
"stdvValues": [
46.572488565419,
49.401480460974,
56.356643458362
],
"objectIdField": "",
"fields": [],
"capabilities": "Mensuration,Image,Metadata",
"defaultMosaicMethod": "Center",
"allowedMosaicMethods": "",
"sortField": "",
"sortValue": null,
"sortAscending": true,
"mosaicOperator": "First",
"defaultCompressionQuality": 75,
"defaultResamplingMethod": "Bilinear",
"maxImageHeight": 4100,
"maxImageWidth": 15000,
"allowRasterFunction": true,
"rasterFunctionInfos": [
{
"name": "None",
"description": "",
"help": ""
}
],
"rasterTypeInfos": [
{
"name": "Raster Dataset",
"description": "Supports all ArcGIS Raster Datasets",
"help": ""
}
],
"mensurationCapabilities": "Basic",
"hasHistograms": true,
"hasColormap": false,
"hasRasterAttributeTable": false,
"minScale": 0,
"maxScale": 0,
"exportTilesAllowed": false,
"supportsStatistics": false,
"supportsAdvancedQueries": false,
"editFieldsInfo": null,
"ownershipBasedAccessControlForRasters": null,
"allowComputeTiePoints": false,
"useStandardizedQueries": true,
"advancedQueryCapabilities": {
"useStandardizedQueries": true,
"supportsStatistics": false,
"supportsOrderBy": false,
"supportsDistinct": false,
"supportsPagination": false
},
"spatialReference": {
"wkid": 26917,
"latestWkid": 26917
}
}