{ "currentVersion": 10.91, "serviceDescription": "
Historical map showing farms, roads and relief features. Includes outline of proposed fortress.<\/SPAN><\/P> Complete title: No. 1. Sketch of that part of the Short Hills in the District of Niagara called the Mountain and on which it is proposed to construct the new fortress<\/SPAN><\/P> Relef shown by hachures and shading.<\/SPAN><\/P> Scale [1:5,280]. 400 ft = 1 in.<\/SPAN><\/P> Map date: 1827.<\/SPAN><\/P> Digital reproduction of map (58.6 x 73.3 cm.) in the Public Archives of Canada. National Map Collection. Library and Archives Canada.<\/SPAN><\/P> Georeferenced and modified from NMC Map number 22143 by Map, Data and GIS Library, Brock University. <\/SPAN><\/P> <\/P><\/DIV><\/DIV><\/DIV>",
"name": "EarlyNiagara/ShortHills1827NMC22143",
"description": " Historical map showing farms, roads and relief features. Includes outline of proposed fortress.<\/SPAN><\/P> Complete title: No. 1. Sketch of that part of the Short Hills in the District of Niagara called the Mountain and on which it is proposed to construct the new fortress<\/SPAN><\/P> Relef shown by hachures and shading.<\/SPAN><\/P> Scale [1:5,280]. 400 ft = 1 in.<\/SPAN><\/P> Map date: 1827.<\/SPAN><\/P> Digital reproduction of map (58.6 x 73.3 cm.) in the Public Archives of Canada. National Map Collection. Library and Archives Canada.<\/SPAN><\/P> Georeferenced and modified from NMC Map number 22143 by Map, Data and GIS Library, Brock University. <\/SPAN><\/P> <\/P><\/DIV><\/DIV><\/DIV>",
"extent": {
"xmin": 636231.2181511931,
"ymin": 4766020.82289969,
"xmax": 639705.4523431931,
"ymax": 4770381.93965969,
"spatialReference": {
"wkid": 26917,
"latestWkid": 26917
}
},
"initialExtent": {
"xmin": 636231.2181511931,
"ymin": 4766020.82289969,
"xmax": 639705.4523431931,
"ymax": 4770381.93965969,
"spatialReference": {
"wkid": 26917,
"latestWkid": 26917
}
},
"fullExtent": {
"xmin": 636231.2181511931,
"ymin": 4766020.82289969,
"xmax": 639705.4523431931,
"ymax": 4770381.93965969,
"spatialReference": {
"wkid": 26917,
"latestWkid": 26917
}
},
"hasMultidimensions": false,
"pixelSizeX": 0.9162010000000009,
"pixelSizeY": 0.9162009999999275,
"datasetFormat": "TIFF",
"uncompressedSize": 36099840,
"blockWidth": 128,
"blockHeight": 128,
"compressionType": "None",
"bandNames": [
"Band_1"
],
"allowCopy": true,
"allowAnalysis": true,
"bandCount": 1,
"noDataValue": 256,
"noDataValues": [
256
],
"pixelType": "U16",
"minPixelSize": 0,
"maxPixelSize": 0,
"copyrightText": "[\"signed\"]",
"serviceDataType": "esriImageServiceDataTypeGeneric",
"serviceSourceType": "esriImageServiceSourceTypeDataset",
"minValues": [
31
],
"maxValues": [
255
],
"meanValues": [
175.6700371273
],
"stdvValues": [
46.2654066394
],
"objectIdField": "",
"fields": [],
"capabilities": "Image,Metadata,Mensuration",
"defaultMosaicMethod": "Center",
"allowedMosaicMethods": "",
"sortField": "",
"sortValue": null,
"sortAscending": true,
"mosaicOperator": "First",
"defaultCompressionQuality": 75,
"defaultResamplingMethod": "Bilinear",
"maxImageHeight": 4100,
"maxImageWidth": 15000,
"allowRasterFunction": true,
"rasterFunctionInfos": [
{
"name": "None",
"description": "",
"help": ""
}
],
"rasterTypeInfos": [
{
"name": "Raster Dataset",
"description": "Supports all ArcGIS Raster Datasets",
"help": ""
}
],
"mensurationCapabilities": "Basic",
"hasHistograms": true,
"hasColormap": false,
"hasRasterAttributeTable": false,
"minScale": 0,
"maxScale": 0,
"exportTilesAllowed": false,
"supportsStatistics": false,
"supportsAdvancedQueries": false,
"editFieldsInfo": null,
"ownershipBasedAccessControlForRasters": null,
"allowComputeTiePoints": false,
"useStandardizedQueries": true,
"advancedQueryCapabilities": {
"useStandardizedQueries": true,
"supportsStatistics": false,
"supportsOrderBy": false,
"supportsDistinct": false,
"supportsPagination": false
},
"spatialReference": {
"wkid": 26917,
"latestWkid": 26917
}
}