{ "currentVersion": 10.91, "serviceDescription": "
Historical map showing lot owners' names with types of soil and trees, buildings, roads and relief features.<\/SPAN><\/P> Complete title: No. 2. Plan of that part of the Short Hills in the District of Niagara called the Mountain shewing those lots of grants of land in the 5th, 6th, & 7th concessions of the Township of Pelham in the County of Lincoln which are near the site of the new fortress as proposed in the report of M. General Sir James Carmichael-Smyth<\/SPAN><\/P> Relief shown by hachures.<\/SPAN><\/P> Scale [1:5,280]. 1 in. to 440 ft.<\/SPAN><\/P> Map date: 1827<\/SPAN><\/P> Digital reproduction of map (21 3/4 x 26 1/2 in.) in the Public Archives of Canada. National Map Collection. Library and Archives Canada.<\/SPAN><\/P> Georeferenced and modified from NMC Map number 22144 by Map, Data and GIS Library, Brock University. <\/SPAN><\/P> <\/P><\/DIV><\/DIV><\/DIV>",
"name": "EarlyNiagara/ShortHills1827NMC22144",
"description": " Historical map showing lot owners' names with types of soil and trees, buildings, roads and relief features.<\/SPAN><\/P> Complete title: No. 2. Plan of that part of the Short Hills in the District of Niagara called the Mountain shewing those lots of grants of land in the 5th, 6th, & 7th concessions of the Township of Pelham in the County of Lincoln which are near the site of the new fortress as proposed in the report of M. General Sir James Carmichael-Smyth<\/SPAN><\/P> Relief shown by hachures.<\/SPAN><\/P> Scale [1:5,280]. 1 in. to 440 ft.<\/SPAN><\/P> Map date: 1827<\/SPAN><\/P> Digital reproduction of map (21 3/4 x 26 1/2 in.) in the Public Archives of Canada. National Map Collection. Library and Archives Canada.<\/SPAN><\/P> Georeferenced and modified from NMC Map number 22144 by Map, Data and GIS Library, Brock University. <\/SPAN><\/P> <\/P><\/DIV><\/DIV><\/DIV>",
"extent": {
"xmin": 636228.0304780201,
"ymin": 4766452.515420696,
"xmax": 639530.32475002,
"ymax": 4770710.139420696,
"spatialReference": {
"wkid": 26917,
"latestWkid": 26917
}
},
"initialExtent": {
"xmin": 636228.0304780201,
"ymin": 4766452.515420696,
"xmax": 639530.32475002,
"ymax": 4770710.139420696,
"spatialReference": {
"wkid": 26917,
"latestWkid": 26917
}
},
"fullExtent": {
"xmin": 636228.0304780201,
"ymin": 4766452.515420696,
"xmax": 639530.32475002,
"ymax": 4770710.139420696,
"spatialReference": {
"wkid": 26917,
"latestWkid": 26917
}
},
"hasMultidimensions": false,
"pixelSizeX": 0.8109759999999927,
"pixelSizeY": 0.8109759999999688,
"datasetFormat": "TIFF",
"uncompressedSize": 42745500,
"blockWidth": 128,
"blockHeight": 128,
"compressionType": "None",
"bandNames": [
"Band_1"
],
"allowCopy": true,
"allowAnalysis": true,
"bandCount": 1,
"noDataValue": 256,
"noDataValues": [
256
],
"pixelType": "U16",
"minPixelSize": 0,
"maxPixelSize": 0,
"copyrightText": "[\"signed\"]",
"serviceDataType": "esriImageServiceDataTypeGeneric",
"serviceSourceType": "esriImageServiceSourceTypeDataset",
"minValues": [
16
],
"maxValues": [
255
],
"meanValues": [
174.59041602157
],
"stdvValues": [
43.115084387976
],
"objectIdField": "",
"fields": [],
"capabilities": "Image,Metadata,Mensuration",
"defaultMosaicMethod": "Center",
"allowedMosaicMethods": "",
"sortField": "",
"sortValue": null,
"sortAscending": true,
"mosaicOperator": "First",
"defaultCompressionQuality": 75,
"defaultResamplingMethod": "Bilinear",
"maxImageHeight": 4100,
"maxImageWidth": 15000,
"allowRasterFunction": true,
"rasterFunctionInfos": [
{
"name": "None",
"description": "",
"help": ""
}
],
"rasterTypeInfos": [
{
"name": "Raster Dataset",
"description": "Supports all ArcGIS Raster Datasets",
"help": ""
}
],
"mensurationCapabilities": "Basic",
"hasHistograms": true,
"hasColormap": false,
"hasRasterAttributeTable": false,
"minScale": 0,
"maxScale": 0,
"exportTilesAllowed": false,
"supportsStatistics": false,
"supportsAdvancedQueries": false,
"editFieldsInfo": null,
"ownershipBasedAccessControlForRasters": null,
"allowComputeTiePoints": false,
"useStandardizedQueries": true,
"advancedQueryCapabilities": {
"useStandardizedQueries": true,
"supportsStatistics": false,
"supportsOrderBy": false,
"supportsDistinct": false,
"supportsPagination": false
},
"spatialReference": {
"wkid": 26917,
"latestWkid": 26917
}
}