{
 "currentVersion": 10.91,
 "serviceDescription": "<div style=''><div><div><p><span>Historical map of Short Hills showing relief features and outline of proposed fortress<\/span><\/p><p><span>Digital reproduction of map ( 21 x 26 3/4 in.) in the Public Archives of Canada. National Map Collection. Library and Archives Canada.<\/span><\/p><p><span>Relief shown by hachures and spot heights.<\/span><\/p><p><span>Georeferenced and modified from NMC Map number 22145 by Map, Data and GIS Library, Brock University. <\/span><\/p><p><span /><\/p><\/div><\/div><\/div>",
 "name": "EarlyNiagara/ShortHills1827NMC22145",
 "description": "<div style=''><div><div><p><span>Historical map of Short Hills showing relief features and outline of proposed fortress<\/span><\/p><p><span>Digital reproduction of map ( 21 x 26 3/4 in.) in the Public Archives of Canada. National Map Collection. Library and Archives Canada.<\/span><\/p><p><span>Relief shown by hachures and spot heights.<\/span><\/p><p><span>Georeferenced and modified from NMC Map number 22145 by Map, Data and GIS Library, Brock University. <\/span><\/p><p><span /><\/p><\/div><\/div><\/div>",
 "extent": {
  "xmin": 637399.5131598357,
  "ymin": 4767199.845545661,
  "xmax": 638950.7183620747,
  "ymax": 4769203.963762012,
  "spatialReference": {
   "wkid": 26917,
   "latestWkid": 26917
  }
 },
 "initialExtent": {
  "xmin": 637399.5131598357,
  "ymin": 4767199.845545661,
  "xmax": 638950.7183620747,
  "ymax": 4769203.963762012,
  "spatialReference": {
   "wkid": 26917,
   "latestWkid": 26917
  }
 },
 "fullExtent": {
  "xmin": 637399.5131598357,
  "ymin": 4767199.845545661,
  "xmax": 638950.7183620747,
  "ymax": 4769203.963762012,
  "spatialReference": {
   "wkid": 26917,
   "latestWkid": 26917
  }
 },
 "hasMultidimensions": false,
 "pixelSizeX": 0.39053504588091226,
 "pixelSizeY": 0.397800360530291,
 "datasetFormat": "TIFF",
 "uncompressedSize": 20010936,
 "blockWidth": 3972,
 "blockHeight": 65,
 "compressionType": "LZW",
 "bandNames": [
  "Band_1"
 ],
 "allowCopy": true,
 "allowAnalysis": true,
 "bandCount": 1,
 "pixelType": "U8",
 "minPixelSize": 0,
 "maxPixelSize": 0,
 "copyrightText": "Map, Data & GIS Library, Brock University.",
 "serviceDataType": "esriImageServiceDataTypeGeneric",
 "serviceSourceType": "esriImageServiceSourceTypeDataset",
 "minValues": [],
 "maxValues": [],
 "meanValues": [],
 "stdvValues": [],
 "objectIdField": "",
 "fields": [],
 "capabilities": "Mensuration,Image,Metadata",
 "defaultMosaicMethod": "Center",
 "allowedMosaicMethods": "",
 "sortField": "",
 "sortValue": null,
 "sortAscending": true,
 "mosaicOperator": "First",
 "defaultCompressionQuality": 75,
 "defaultResamplingMethod": "Bilinear",
 "maxImageHeight": 4100,
 "maxImageWidth": 15000,
 "allowRasterFunction": true,
 "rasterFunctionInfos": [
  {
   "name": "None",
   "description": "",
   "help": ""
  }
 ],
 "rasterTypeInfos": [
  {
   "name": "Raster Dataset",
   "description": "Supports all ArcGIS Raster Datasets",
   "help": ""
  }
 ],
 "mensurationCapabilities": "Basic",
 "hasHistograms": false,
 "hasColormap": false,
 "hasRasterAttributeTable": false,
 "minScale": 0,
 "maxScale": 0,
 "exportTilesAllowed": false,
 "supportsStatistics": false,
 "supportsAdvancedQueries": false,
 "editFieldsInfo": null,
 "ownershipBasedAccessControlForRasters": null,
 "allowComputeTiePoints": false,
 "useStandardizedQueries": true,
 "advancedQueryCapabilities": {
  "useStandardizedQueries": true,
  "supportsStatistics": false,
  "supportsOrderBy": false,
  "supportsDistinct": false,
  "supportsPagination": false
 },
 "spatialReference": {
  "wkid": 26917,
  "latestWkid": 26917
 }
}
