{ "currentVersion": 10.91, "serviceDescription": "
Historical map showing lot owners' names with types of soil and trees, buildings, roads and relief features.<\/SPAN><\/P> Complete title: Plan no. 2. Plan of that part of the Short Hills, in the Niagara District called the \"Mountain\" showing the lots or grants of land, quantity cultivated and remaining in forest, with the extend of the sectional lines but through the woods in levelling for plan no.3<\/SPAN><\/P> Relief shown by hachures<\/SPAN><\/P> Scale [1:5,280]. 1 in. to 440 ft.<\/SPAN><\/P> Map date: [1827]<\/SPAN><\/P> Digital reproduction of map (21 3/4 x 26 1/2 in.) in the Public Archives of Canada. National Map Collection. Library and Archives Canada.<\/SPAN><\/P> Georeferenced and modified from NMC Map number 22146 by Map, Data and GIS Library, Brock University. <\/SPAN><\/P> <\/P><\/DIV><\/DIV><\/DIV>",
"name": "EarlyNiagara/ShortHills1827NMC22146",
"description": " Historical map showing lot owners' names with types of soil and trees, buildings, roads and relief features.<\/SPAN><\/P> Complete title: Plan no. 2. Plan of that part of the Short Hills, in the Niagara District called the \"Mountain\" showing the lots or grants of land, quantity cultivated and remaining in forest, with the extend of the sectional lines but through the woods in levelling for plan no.3<\/SPAN><\/P> Relief shown by hachures<\/SPAN><\/P> Scale [1:5,280]. 1 in. to 440 ft.<\/SPAN><\/P> Map date: [1827]<\/SPAN><\/P> Digital reproduction of map (21 3/4 x 26 1/2 in.) in the Public Archives of Canada. National Map Collection. Library and Archives Canada.<\/SPAN><\/P> Georeferenced and modified from NMC Map number 22146 by Map, Data and GIS Library, Brock University. <\/SPAN><\/P> <\/P><\/DIV><\/DIV><\/DIV>",
"extent": {
"xmin": 636506.782547588,
"ymin": 4766301.503636276,
"xmax": 639492.099167588,
"ymax": 4770284.293216276,
"spatialReference": {
"wkid": 26917,
"latestWkid": 26917
}
},
"initialExtent": {
"xmin": 636506.782547588,
"ymin": 4766301.503636276,
"xmax": 639492.099167588,
"ymax": 4770284.293216276,
"spatialReference": {
"wkid": 26917,
"latestWkid": 26917
}
},
"fullExtent": {
"xmin": 636506.782547588,
"ymin": 4766301.503636276,
"xmax": 639492.099167588,
"ymax": 4770284.293216276,
"spatialReference": {
"wkid": 26917,
"latestWkid": 26917
}
},
"hasMultidimensions": false,
"pixelSizeX": 0.7891400000000148,
"pixelSizeY": 0.7891399999999273,
"datasetFormat": "TIFF",
"uncompressedSize": 38185602,
"blockWidth": 128,
"blockHeight": 128,
"compressionType": "None",
"bandNames": [
"Band_1"
],
"allowCopy": true,
"allowAnalysis": true,
"bandCount": 1,
"noDataValue": 256,
"noDataValues": [
256
],
"pixelType": "U16",
"minPixelSize": 0,
"maxPixelSize": 0,
"copyrightText": "Map, Data & GIS Library, Brock University.",
"serviceDataType": "esriImageServiceDataTypeGeneric",
"serviceSourceType": "esriImageServiceSourceTypeDataset",
"minValues": [
17
],
"maxValues": [
255
],
"meanValues": [
156.23537814638
],
"stdvValues": [
30.998720398446
],
"objectIdField": "",
"fields": [],
"capabilities": "Image,Metadata,Mensuration",
"defaultMosaicMethod": "Center",
"allowedMosaicMethods": "",
"sortField": "",
"sortValue": null,
"sortAscending": true,
"mosaicOperator": "First",
"defaultCompressionQuality": 75,
"defaultResamplingMethod": "Bilinear",
"maxImageHeight": 4100,
"maxImageWidth": 15000,
"allowRasterFunction": true,
"rasterFunctionInfos": [
{
"name": "None",
"description": "",
"help": ""
}
],
"rasterTypeInfos": [
{
"name": "Raster Dataset",
"description": "Supports all ArcGIS Raster Datasets",
"help": ""
}
],
"mensurationCapabilities": "Basic",
"hasHistograms": true,
"hasColormap": false,
"hasRasterAttributeTable": false,
"minScale": 0,
"maxScale": 0,
"exportTilesAllowed": false,
"supportsStatistics": false,
"supportsAdvancedQueries": false,
"editFieldsInfo": null,
"ownershipBasedAccessControlForRasters": null,
"allowComputeTiePoints": false,
"useStandardizedQueries": true,
"advancedQueryCapabilities": {
"useStandardizedQueries": true,
"supportsStatistics": false,
"supportsOrderBy": false,
"supportsDistinct": false,
"supportsPagination": false
},
"spatialReference": {
"wkid": 26917,
"latestWkid": 26917
}
}