{ "currentVersion": 10.91, "serviceDescription": "
Historical map showing the extent of property purchased in 1827 as a site for a fortress. It depicts buildings and identifies the owners of the surrounding farms. Soil types and land clearances are noted. Land not cleared is shaded.<\/SPAN><\/P> Relief shown by hachures.<\/SPAN><\/P> Scale [1:5,400] 1\" to 450 ft.<\/SPAN><\/P> Map date: 1851<\/SPAN><\/P> Digital reproduction of map (30 x 39 cm.) in the Public Archives of Canada. National Map Collection. Library and Archives Canada.<\/SPAN><\/P> Georeferenced and modified from NMC Map number 3584 by Map, Data and GIS Library, Brock University. <\/SPAN><\/P> <\/P><\/DIV><\/DIV><\/DIV>",
"name": "EarlyNiagara/ShortHills1851NMC3584",
"description": " Historical map showing the extent of property purchased in 1827 as a site for a fortress. It depicts buildings and identifies the owners of the surrounding farms. Soil types and land clearances are noted. Land not cleared is shaded.<\/SPAN><\/P> Relief shown by hachures.<\/SPAN><\/P> Scale [1:5,400] 1\" to 450 ft.<\/SPAN><\/P> Map date: 1851<\/SPAN><\/P> Digital reproduction of map (30 x 39 cm.) in the Public Archives of Canada. National Map Collection. Library and Archives Canada.<\/SPAN><\/P> Georeferenced and modified from NMC Map number 3584 by Map, Data and GIS Library, Brock University. <\/SPAN><\/P> <\/P><\/DIV><\/DIV><\/DIV>",
"extent": {
"xmin": 637118.3835653194,
"ymin": 4767660.981210792,
"xmax": 639284.0714453193,
"ymax": 4769441.164813792,
"spatialReference": {
"wkid": 26917,
"latestWkid": 26917
}
},
"initialExtent": {
"xmin": 637118.3835653194,
"ymin": 4767660.981210792,
"xmax": 639284.0714453193,
"ymax": 4769441.164813792,
"spatialReference": {
"wkid": 26917,
"latestWkid": 26917
}
},
"fullExtent": {
"xmin": 637118.3835653194,
"ymin": 4767660.981210792,
"xmax": 639284.0714453193,
"ymax": 4769441.164813792,
"spatialReference": {
"wkid": 26917,
"latestWkid": 26917
}
},
"hasMultidimensions": false,
"pixelSizeX": 0.2958589999999977,
"pixelSizeY": 0.29585899999998266,
"datasetFormat": "TIFF",
"uncompressedSize": 88088880,
"blockWidth": 128,
"blockHeight": 128,
"compressionType": "None",
"bandNames": [
"Band_1"
],
"allowCopy": true,
"allowAnalysis": true,
"bandCount": 1,
"noDataValue": 256,
"noDataValues": [
256
],
"pixelType": "U16",
"minPixelSize": 0,
"maxPixelSize": 0,
"copyrightText": "[\"Signed\"]",
"serviceDataType": "esriImageServiceDataTypeGeneric",
"serviceSourceType": "esriImageServiceSourceTypeDataset",
"minValues": [
14
],
"maxValues": [
234
],
"meanValues": [
183.14243643571
],
"stdvValues": [
30.610873559594
],
"objectIdField": "",
"fields": [],
"capabilities": "Image,Metadata,Mensuration",
"defaultMosaicMethod": "Center",
"allowedMosaicMethods": "",
"sortField": "",
"sortValue": null,
"sortAscending": true,
"mosaicOperator": "First",
"defaultCompressionQuality": 75,
"defaultResamplingMethod": "Bilinear",
"maxImageHeight": 4100,
"maxImageWidth": 15000,
"allowRasterFunction": true,
"rasterFunctionInfos": [
{
"name": "None",
"description": "",
"help": ""
}
],
"rasterTypeInfos": [
{
"name": "Raster Dataset",
"description": "Supports all ArcGIS Raster Datasets",
"help": ""
}
],
"mensurationCapabilities": "Basic",
"hasHistograms": true,
"hasColormap": false,
"hasRasterAttributeTable": false,
"minScale": 0,
"maxScale": 0,
"exportTilesAllowed": false,
"supportsStatistics": false,
"supportsAdvancedQueries": false,
"editFieldsInfo": null,
"ownershipBasedAccessControlForRasters": null,
"allowComputeTiePoints": false,
"useStandardizedQueries": true,
"advancedQueryCapabilities": {
"useStandardizedQueries": true,
"supportsStatistics": false,
"supportsOrderBy": false,
"supportsDistinct": false,
"supportsPagination": false
},
"spatialReference": {
"wkid": 26917,
"latestWkid": 26917
}
}