<?xml version="1.0" encoding="UTF-8" standalone="no"?>
<metadata xml:lang="en">
<Esri>
<CreaDate>20250311</CreaDate>
<CreaTime>15063100</CreaTime>
<ArcGISFormat>1.0</ArcGISFormat>
<SyncOnce>FALSE</SyncOnce>
<DataProperties>
<itemProps>
<imsContentType>002</imsContentType>
<itemName Sync="TRUE">StCatharines-1809-geo.tif</itemName>
<itemLocation>
<linkage Sync="TRUE">file://\\cronus.campus.brocku.local\maplibrary\DATA\Historical_Maps\Early_Niagara\StCatharines-1809-geo_1.tif</linkage>
<protocol Sync="TRUE">Local Area Network</protocol>
</itemLocation>
<nativeExtBox>
<westBL Sync="TRUE">-8823843.519433</westBL>
<eastBL Sync="TRUE">-8818901.293289</eastBL>
<southBL Sync="TRUE">5332308.470647</southBL>
<northBL Sync="TRUE">5337717.107077</northBL>
<exTypeCode Sync="TRUE">1</exTypeCode>
</nativeExtBox>
</itemProps>
<coordRef>
<type Sync="TRUE">Projected</type>
<geogcsn Sync="TRUE">GCS_WGS_1984</geogcsn>
<csUnits Sync="TRUE">Linear Unit: Meter (1.000000)</csUnits>
<projcsn Sync="TRUE">WGS_1984_Web_Mercator_Auxiliary_Sphere</projcsn>
<peXml Sync="TRUE">&lt;ProjectedCoordinateSystem xsi:type='typens:ProjectedCoordinateSystem' xmlns:xsi='http://www.w3.org/2001/XMLSchema-instance' xmlns:xs='http://www.w3.org/2001/XMLSchema' xmlns:typens='http://www.esri.com/schemas/ArcGIS/3.3.0'&gt;&lt;WKT&gt;PROJCS[&amp;quot;WGS_1984_Web_Mercator_Auxiliary_Sphere&amp;quot;,GEOGCS[&amp;quot;GCS_WGS_1984&amp;quot;,DATUM[&amp;quot;D_WGS_1984&amp;quot;,SPHEROID[&amp;quot;WGS_1984&amp;quot;,6378137.0,298.257223563]],PRIMEM[&amp;quot;Greenwich&amp;quot;,0.0],UNIT[&amp;quot;Degree&amp;quot;,0.0174532925199433]],PROJECTION[&amp;quot;Mercator_Auxiliary_Sphere&amp;quot;],PARAMETER[&amp;quot;False_Easting&amp;quot;,0.0],PARAMETER[&amp;quot;False_Northing&amp;quot;,0.0],PARAMETER[&amp;quot;Central_Meridian&amp;quot;,0.0],PARAMETER[&amp;quot;Standard_Parallel_1&amp;quot;,0.0],PARAMETER[&amp;quot;Auxiliary_Sphere_Type&amp;quot;,0.0],UNIT[&amp;quot;Meter&amp;quot;,1.0],AUTHORITY[&amp;quot;EPSG&amp;quot;,3857]]&lt;/WKT&gt;&lt;XOrigin&gt;-20037700&lt;/XOrigin&gt;&lt;YOrigin&gt;-30241100&lt;/YOrigin&gt;&lt;XYScale&gt;148923141.92838538&lt;/XYScale&gt;&lt;ZOrigin&gt;-100000&lt;/ZOrigin&gt;&lt;ZScale&gt;10000&lt;/ZScale&gt;&lt;MOrigin&gt;-100000&lt;/MOrigin&gt;&lt;MScale&gt;10000&lt;/MScale&gt;&lt;XYTolerance&gt;0.001&lt;/XYTolerance&gt;&lt;ZTolerance&gt;0.001&lt;/ZTolerance&gt;&lt;MTolerance&gt;0.001&lt;/MTolerance&gt;&lt;HighPrecision&gt;true&lt;/HighPrecision&gt;&lt;WKID&gt;102100&lt;/WKID&gt;&lt;LatestWKID&gt;3857&lt;/LatestWKID&gt;&lt;/ProjectedCoordinateSystem&gt;</peXml>
</coordRef>
<RasterProperties>
<General>
<PixelDepth Sync="TRUE">16</PixelDepth>
<HasColormap Sync="TRUE">FALSE</HasColormap>
<CompressionType Sync="TRUE">LZW</CompressionType>
<NumBands Sync="TRUE">1</NumBands>
<Format Sync="TRUE">TIFF</Format>
<HasPyramids Sync="TRUE">FALSE</HasPyramids>
<SourceType Sync="TRUE">continuous</SourceType>
<PixelType Sync="TRUE">unsigned integer</PixelType>
<NoDataValue Sync="TRUE">256</NoDataValue>
</General>
</RasterProperties>
<copyHistory>
<copy date="20250311" dest="\\cronus.campus.brocku.local\maplibrary\DATA\Historical_Maps\Early_Niagara\StCatharines-1809-geo_1.tif" source="Z:\Historical_maps\Prep-for-DSpace-packages\Packaged\StCatharines1809\StCatharines-1809-geo.tif" time="15063100"/>
</copyHistory>
<lineage>
<Process Date="20250311" Time="150631" ToolSource="c:\program files\arcgis\pro\Resources\ArcToolbox\toolboxes\Data Management Tools.tbx\Copy">Copy Z:\Historical_maps\Prep-for-DSpace-packages\Packaged\StCatharines1809\StCatharines-1809-geo.tif \\cronus.campus.brocku.local\maplibrary\DATA\Historical_Maps\Early_Niagara\StCatharines-1809-geo_1.tif "Raster Dataset" #</Process>
</lineage>
</DataProperties>
<SyncDate>20250124</SyncDate>
<SyncTime>15284000</SyncTime>
<ModDate>20250311</ModDate>
<ModTime>15055700</ModTime>
<scaleRange>
<minScale>150000000</minScale>
<maxScale>5000</maxScale>
</scaleRange>
<ArcGISProfile>ISO19139</ArcGISProfile>
</Esri>
<mdFileID>3CC80093-94CD-41CE-89C9-BEF67C58EC49</mdFileID>
<mdLang>
<languageCode value="eng"/>
<countryCode Sync="TRUE" value="CAN"/>
</mdLang>
<mdChar>
<CharSetCd value="004"/>
</mdChar>
<mdHrLv>
<ScopeCd value="005"/>
</mdHrLv>
<mdContact>
<rpIndName>Maps, Data &amp; GIS</rpIndName>
<rpOrgName>Brock University</rpOrgName>
<rpCntInfo>
<cntPhone>
<voiceNum>(905) 688-5550 ext. 5890</voiceNum>
</cntPhone>
<cntAddress>
<delPoint>1812 Sir Isaac Brock Way</delPoint>
<city>St. Catharines</city>
<adminArea>Ontario</adminArea>
<postCode>L2S 3A1</postCode>
<country>CA</country>
<eMailAdd>maplib@brocku.ca</eMailAdd>
</cntAddress>
</rpCntInfo>
<role>
<RoleCd value="006"/>
</role>
</mdContact>
<mdDateSt Sync="TRUE">20250311</mdDateSt>
<mdStanName>ArcGIS Metadata</mdStanName>
<mdStanVer>1.0</mdStanVer>
<distInfo>
<distFormat>
<formatName>Raster Dataset</formatName>
</distFormat>
</distInfo>
<dataIdInfo>
<idCitation>
<resTitle>StCatharines1809_</resTitle>
<resAltTitle>Scanned image of 1809 map of property along the 12 Mile Creek in St. Catharines</resAltTitle>
<date>
<createDate>2019-06-21</createDate>
</date>
<citRespParty>
<rpIndName>Maps, Data &amp; GIS</rpIndName>
<rpOrgName>Brock University</rpOrgName>
<rpCntInfo>
<cntPhone>
<voiceNum>(905) 688-5550 ext. 5890</voiceNum>
</cntPhone>
<cntAddress>
<delPoint>1812 Sir Isaac Brock Way</delPoint>
<city>St. Catharines</city>
<adminArea>Ontario</adminArea>
<postCode>L2S 3A1</postCode>
<country>CA</country>
<eMailAdd>maplib@brocku.ca</eMailAdd>
</cntAddress>
</rpCntInfo>
<role>
<RoleCd value="006"/>
</role>
</citRespParty>
<presForm>
<PresFormCd value="003"/>
</presForm>
<collTitle>Historical Maps of Niagara</collTitle>
</idCitation>
<idAbs>&lt;div style='text-align:Left;'&gt;&lt;div&gt;&lt;p&gt;&lt;span&gt;Map date: 1809Includes illustration of building at 135 St. Paul Street and an advertisement for a Toronto lithographer.This map is a copy of p.58 of the 1876 edition of the Illustrated historical atlas of the Counties of Lincoln &amp;amp; Welland, and p.66 of the 1971 and 1984 reprints of the atlas.Digital reproduction of map (22 x 27 cm., on sheet 46 x 44 cm.) in the Brock University Map, Data &amp;amp; GIS Library collection.Georeferenced and modified from Brock call# G 3464 S35 G46 1809 H123 by Map, Data and GIS Library, Brock University.&lt;/span&gt;&lt;/p&gt;&lt;/div&gt;&lt;/div&gt;</idAbs>
<idPurp>Map showing landowners along the 12 Mile Creek and Dick's Creek prior to the first Welland Canal.
Publisher: H.R. Page &amp; Co.</idPurp>
<idCredit>Publisher: H.R. Page &amp; Co.Map, Data &amp; GIS Library, Brock University.</idCredit>
<idPoC>
<rpIndName>Maps, Data &amp; GIS</rpIndName>
<rpOrgName>Brock University</rpOrgName>
<rpCntInfo>
<cntPhone>
<voiceNum>(905) 688-5550 ext. 5890</voiceNum>
</cntPhone>
<cntAddress>
<delPoint>1812 Sir Isaac Brock Way</delPoint>
<city>St. Catharines</city>
<adminArea>Ontario</adminArea>
<postCode>L2S 3A1</postCode>
<country>CA</country>
<eMailAdd>maplib@brocku.ca</eMailAdd>
</cntAddress>
</rpCntInfo>
<role>
<RoleCd value="006"/>
</role>
</idPoC>
<resMaint>
<maintFreq>
<MaintFreqCd value="009"/>
</maintFreq>
<maintCont>
<rpIndName>Maps, Data &amp; GIS</rpIndName>
<rpOrgName>Brock University</rpOrgName>
<rpCntInfo>
<cntPhone>
<voiceNum>(905) 688-5550 ext. 5890</voiceNum>
</cntPhone>
<cntAddress>
<delPoint>1812 Sir Isaac Brock Way</delPoint>
<city>St. Catharines</city>
<adminArea>Ontario</adminArea>
<postCode>L2S 3A1</postCode>
<country>CA</country>
<eMailAdd>maplib@brocku.ca</eMailAdd>
</cntAddress>
</rpCntInfo>
<role>
<RoleCd value="006"/>
</role>
</maintCont>
</resMaint>
<placeKeys>
<keyword>Canada, Ontario, Niagara, St. Catharines</keyword>
</placeKeys>
<themeKeys>
<keyword>Historical. landowners</keyword>
</themeKeys>
<searchKeys>
<keyword>Canada</keyword>
<keyword>Ontario</keyword>
<keyword>Niagara</keyword>
<keyword>St. Catharines</keyword>
<keyword>Historical. landowners</keyword>
</searchKeys>
<resConst>
<Consts>
<useLimit>&lt;div style='text-align:Left;'&gt;&lt;div&gt;&lt;p&gt;&lt;span&gt;No restrictions.&lt;/span&gt;&lt;/p&gt;&lt;/div&gt;&lt;/div&gt;</useLimit>
</Consts>
</resConst>
<spatRpType>
<SpatRepTypCd value="002"/>
</spatRpType>
<dataLang>
<languageCode value="eng"/>
<countryCode Sync="TRUE" value="CAN"/>
</dataLang>
<dataChar>
<CharSetCd value="004"/>
</dataChar>
<envirDesc> Version 6.2 (Build 9200) ; Esri ArcGIS 10.6.0.8321</envirDesc>
<dataExt>
<geoEle>
<GeoBndBox>
<westBL>-79.265935</westBL>
<eastBL>-79.221538</eastBL>
<southBL>43.133464</southBL>
<northBL>43.16891</northBL>
</GeoBndBox>
</geoEle>
</dataExt>
<dataExt>
<geoEle>
<GeoBndBox esriExtentType="search">
<exTypeCode Sync="TRUE">1</exTypeCode>
<westBL Sync="TRUE">-79.265935</westBL>
<eastBL Sync="TRUE">-79.221538</eastBL>
<northBL Sync="TRUE">43.168910</northBL>
<southBL Sync="TRUE">43.133464</southBL>
</GeoBndBox>
</geoEle>
</dataExt>
<tpCat>
<TopicCatCd value="012"/>
</tpCat>
<tpCat>
<TopicCatCd value="015"/>
</tpCat>
</dataIdInfo>
<mdMaint>
<maintFreq>
<MaintFreqCd value="009"/>
</maintFreq>
<maintCont>
<rpIndName>Maps, Data &amp; GIS</rpIndName>
<rpOrgName>Brock University</rpOrgName>
<rpCntInfo>
<cntPhone>
<voiceNum>(905) 688-5550 ext. 5890</voiceNum>
</cntPhone>
<cntAddress>
<delPoint>1812 Sir Isaac Brock Way</delPoint>
<city>St. Catharines</city>
<adminArea>Ontario</adminArea>
<postCode>L2S 3A1</postCode>
<country>CA</country>
<eMailAdd>maplib@brocku.ca</eMailAdd>
</cntAddress>
</rpCntInfo>
<role>
<RoleCd value="006"/>
</role>
</maintCont>
</mdMaint>
<mdConst>
<Consts>
<useLimit>No restrictions</useLimit>
</Consts>
</mdConst>
<spatRepInfo>
<Georect>
<numDims>2</numDims>
<axisDimension type="002">
<dimSize>4016</dimSize>
<dimResol>
<value uom="m">1.230634</value>
</dimResol>
</axisDimension>
<axisDimension type="001">
<dimSize>4395</dimSize>
<dimResol>
<value uom="m">1.230634</value>
</dimResol>
</axisDimension>
<cellGeo>
<CellGeoCd Sync="TRUE" value="002"/>
</cellGeo>
<tranParaAv>true</tranParaAv>
<chkPtAv>false</chkPtAv>
<cornerPts gmlID="ID0EKLAC">
<pos>-8823843.519433 5332308.470647</pos>
</cornerPts>
<cornerPts gmlID="ID0EQLAC">
<pos>-8823843.519433 5337717.107077</pos>
</cornerPts>
<cornerPts gmlID="ID0EWLAC">
<pos>-8818901.293289 5337717.107077</pos>
</cornerPts>
<cornerPts gmlID="ID0E3LAC">
<pos>-8818901.293289 5332308.470647</pos>
</cornerPts>
<centerPt gmlID="ID0ECMAC">
<pos>-8821372.406361 5335012.788862</pos>
</centerPt>
<ptInPixel>
<PixOrientCd Sync="TRUE" value="001"/>
</ptInPixel>
</Georect>
</spatRepInfo>
<refSysInfo>
<RefSystem>
<refSysID>
<identCode code="3857"/>
<idCodeSpace>EPSG</idCodeSpace>
<identVrsn>8.8(9.3.1.2)</identVrsn>
<idVersion Sync="TRUE">6.18.3(9.3.1.2)</idVersion>
</refSysID>
</RefSystem>
</refSysInfo>
<contInfo>
<ImgDesc>
<attDesc>Scanned map </attDesc>
<contentTyp>
<ContentTypCd Sync="TRUE" value="001"/>
</contentTyp>
<covDim>
<Band>
<dimDescrp>Band_1</dimDescrp>
<maxVal>255</maxVal>
<minVal>0</minVal>
<valUnit>
<UOM gmlID="ID0ENJAC" type="length">
<gmlIdent codeSpace="GML_UomSymbol">Unified Code of Units of Measure</gmlIdent>
</UOM>
</valUnit>
<bitsPerVal>16</bitsPerVal>
</Band>
</covDim>
<trianInd>false</trianInd>
<radCalDatAv>false</radCalDatAv>
<camCalInAv>false</camCalInAv>
<filmDistInAv>false</filmDistInAv>
<lensDistInAv>false</lensDistInAv>
</ImgDesc>
</contInfo>
<dataSetURI>Z:\DATA\Historical_Maps\Early_Niagara\StCatharines-1809-geo.tif</dataSetURI>
<mdHrLvName Sync="TRUE">dataset</mdHrLvName>
</metadata>
