{ "currentVersion": 10.91, "serviceDescription": "
Historical map showing streets, buildings, lots, land owners, the first and second Welland Canal and locks.<\/span><\/p> Surveyed, drawn & published by Marcus Smith, 1852.<\/span><\/p> Relief shown by hachures and landform drawings.<\/span><\/p> Georeferenced and modified from NMC Map 16796 by Map, Data and GIS Library, Brock University.<\/span><\/p><\/div><\/div><\/div>",
"name": "EarlyNiagara/StCatharines1852NMC16796",
"description": " Historical map showing streets, buildings, lots, land owners, the first and second Welland Canal and locks.<\/span><\/p> Surveyed, drawn & published by Marcus Smith, 1852.<\/span><\/p> Relief shown by hachures and landform drawings.<\/span><\/p> Georeferenced and modified from NMC Map 16796 by Map, Data and GIS Library, Brock University.<\/span><\/p><\/div><\/div><\/div>",
"extent": {
"xmin": -8823620.187707793,
"ymin": 5334004.820490099,
"xmax": -8818866.680819793,
"ymax": 5337961.152936098,
"spatialReference": {
"wkid": 102100,
"latestWkid": 3857
}
},
"initialExtent": {
"xmin": -8823620.187707793,
"ymin": 5334004.820490099,
"xmax": -8818866.680819793,
"ymax": 5337961.152936098,
"spatialReference": {
"wkid": 102100,
"latestWkid": 3857
}
},
"fullExtent": {
"xmin": -8823620.187707793,
"ymin": 5334004.820490099,
"xmax": -8818866.680819793,
"ymax": 5337961.152936098,
"spatialReference": {
"wkid": 102100,
"latestWkid": 3857
}
},
"hasMultidimensions": false,
"pixelSizeX": 0.39918600000002474,
"pixelSizeY": 0.3991859999999604,
"datasetFormat": "TIFF",
"uncompressedSize": 708121128,
"blockWidth": 128,
"blockHeight": 128,
"compressionType": "None",
"bandNames": [
"Band_1",
"Band_2",
"Band_3"
],
"allowCopy": true,
"allowAnalysis": true,
"bandCount": 3,
"noDataValue": 256,
"noDataValues": [
256,
256,
256
],
"pixelType": "U16",
"minPixelSize": 0,
"maxPixelSize": 0,
"copyrightText": "Map, Data & GIS Library, Brock University.",
"serviceDataType": "esriImageServiceDataTypeGeneric",
"serviceSourceType": "esriImageServiceSourceTypeDataset",
"minValues": [
0,
0,
0
],
"maxValues": [
255,
255,
254
],
"meanValues": [
185.81386794335,
146.92614418805,
83.432292178759
],
"stdvValues": [
41.733921360862,
33.158823945622,
23.241988315994
],
"objectIdField": "",
"fields": [],
"capabilities": "Mensuration,Image,Metadata",
"defaultMosaicMethod": "Center",
"allowedMosaicMethods": "",
"sortField": "",
"sortValue": null,
"sortAscending": true,
"mosaicOperator": "First",
"defaultCompressionQuality": 75,
"defaultResamplingMethod": "Bilinear",
"maxImageHeight": 4100,
"maxImageWidth": 15000,
"allowRasterFunction": true,
"rasterFunctionInfos": [
{
"name": "None",
"description": "",
"help": ""
}
],
"rasterTypeInfos": [
{
"name": "Raster Dataset",
"description": "Supports all ArcGIS Raster Datasets",
"help": ""
}
],
"mensurationCapabilities": "Basic",
"hasHistograms": true,
"hasColormap": false,
"hasRasterAttributeTable": false,
"minScale": 0,
"maxScale": 0,
"exportTilesAllowed": false,
"supportsStatistics": false,
"supportsAdvancedQueries": false,
"editFieldsInfo": null,
"ownershipBasedAccessControlForRasters": null,
"allowComputeTiePoints": false,
"useStandardizedQueries": true,
"advancedQueryCapabilities": {
"useStandardizedQueries": true,
"supportsStatistics": false,
"supportsOrderBy": false,
"supportsDistinct": false,
"supportsPagination": false
},
"spatialReference": {
"wkid": 102100,
"latestWkid": 3857
}
}