{ "currentVersion": 10.91, "serviceDescription": "
Historical map showing streets, buildings, lots, land owners, the first and second Welland Canal and locks. Relief shown by hachures and landform drawings. On verso: Enlarged title -- Town Hall inset picture -- Descriptive notes -- Title page facsimile. This map is a copy of a portion of the original map published by Marcus Smith in 1852. The St. Catharines and Lincoln Historical Society republished the map in 1967 in reduced size but omitted parts of Smith's original 1852 map.<\/SPAN><\/P><\/DIV><\/DIV>",
"name": "EarlyNiagara/StCatharines1852_",
"description": " Historical map showing streets, buildings, lots, land owners, the first and second Welland Canal and locks. Relief shown by hachures and landform drawings. On verso: Enlarged title -- Town Hall inset picture -- Descriptive notes -- Title page facsimile. This map is a copy of a portion of the original map published by Marcus Smith in 1852. The St. Catharines and Lincoln Historical Society republished the map in 1967 in reduced size but omitted parts of Smith's original 1852 map.<\/SPAN><\/P><\/DIV><\/DIV>",
"extent": {
"xmin": 641694.1322015342,
"ymin": 4778784.714536593,
"xmax": 644041.543510044,
"ymax": 4780878.346536216,
"spatialReference": {
"wkid": 26917,
"latestWkid": 26917
}
},
"initialExtent": {
"xmin": 641694.1322015342,
"ymin": 4778784.714536593,
"xmax": 644041.543510044,
"ymax": 4780878.346536216,
"spatialReference": {
"wkid": 26917,
"latestWkid": 26917
}
},
"fullExtent": {
"xmin": 641694.1322015342,
"ymin": 4778784.714536593,
"xmax": 644041.543510044,
"ymax": 4780878.346536216,
"spatialReference": {
"wkid": 26917,
"latestWkid": 26917
}
},
"hasMultidimensions": false,
"pixelSizeX": 0.37528558089684466,
"pixelSizeY": 0.460543774664107,
"datasetFormat": "TIFF",
"uncompressedSize": 85305690,
"blockWidth": 6255,
"blockHeight": 13,
"compressionType": "LZW",
"bandNames": [
"Band_1",
"Band_2",
"Band_3"
],
"allowCopy": true,
"allowAnalysis": true,
"bandCount": 3,
"pixelType": "U8",
"minPixelSize": 0,
"maxPixelSize": 0,
"copyrightText": "Brock University Map, Data & GIS Library",
"serviceDataType": "esriImageServiceDataTypeRGB",
"serviceSourceType": "esriImageServiceSourceTypeDataset",
"minValues": [
0,
0,
0
],
"maxValues": [
255,
255,
255
],
"meanValues": [
234.88798803449,
214.93875769596,
150.19735683518
],
"stdvValues": [
21.215607841123,
44.345470380179,
44.401996439391
],
"objectIdField": "",
"fields": [],
"capabilities": "Image,Metadata,Mensuration",
"defaultMosaicMethod": "Center",
"allowedMosaicMethods": "",
"sortField": "",
"sortValue": null,
"sortAscending": true,
"mosaicOperator": "First",
"defaultCompressionQuality": 75,
"defaultResamplingMethod": "Bilinear",
"maxImageHeight": 4100,
"maxImageWidth": 15000,
"allowRasterFunction": true,
"rasterFunctionInfos": [
{
"name": "None",
"description": "",
"help": ""
}
],
"rasterTypeInfos": [
{
"name": "Raster Dataset",
"description": "Supports all ArcGIS Raster Datasets",
"help": ""
}
],
"mensurationCapabilities": "Basic",
"hasHistograms": true,
"hasColormap": false,
"hasRasterAttributeTable": false,
"minScale": 0,
"maxScale": 0,
"exportTilesAllowed": false,
"supportsStatistics": false,
"supportsAdvancedQueries": false,
"editFieldsInfo": null,
"ownershipBasedAccessControlForRasters": null,
"allowComputeTiePoints": false,
"useStandardizedQueries": true,
"advancedQueryCapabilities": {
"useStandardizedQueries": true,
"supportsStatistics": false,
"supportsOrderBy": false,
"supportsDistinct": false,
"supportsPagination": false
},
"spatialReference": {
"wkid": 26917,
"latestWkid": 26917
}
}