{ "currentVersion": 10.91, "serviceDescription": "
Historical map shwoing lot and concession numbers, place names, railroads, ward boundaries and county boundaries.<\/SPAN><\/P> Scale: 2 1/2 miles per inch.<\/SPAN><\/P> Map date: 1879<\/SPAN><\/P> Relief shown by hachures.<\/SPAN><\/P> Map is page 19 of the Atlas of the province of Ontario by counties / published by Miles and Companay, Toronto<\/SPAN><\/P> Digital reproduction of map (30 x 41 cm.) in the Brock University Map, Data & GIS Library collection. <\/SPAN><\/P> Georeferenced and modified from Brock call# G 3464 S35 1879 M55 by Map, Data and GIS Library, Brock University. <\/SPAN><\/P> <\/P><\/DIV><\/DIV><\/DIV>",
"name": "EarlyNiagara/StCatharines1879",
"description": " Historical map shwoing lot and concession numbers, place names, railroads, ward boundaries and county boundaries.<\/SPAN><\/P> Scale: 2 1/2 miles per inch.<\/SPAN><\/P> Map date: 1879<\/SPAN><\/P> Relief shown by hachures.<\/SPAN><\/P> Map is page 19 of the Atlas of the province of Ontario by counties / published by Miles and Companay, Toronto<\/SPAN><\/P> Digital reproduction of map (30 x 41 cm.) in the Brock University Map, Data & GIS Library collection. <\/SPAN><\/P> Georeferenced and modified from Brock call# G 3464 S35 1879 M55 by Map, Data and GIS Library, Brock University. <\/SPAN><\/P> <\/P><\/DIV><\/DIV><\/DIV>",
"extent": {
"xmin": 640055.2807692527,
"ymin": 4775962.36889022,
"xmax": 646504.4924892527,
"ymax": 4782946.549625221,
"spatialReference": {
"wkid": 26917,
"latestWkid": 26917
}
},
"initialExtent": {
"xmin": 640055.2807692527,
"ymin": 4775962.36889022,
"xmax": 646504.4924892527,
"ymax": 4782946.549625221,
"spatialReference": {
"wkid": 26917,
"latestWkid": 26917
}
},
"fullExtent": {
"xmin": 640055.2807692527,
"ymin": 4775962.36889022,
"xmax": 646504.4924892527,
"ymax": 4782946.549625221,
"spatialReference": {
"wkid": 26917,
"latestWkid": 26917
}
},
"hasMultidimensions": false,
"pixelSizeX": 0.8217650000000027,
"pixelSizeY": 0.8217650000000482,
"datasetFormat": "TIFF",
"uncompressedSize": 133400304,
"blockWidth": 128,
"blockHeight": 128,
"compressionType": "None",
"bandNames": [
"Band_1"
],
"allowCopy": true,
"allowAnalysis": true,
"bandCount": 1,
"noDataValue": 256,
"noDataValues": [
256
],
"pixelType": "U16",
"minPixelSize": 0,
"maxPixelSize": 0,
"copyrightText": "Publisher: Miles and Company, Toronto.\n\nMap, Data & GIS Library, Brock University.",
"serviceDataType": "esriImageServiceDataTypeGeneric",
"serviceSourceType": "esriImageServiceSourceTypeDataset",
"minValues": [
0
],
"maxValues": [
255
],
"meanValues": [
238.096206106
],
"stdvValues": [
40.936251257394
],
"objectIdField": "",
"fields": [],
"capabilities": "Image,Metadata,Mensuration",
"defaultMosaicMethod": "Center",
"allowedMosaicMethods": "",
"sortField": "",
"sortValue": null,
"sortAscending": true,
"mosaicOperator": "First",
"defaultCompressionQuality": 75,
"defaultResamplingMethod": "Bilinear",
"maxImageHeight": 4100,
"maxImageWidth": 15000,
"allowRasterFunction": true,
"rasterFunctionInfos": [
{
"name": "None",
"description": "",
"help": ""
}
],
"rasterTypeInfos": [
{
"name": "Raster Dataset",
"description": "Supports all ArcGIS Raster Datasets",
"help": ""
}
],
"mensurationCapabilities": "Basic",
"hasHistograms": true,
"hasColormap": false,
"hasRasterAttributeTable": false,
"minScale": 0,
"maxScale": 0,
"exportTilesAllowed": false,
"supportsStatistics": false,
"supportsAdvancedQueries": false,
"editFieldsInfo": null,
"ownershipBasedAccessControlForRasters": null,
"allowComputeTiePoints": false,
"useStandardizedQueries": true,
"advancedQueryCapabilities": {
"useStandardizedQueries": true,
"supportsStatistics": false,
"supportsOrderBy": false,
"supportsDistinct": false,
"supportsPagination": false
},
"spatialReference": {
"wkid": 26917,
"latestWkid": 26917
}
}