{
 "currentVersion": 10.91,
 "serviceDescription": "Historical map showing lot and concession numbers, place names, railroads, ward boundaries and county boundaries.Scale: 2 1/2 miles per inch.Map date: 1879Relief shown by hachures.Map is page 19 of the Atlas of the province of Ontario by counties / published by Miles and Companay, TorontoDigital reproduction of map (30 x 41 cm.) in the Brock University Map, Data & GIS Library collection. Georeferenced and modified from Brock call# G 3464 S35 1879 M55 by Map, Data and GIS Library, Brock University. ",
 "name": "EarlyNiagara/StCatharines1879col",
 "description": "Historical map showing lot and concession numbers, place names, railroads, ward boundaries and county boundaries.Scale: 2 1/2 miles per inch.Map date: 1879Relief shown by hachures.Map is page 19 of the Atlas of the province of Ontario by counties / published by Miles and Companay, TorontoDigital reproduction of map (30 x 41 cm.) in the Brock University Map, Data & GIS Library collection. Georeferenced and modified from Brock call# G 3464 S35 1879 M55 by Map, Data and GIS Library, Brock University. ",
 "extent": {
  "xmin": -8825427.322175937,
  "ymin": 5330703.577303878,
  "xmax": -8816161.45171867,
  "ymax": 5340438.694746743,
  "spatialReference": {
   "wkid": 102100,
   "latestWkid": 3857
  }
 },
 "initialExtent": {
  "xmin": -8825427.322175937,
  "ymin": 5330703.577303878,
  "xmax": -8816161.45171867,
  "ymax": 5340438.694746743,
  "spatialReference": {
   "wkid": 102100,
   "latestWkid": 3857
  }
 },
 "fullExtent": {
  "xmin": -8825427.322175937,
  "ymin": 5330703.577303878,
  "xmax": -8816161.45171867,
  "ymax": 5340438.694746743,
  "spatialReference": {
   "wkid": 102100,
   "latestWkid": 3857
  }
 },
 "hasMultidimensions": false,
 "pixelSizeX": 1.2618040000000037,
 "pixelSizeY": 1.2618039999999726,
 "datasetFormat": "TIFF",
 "uncompressedSize": 339907470,
 "blockWidth": 128,
 "blockHeight": 128,
 "compressionType": "LZW",
 "bandNames": [
  "Band_1",
  "Band_2",
  "Band_3"
 ],
 "allowCopy": true,
 "allowAnalysis": true,
 "bandCount": 3,
 "noDataValue": 256,
 "noDataValues": [
  256,
  256,
  256
 ],
 "pixelType": "U16",
 "minPixelSize": 0,
 "maxPixelSize": 0,
 "copyrightText": "Publisher: Miles and Company, Toronto.\n\nMap, Data & GIS Library, Brock University.",
 "serviceDataType": "esriImageServiceDataTypeGeneric",
 "serviceSourceType": "esriImageServiceSourceTypeDataset",
 "minValues": [
  47,
  48,
  37
 ],
 "maxValues": [
  257,
  255,
  255
 ],
 "meanValues": [
  189.15996501909,
  174.05054369655,
  142.07091472057
 ],
 "stdvValues": [
  25.36284655628,
  22.567628685591,
  19.22369023006
 ],
 "objectIdField": "",
 "fields": [],
 "capabilities": "Image,Metadata,Mensuration",
 "defaultMosaicMethod": "Center",
 "allowedMosaicMethods": "",
 "sortField": "",
 "sortValue": null,
 "sortAscending": true,
 "mosaicOperator": "First",
 "defaultCompressionQuality": 75,
 "defaultResamplingMethod": "Bilinear",
 "maxImageHeight": 4100,
 "maxImageWidth": 15000,
 "allowRasterFunction": true,
 "rasterFunctionInfos": [
  {
   "name": "None",
   "description": "",
   "help": ""
  }
 ],
 "rasterTypeInfos": [
  {
   "name": "Raster Dataset",
   "description": "Supports all ArcGIS Raster Datasets",
   "help": ""
  }
 ],
 "mensurationCapabilities": "Basic",
 "hasHistograms": true,
 "hasColormap": false,
 "hasRasterAttributeTable": false,
 "minScale": 144447.638572,
 "maxScale": 2256.994353,
 "exportTilesAllowed": false,
 "supportsStatistics": false,
 "supportsAdvancedQueries": false,
 "editFieldsInfo": null,
 "ownershipBasedAccessControlForRasters": null,
 "allowComputeTiePoints": false,
 "useStandardizedQueries": true,
 "advancedQueryCapabilities": {
  "useStandardizedQueries": true,
  "supportsStatistics": false,
  "supportsOrderBy": false,
  "supportsDistinct": false,
  "supportsPagination": false
 },
 "spatialReference": {
  "wkid": 102100,
  "latestWkid": 3857
 }
}
