{ "currentVersion": 10.91, "serviceDescription": "
Historical map showing bird's eye view of St. Catharines' buildings and the route of the second canal through the city, and a section of the third canal. Includes illustrations of 29 buildings.<\/SPAN><\/P> Major companies and business firms are listed with names, with four in Thorold and one in Merriton. <\/SPAN><\/P> Relief shown by shading.<\/SPAN><\/P> Map date: 1890?<\/SPAN><\/P> Georeferenced and modified from Brock call# G 3464 S35 A3 1890 S33 by Map, Data and GIS Library, Brock University. <\/SPAN><\/P><\/DIV><\/DIV><\/DIV>",
"name": "EarlyNiagara/StCatharines1890",
"description": " Historical map showing bird's eye view of St. Catharines' buildings and the route of the second canal through the city, and a section of the third canal. Includes illustrations of 29 buildings.<\/SPAN><\/P> Major companies and business firms are listed with names, with four in Thorold and one in Merriton. <\/SPAN><\/P> Relief shown by shading.<\/SPAN><\/P> Map date: 1890?<\/SPAN><\/P> Georeferenced and modified from Brock call# G 3464 S35 A3 1890 S33 by Map, Data and GIS Library, Brock University. <\/SPAN><\/P><\/DIV><\/DIV><\/DIV>",
"extent": {
"xmin": 641092.6550819621,
"ymin": 4778142.422337927,
"xmax": 644728.2419279622,
"ymax": 4782124.478838927,
"spatialReference": {
"wkid": 26917,
"latestWkid": 26917
}
},
"initialExtent": {
"xmin": 641092.6550819621,
"ymin": 4778142.422337927,
"xmax": 644728.2419279622,
"ymax": 4782124.478838927,
"spatialReference": {
"wkid": 26917,
"latestWkid": 26917
}
},
"fullExtent": {
"xmin": 641092.6550819621,
"ymin": 4778142.422337927,
"xmax": 644728.2419279622,
"ymax": 4782124.478838927,
"spatialReference": {
"wkid": 26917,
"latestWkid": 26917
}
},
"hasMultidimensions": false,
"pixelSizeX": 0.5210070000000071,
"pixelSizeY": 0.5210070000000246,
"datasetFormat": "TIFF",
"uncompressedSize": 213300844,
"blockWidth": 128,
"blockHeight": 128,
"compressionType": "None",
"bandNames": [
"Band_1"
],
"allowCopy": true,
"allowAnalysis": true,
"bandCount": 1,
"noDataValue": 65536,
"noDataValues": [
65536
],
"pixelType": "U32",
"minPixelSize": 0,
"maxPixelSize": 0,
"copyrightText": "Published by Sabiston Lith. & Pub. Co.\nMap, Data & GIS Library, Brock University.",
"serviceDataType": "esriImageServiceDataTypeGeneric",
"serviceSourceType": "esriImageServiceSourceTypeDataset",
"minValues": [],
"maxValues": [],
"meanValues": [],
"stdvValues": [],
"objectIdField": "",
"fields": [],
"capabilities": "Image,Metadata,Mensuration",
"defaultMosaicMethod": "Center",
"allowedMosaicMethods": "",
"sortField": "",
"sortValue": null,
"sortAscending": true,
"mosaicOperator": "First",
"defaultCompressionQuality": 75,
"defaultResamplingMethod": "Bilinear",
"maxImageHeight": 4100,
"maxImageWidth": 15000,
"allowRasterFunction": true,
"rasterFunctionInfos": [
{
"name": "None",
"description": "",
"help": ""
}
],
"rasterTypeInfos": [
{
"name": "Raster Dataset",
"description": "Supports all ArcGIS Raster Datasets",
"help": ""
}
],
"mensurationCapabilities": "Basic",
"hasHistograms": false,
"hasColormap": false,
"hasRasterAttributeTable": false,
"minScale": 0,
"maxScale": 0,
"exportTilesAllowed": false,
"supportsStatistics": false,
"supportsAdvancedQueries": false,
"editFieldsInfo": null,
"ownershipBasedAccessControlForRasters": null,
"allowComputeTiePoints": false,
"useStandardizedQueries": true,
"advancedQueryCapabilities": {
"useStandardizedQueries": true,
"supportsStatistics": false,
"supportsOrderBy": false,
"supportsDistinct": false,
"supportsPagination": false
},
"spatialReference": {
"wkid": 26917,
"latestWkid": 26917
}
}