{ "currentVersion": 10.91, "serviceDescription": "
Map date: 1899<\/SPAN><\/P> Scale [ca. 1:4,800] = 100 feet to an inch.<\/SPAN><\/P> Digital reproduction of map (69 x 104 cm.) in the Brock University Map, Data & GIS Library collection. <\/SPAN><\/P> Relief shown by hachures.<\/SPAN><\/P> Georeferenced and modified from Brock call# G 3464 S35 1899 S36 by Map, Data and GIS Library, Brock University. <\/SPAN><\/P> <\/P><\/DIV><\/DIV><\/DIV>",
"name": "EarlyNiagara/StCatharines1899",
"description": " Map date: 1899<\/SPAN><\/P> Scale [ca. 1:4,800] = 100 feet to an inch.<\/SPAN><\/P> Digital reproduction of map (69 x 104 cm.) in the Brock University Map, Data & GIS Library collection. <\/SPAN><\/P> Relief shown by hachures.<\/SPAN><\/P> Georeferenced and modified from Brock call# G 3464 S35 1899 S36 by Map, Data and GIS Library, Brock University. <\/SPAN><\/P> <\/P><\/DIV><\/DIV><\/DIV>",
"extent": {
"xmin": -8825028.415957231,
"ymin": 5333049.267068191,
"xmax": -8816953.462191232,
"ymax": 5339969.695862192,
"spatialReference": {
"wkid": 102100,
"latestWkid": 3857
}
},
"initialExtent": {
"xmin": -8825028.415957231,
"ymin": 5333049.267068191,
"xmax": -8816953.462191232,
"ymax": 5339969.695862192,
"spatialReference": {
"wkid": 102100,
"latestWkid": 3857
}
},
"fullExtent": {
"xmin": -8825028.415957231,
"ymin": 5333049.267068191,
"xmax": -8816953.462191232,
"ymax": 5339969.695862192,
"spatialReference": {
"wkid": 102100,
"latestWkid": 3857
}
},
"hasMultidimensions": false,
"pixelSizeX": 0.7467819999999561,
"pixelSizeY": 0.7467820000000321,
"datasetFormat": "TIFF",
"uncompressedSize": 601224426,
"blockWidth": 128,
"blockHeight": 128,
"compressionType": "LZW",
"bandNames": [
"Band_1",
"Band_2",
"Band_3"
],
"allowCopy": true,
"allowAnalysis": true,
"bandCount": 3,
"noDataValue": 256,
"noDataValues": [
256,
256,
256
],
"pixelType": "U16",
"minPixelSize": 0,
"maxPixelSize": 0,
"copyrightText": "Map, Data & GIS Library, Brock University.",
"serviceDataType": "esriImageServiceDataTypeGeneric",
"serviceSourceType": "esriImageServiceSourceTypeDataset",
"minValues": [
0,
0,
0
],
"maxValues": [
255,
255,
255
],
"meanValues": [
207.91885512648,
186.2704795456,
167.36296429319
],
"stdvValues": [
39.954176439029,
37.194572284312,
32.317555536737
],
"objectIdField": "",
"fields": [],
"capabilities": "Image,Metadata,Mensuration",
"defaultMosaicMethod": "Center",
"allowedMosaicMethods": "",
"sortField": "",
"sortValue": null,
"sortAscending": true,
"mosaicOperator": "First",
"defaultCompressionQuality": 75,
"defaultResamplingMethod": "Bilinear",
"maxImageHeight": 4100,
"maxImageWidth": 15000,
"allowRasterFunction": true,
"rasterFunctionInfos": [
{
"name": "None",
"description": "",
"help": ""
}
],
"rasterTypeInfos": [
{
"name": "Raster Dataset",
"description": "Supports all ArcGIS Raster Datasets",
"help": ""
}
],
"mensurationCapabilities": "Basic",
"hasHistograms": true,
"hasColormap": false,
"hasRasterAttributeTable": false,
"minScale": 0,
"maxScale": 0,
"exportTilesAllowed": false,
"supportsStatistics": false,
"supportsAdvancedQueries": false,
"editFieldsInfo": null,
"ownershipBasedAccessControlForRasters": null,
"allowComputeTiePoints": false,
"useStandardizedQueries": true,
"advancedQueryCapabilities": {
"useStandardizedQueries": true,
"supportsStatistics": false,
"supportsOrderBy": false,
"supportsDistinct": false,
"supportsPagination": false
},
"spatialReference": {
"wkid": 102100,
"latestWkid": 3857
}
}