{ "currentVersion": 10.91, "serviceDescription": "
Historical map showing roads, city planning, growth, new subdivisions.<\/span><\/p> Digital reproduction of map 66 x 11 cm. <\/span><\/p> \"City Engineer's Office, St. Catharines\" in margin.<\/span><\/p> Georeferenced and modified by Map, Data and GIS Library, Brock University. <\/span><\/p> <\/p><\/div><\/div><\/div>",
"name": "EarlyNiagara/StCatharines1911",
"description": " Historical map showing roads, city planning, growth, new subdivisions.<\/span><\/p> Digital reproduction of map 66 x 11 cm. <\/span><\/p> \"City Engineer's Office, St. Catharines\" in margin.<\/span><\/p> Georeferenced and modified by Map, Data and GIS Library, Brock University. <\/span><\/p> <\/p><\/div><\/div><\/div>",
"extent": {
"xmin": 640738.8353529215,
"ymin": 4778186.332761613,
"xmax": 645514.4071929215,
"ymax": 4782502.141014612,
"spatialReference": {
"wkid": 26917,
"latestWkid": 26917
}
},
"initialExtent": {
"xmin": 640738.8353529215,
"ymin": 4778186.332761613,
"xmax": 645514.4071929215,
"ymax": 4782502.141014612,
"spatialReference": {
"wkid": 26917,
"latestWkid": 26917
}
},
"fullExtent": {
"xmin": 640738.8353529215,
"ymin": 4778186.332761613,
"xmax": 645514.4071929215,
"ymax": 4782502.141014612,
"spatialReference": {
"wkid": 26917,
"latestWkid": 26917
}
},
"hasMultidimensions": false,
"pixelSizeX": 0.5739869999999988,
"pixelSizeY": 0.5739869999999414,
"datasetFormat": "TIFF",
"uncompressedSize": 375298560,
"blockWidth": 128,
"blockHeight": 128,
"compressionType": "None",
"bandNames": [
"Band_1",
"Band_2",
"Band_3"
],
"allowCopy": true,
"allowAnalysis": true,
"bandCount": 3,
"noDataValue": 256,
"noDataValues": [
256,
256,
256
],
"pixelType": "U16",
"minPixelSize": 0,
"maxPixelSize": 0,
"copyrightText": "Map, Data & GIS Library, Brock University.",
"serviceDataType": "esriImageServiceDataTypeGeneric",
"serviceSourceType": "esriImageServiceSourceTypeDataset",
"minValues": [
72,
72,
72
],
"maxValues": [
255,
255,
255
],
"meanValues": [
215.83429022557,
215.83429022557,
215.83429022557
],
"stdvValues": [
27.971776802562,
27.971776802562,
27.971776802562
],
"objectIdField": "",
"fields": [],
"capabilities": "Mensuration,Image,Metadata",
"defaultMosaicMethod": "Center",
"allowedMosaicMethods": "",
"sortField": "",
"sortValue": null,
"sortAscending": true,
"mosaicOperator": "First",
"defaultCompressionQuality": 75,
"defaultResamplingMethod": "Bilinear",
"maxImageHeight": 4100,
"maxImageWidth": 15000,
"allowRasterFunction": true,
"rasterFunctionInfos": [
{
"name": "None",
"description": "",
"help": ""
}
],
"rasterTypeInfos": [
{
"name": "Raster Dataset",
"description": "Supports all ArcGIS Raster Datasets",
"help": ""
}
],
"mensurationCapabilities": "Basic",
"hasHistograms": true,
"hasColormap": false,
"hasRasterAttributeTable": false,
"minScale": 0,
"maxScale": 0,
"exportTilesAllowed": false,
"supportsStatistics": false,
"supportsAdvancedQueries": false,
"editFieldsInfo": null,
"ownershipBasedAccessControlForRasters": null,
"allowComputeTiePoints": false,
"useStandardizedQueries": true,
"advancedQueryCapabilities": {
"useStandardizedQueries": true,
"supportsStatistics": false,
"supportsOrderBy": false,
"supportsDistinct": false,
"supportsPagination": false
},
"spatialReference": {
"wkid": 26917,
"latestWkid": 26917
}
}