{ "currentVersion": 10.91, "serviceDescription": "
Historical map showing street index, places of interest, businesses, cultural features, railroads, city and township boundaries, 'Old Welland Canal', legend.<\/SPAN><\/P> Scale [ca. 1:15,277]<\/SPAN><\/P> Map date: [1932]<\/SPAN><\/P> Digital reproduction of map (57 x 71 cm.) in the Brock University Map, Data & GIS Library collection. <\/SPAN><\/P> Georeferenced and modified from Brock call# G 3464 S35 1932 S37 by Map, Data and GIS Library, Brock University. <\/SPAN><\/P> <\/P><\/DIV><\/DIV><\/DIV>",
"name": "EarlyNiagara/StCatharines1932",
"description": " Historical map showing street index, places of interest, businesses, cultural features, railroads, city and township boundaries, 'Old Welland Canal', legend.<\/SPAN><\/P> Scale [ca. 1:15,277]<\/SPAN><\/P> Map date: [1932]<\/SPAN><\/P> Digital reproduction of map (57 x 71 cm.) in the Brock University Map, Data & GIS Library collection. <\/SPAN><\/P> Georeferenced and modified from Brock call# G 3464 S35 1932 S37 by Map, Data and GIS Library, Brock University. <\/SPAN><\/P> <\/P><\/DIV><\/DIV><\/DIV>",
"extent": {
"xmin": 636496.3702270358,
"ymin": 4773006.614528023,
"xmax": 650485.2026720358,
"ymax": 4786165.426713022,
"spatialReference": {
"wkid": 26917,
"latestWkid": 26917
}
},
"initialExtent": {
"xmin": 636496.3702270358,
"ymin": 4773006.614528023,
"xmax": 650485.2026720358,
"ymax": 4786165.426713022,
"spatialReference": {
"wkid": 26917,
"latestWkid": 26917
}
},
"fullExtent": {
"xmin": 636496.3702270358,
"ymin": 4773006.614528023,
"xmax": 650485.2026720358,
"ymax": 4786165.426713022,
"spatialReference": {
"wkid": 26917,
"latestWkid": 26917
}
},
"hasMultidimensions": false,
"pixelSizeX": 1.8694149999999932,
"pixelSizeY": 1.869414999999957,
"datasetFormat": "TIFF",
"uncompressedSize": 105345674,
"blockWidth": 128,
"blockHeight": 128,
"compressionType": "None",
"bandNames": [
"Band_1"
],
"allowCopy": true,
"allowAnalysis": true,
"bandCount": 1,
"noDataValue": 256,
"noDataValues": [
256
],
"pixelType": "U16",
"minPixelSize": 0,
"maxPixelSize": 0,
"copyrightText": "Published by The S.A. Renouf Advertising.\nMap, Data & GIS Library, Brock University.",
"serviceDataType": "esriImageServiceDataTypeGeneric",
"serviceSourceType": "esriImageServiceSourceTypeDataset",
"minValues": [
0
],
"maxValues": [
255
],
"meanValues": [
214.55544886123
],
"stdvValues": [
76.328731628813
],
"objectIdField": "",
"fields": [],
"capabilities": "Image,Metadata,Mensuration",
"defaultMosaicMethod": "Center",
"allowedMosaicMethods": "",
"sortField": "",
"sortValue": null,
"sortAscending": true,
"mosaicOperator": "First",
"defaultCompressionQuality": 75,
"defaultResamplingMethod": "Bilinear",
"maxImageHeight": 4100,
"maxImageWidth": 15000,
"allowRasterFunction": true,
"rasterFunctionInfos": [
{
"name": "None",
"description": "",
"help": ""
}
],
"rasterTypeInfos": [
{
"name": "Raster Dataset",
"description": "Supports all ArcGIS Raster Datasets",
"help": ""
}
],
"mensurationCapabilities": "Basic",
"hasHistograms": true,
"hasColormap": false,
"hasRasterAttributeTable": false,
"minScale": 0,
"maxScale": 0,
"exportTilesAllowed": false,
"supportsStatistics": false,
"supportsAdvancedQueries": false,
"editFieldsInfo": null,
"ownershipBasedAccessControlForRasters": null,
"allowComputeTiePoints": false,
"useStandardizedQueries": true,
"advancedQueryCapabilities": {
"useStandardizedQueries": true,
"supportsStatistics": false,
"supportsOrderBy": false,
"supportsDistinct": false,
"supportsPagination": false
},
"spatialReference": {
"wkid": 26917,
"latestWkid": 26917
}
}