{ "currentVersion": 10.91, "serviceDescription": "
Historical map showing city planning, land use, streets, lot and concession numbers.<\/SPAN><\/P> This plan is prepared under instructions no. 791 received from the Surveyor General of the Province of Ontario dated the 28th day of December 1934. Dated at St. Catharines this 31st day of March 1936.<\/SPAN><\/P> Scale [1:2,400]<\/SPAN><\/P> Map date: 1936<\/SPAN><\/P> Digital reproduction of map (135 x 81 cm.) in the Brock University Map, Data & GIS Library collection. <\/SPAN><\/P> Georeferenced and modified from Brock call# G 3464 S35 1936 R87 by Map, Data and GIS Library, Brock University. <\/SPAN><\/P> <\/P><\/DIV><\/DIV><\/DIV>",
"name": "EarlyNiagara/StCatharines1936",
"description": " Historical map showing city planning, land use, streets, lot and concession numbers.<\/SPAN><\/P> This plan is prepared under instructions no. 791 received from the Surveyor General of the Province of Ontario dated the 28th day of December 1934. Dated at St. Catharines this 31st day of March 1936.<\/SPAN><\/P> Scale [1:2,400]<\/SPAN><\/P> Map date: 1936<\/SPAN><\/P> Digital reproduction of map (135 x 81 cm.) in the Brock University Map, Data & GIS Library collection. <\/SPAN><\/P> Georeferenced and modified from Brock call# G 3464 S35 1936 R87 by Map, Data and GIS Library, Brock University. <\/SPAN><\/P> <\/P><\/DIV><\/DIV><\/DIV>",
"extent": {
"xmin": 641098.0155272008,
"ymin": 4777468.941172074,
"xmax": 643315.3166522008,
"ymax": 4781091.460165073,
"spatialReference": {
"wkid": 26917,
"latestWkid": 26917
}
},
"initialExtent": {
"xmin": 641098.0155272008,
"ymin": 4777468.941172074,
"xmax": 643315.3166522008,
"ymax": 4781091.460165073,
"spatialReference": {
"wkid": 26917,
"latestWkid": 26917
}
},
"fullExtent": {
"xmin": 641098.0155272008,
"ymin": 4777468.941172074,
"xmax": 643315.3166522008,
"ymax": 4781091.460165073,
"spatialReference": {
"wkid": 26917,
"latestWkid": 26917
}
},
"hasMultidimensions": false,
"pixelSizeX": 0.10496099999999992,
"pixelSizeY": 0.1049609999999875,
"datasetFormat": "TIFF",
"uncompressedSize": 4374522750,
"blockWidth": 128,
"blockHeight": 128,
"compressionType": "None",
"bandNames": [
"Band_1",
"Band_2",
"Band_3"
],
"allowCopy": true,
"allowAnalysis": true,
"bandCount": 3,
"noDataValue": 256,
"noDataValues": [
256,
256,
256
],
"pixelType": "U16",
"minPixelSize": 0,
"maxPixelSize": 0,
"copyrightText": "Rutherford and Ure Engineers & Surveyors.\nMap, Data & GIS Library, Brock University.",
"serviceDataType": "esriImageServiceDataTypeGeneric",
"serviceSourceType": "esriImageServiceSourceTypeDataset",
"minValues": [
0,
0,
0
],
"maxValues": [
255,
255,
255
],
"meanValues": [
233.49141100001,
220.280830315,
187.25024123787
],
"stdvValues": [
44.071260873324,
42.842724338864,
33.676861921818
],
"objectIdField": "",
"fields": [],
"capabilities": "Image,Metadata,Mensuration",
"defaultMosaicMethod": "Center",
"allowedMosaicMethods": "",
"sortField": "",
"sortValue": null,
"sortAscending": true,
"mosaicOperator": "First",
"defaultCompressionQuality": 75,
"defaultResamplingMethod": "Bilinear",
"maxImageHeight": 4100,
"maxImageWidth": 15000,
"allowRasterFunction": true,
"rasterFunctionInfos": [
{
"name": "None",
"description": "",
"help": ""
}
],
"rasterTypeInfos": [
{
"name": "Raster Dataset",
"description": "Supports all ArcGIS Raster Datasets",
"help": ""
}
],
"mensurationCapabilities": "Basic",
"hasHistograms": true,
"hasColormap": false,
"hasRasterAttributeTable": false,
"minScale": 0,
"maxScale": 0,
"exportTilesAllowed": false,
"supportsStatistics": false,
"supportsAdvancedQueries": false,
"editFieldsInfo": null,
"ownershipBasedAccessControlForRasters": null,
"allowComputeTiePoints": false,
"useStandardizedQueries": true,
"advancedQueryCapabilities": {
"useStandardizedQueries": true,
"supportsStatistics": false,
"supportsOrderBy": false,
"supportsDistinct": false,
"supportsPagination": false
},
"spatialReference": {
"wkid": 26917,
"latestWkid": 26917
}
}