{
 "currentVersion": 10.91,
 "serviceDescription": "Map date: 1968?Scale [ca. 1:1,666]. Digital reproduction of map (77 x 58 cm.) in the Brock University Map, Data & GIS Library. Georeferenced and modified from Brock call # G 3464 S35 1968 M37, by Map, Data and GIS Library, Brock University. ",
 "name": "EarlyNiagara/StCatharines1968",
 "description": "Map date: 1968?Scale [ca. 1:1,666]. Digital reproduction of map (77 x 58 cm.) in the Brock University Map, Data & GIS Library. Georeferenced and modified from Brock call # G 3464 S35 1968 M37, by Map, Data and GIS Library, Brock University. ",
 "extent": {
  "xmin": -8830645.28455882,
  "ymin": 5326739.858712283,
  "xmax": -8814797.06290382,
  "ymax": 5347579.865011283,
  "spatialReference": {
   "wkid": 102100,
   "latestWkid": 3857
  }
 },
 "initialExtent": {
  "xmin": -8830645.28455882,
  "ymin": 5326739.858712283,
  "xmax": -8814797.06290382,
  "ymax": 5347579.865011283,
  "spatialReference": {
   "wkid": 102100,
   "latestWkid": 3857
  }
 },
 "fullExtent": {
  "xmin": -8830645.28455882,
  "ymin": 5326739.858712283,
  "xmax": -8814797.06290382,
  "ymax": 5347579.865011283,
  "spatialReference": {
   "wkid": 102100,
   "latestWkid": 3857
  }
 },
 "hasMultidimensions": false,
 "pixelSizeX": 2.315299,
 "pixelSizeY": 2.3152990000000258,
 "datasetFormat": "TIFF",
 "uncompressedSize": 369671070,
 "blockWidth": 128,
 "blockHeight": 128,
 "compressionType": "LZW",
 "bandNames": [
  "Band_1",
  "Band_2",
  "Band_3"
 ],
 "allowCopy": true,
 "allowAnalysis": true,
 "bandCount": 3,
 "noDataValue": 256,
 "noDataValues": [
  256,
  256,
  256
 ],
 "pixelType": "U16",
 "minPixelSize": 0,
 "maxPixelSize": 0,
 "copyrightText": "Master Advertising Co. (Hamilton, Ont.)\n\nMap, Data & GIS Library, Brock University.",
 "serviceDataType": "esriImageServiceDataTypeGeneric",
 "serviceSourceType": "esriImageServiceSourceTypeDataset",
 "minValues": [
  0,
  0,
  0
 ],
 "maxValues": [
  255,
  255,
  255
 ],
 "meanValues": [
  219.53197055067,
  217.38374885155,
  218.90660928148
 ],
 "stdvValues": [
  41.252369275523,
  35.073060148565,
  24.381859556162
 ],
 "objectIdField": "",
 "fields": [],
 "capabilities": "Image,Metadata,Mensuration",
 "defaultMosaicMethod": "Center",
 "allowedMosaicMethods": "",
 "sortField": "",
 "sortValue": null,
 "sortAscending": true,
 "mosaicOperator": "First",
 "defaultCompressionQuality": 75,
 "defaultResamplingMethod": "Bilinear",
 "maxImageHeight": 4100,
 "maxImageWidth": 15000,
 "allowRasterFunction": true,
 "rasterFunctionInfos": [
  {
   "name": "None",
   "description": "",
   "help": ""
  }
 ],
 "rasterTypeInfos": [
  {
   "name": "Raster Dataset",
   "description": "Supports all ArcGIS Raster Datasets",
   "help": ""
  }
 ],
 "mensurationCapabilities": "Basic",
 "hasHistograms": false,
 "hasColormap": false,
 "hasRasterAttributeTable": false,
 "minScale": 0,
 "maxScale": 0,
 "exportTilesAllowed": false,
 "supportsStatistics": false,
 "supportsAdvancedQueries": false,
 "editFieldsInfo": null,
 "ownershipBasedAccessControlForRasters": null,
 "allowComputeTiePoints": false,
 "useStandardizedQueries": true,
 "advancedQueryCapabilities": {
  "useStandardizedQueries": true,
  "supportsStatistics": false,
  "supportsOrderBy": false,
  "supportsDistinct": false,
  "supportsPagination": false
 },
 "spatialReference": {
  "wkid": 102100,
  "latestWkid": 3857
 }
}
