{ "currentVersion": 10.91, "serviceDescription": "
Map showing street index, places of interest, legend.<\/span><\/p><\/div><\/div>",
"name": "EarlyNiagara/StCatharines1970",
"description": " Map showing street index, places of interest, legend.<\/span><\/p><\/div><\/div>",
"extent": {
"xmin": 636086.1774813097,
"ymin": 4770556.326560212,
"xmax": 651323.1918545127,
"ymax": 4788800.546251422,
"spatialReference": {
"wkid": 26917,
"latestWkid": 26917
}
},
"initialExtent": {
"xmin": 636086.1774813097,
"ymin": 4770556.326560212,
"xmax": 651323.1918545127,
"ymax": 4788800.546251422,
"spatialReference": {
"wkid": 26917,
"latestWkid": 26917
}
},
"fullExtent": {
"xmin": 636086.1774813097,
"ymin": 4770556.326560212,
"xmax": 651323.1918545127,
"ymax": 4788800.546251422,
"spatialReference": {
"wkid": 26917,
"latestWkid": 26917
}
},
"hasMultidimensions": false,
"pixelSizeX": 1.1435765815973375,
"pixelSizeY": 1.0783910445211902,
"datasetFormat": "TIFF",
"uncompressedSize": 676246296,
"blockWidth": 13324,
"blockHeight": 1024,
"compressionType": "YCbCr JPEG",
"bandNames": [
"Band_1",
"Band_2",
"Band_3"
],
"allowCopy": true,
"allowAnalysis": true,
"bandCount": 3,
"pixelType": "U8",
"minPixelSize": 0,
"maxPixelSize": 0,
"copyrightText": "Brock University Map, Data & GIS Library",
"serviceDataType": "esriImageServiceDataTypeRGB",
"serviceSourceType": "esriImageServiceSourceTypeDataset",
"minValues": [
0,
0,
0
],
"maxValues": [
255,
255,
255
],
"meanValues": [
229.59162969822,
230.11643452604,
222.09612188387
],
"stdvValues": [
52.289715513071,
49.416810592964,
38.567089012893
],
"objectIdField": "",
"fields": [],
"capabilities": "Mensuration,Image,Metadata",
"defaultMosaicMethod": "Center",
"allowedMosaicMethods": "",
"sortField": "",
"sortValue": null,
"sortAscending": true,
"mosaicOperator": "First",
"defaultCompressionQuality": 75,
"defaultResamplingMethod": "Bilinear",
"maxImageHeight": 4100,
"maxImageWidth": 15000,
"allowRasterFunction": true,
"rasterFunctionInfos": [
{
"name": "None",
"description": "",
"help": ""
}
],
"rasterTypeInfos": [
{
"name": "Raster Dataset",
"description": "Supports all ArcGIS Raster Datasets",
"help": ""
}
],
"mensurationCapabilities": "Basic",
"hasHistograms": true,
"hasColormap": false,
"hasRasterAttributeTable": false,
"minScale": 0,
"maxScale": 0,
"exportTilesAllowed": false,
"supportsStatistics": false,
"supportsAdvancedQueries": false,
"editFieldsInfo": null,
"ownershipBasedAccessControlForRasters": null,
"allowComputeTiePoints": false,
"useStandardizedQueries": true,
"advancedQueryCapabilities": {
"useStandardizedQueries": true,
"supportsStatistics": false,
"supportsOrderBy": false,
"supportsDistinct": false,
"supportsPagination": false
},
"spatialReference": {
"wkid": 26917,
"latestWkid": 26917
}
}