{ "currentVersion": 10.91, "serviceDescription": "
Map of St. Catharines showing streets, railways, city limits, rivers, cemeteries, hospitals, schools. Includes business advertisements in margin. Panel title. Includes street index and parks and recreation index. Title on recto: City of St. Catharines -- Ancillary map on verso: The Regional Municipality of Niagara.<\/span><\/p><\/div><\/div>",
"name": "EarlyNiagara/StCatharines1971",
"description": " Map of St. Catharines showing streets, railways, city limits, rivers, cemeteries, hospitals, schools. Includes business advertisements in margin. Panel title. Includes street index and parks and recreation index. Title on recto: City of St. Catharines -- Ancillary map on verso: The Regional Municipality of Niagara.<\/span><\/p><\/div><\/div>",
"extent": {
"xmin": 634029.1167242916,
"ymin": 4767895.233806932,
"xmax": 651416.2613244423,
"ymax": 4793725.487260664,
"spatialReference": {
"wkid": 26917,
"latestWkid": 26917
}
},
"initialExtent": {
"xmin": 634029.1167242916,
"ymin": 4767895.233806932,
"xmax": 651416.2613244423,
"ymax": 4793725.487260664,
"spatialReference": {
"wkid": 26917,
"latestWkid": 26917
}
},
"fullExtent": {
"xmin": 634029.1167242916,
"ymin": 4767895.233806932,
"xmax": 651416.2613244423,
"ymax": 4793725.487260664,
"spatialReference": {
"wkid": 26917,
"latestWkid": 26917
}
},
"hasMultidimensions": false,
"pixelSizeX": 2.173393075018845,
"pixelSizeY": 2.0888123446329887,
"datasetFormat": "TIFF",
"uncompressedSize": 296746902,
"blockWidth": 8000,
"blockHeight": 43,
"compressionType": "YCbCr JPEG",
"bandNames": [
"Band_1",
"Band_2",
"Band_3"
],
"allowCopy": true,
"allowAnalysis": true,
"bandCount": 3,
"pixelType": "U8",
"minPixelSize": 0,
"maxPixelSize": 0,
"copyrightText": "Brock University Map, Data & GIS Library",
"serviceDataType": "esriImageServiceDataTypeRGB",
"serviceSourceType": "esriImageServiceSourceTypeDataset",
"minValues": [
0,
0,
0
],
"maxValues": [
255,
255,
255
],
"meanValues": [
215.77462763835,
208.31003895761,
200.7755894186
],
"stdvValues": [
66.986613758952,
74.954518216363,
76.678659549905
],
"objectIdField": "",
"fields": [],
"capabilities": "Mensuration,Image,Metadata",
"defaultMosaicMethod": "Center",
"allowedMosaicMethods": "",
"sortField": "",
"sortValue": null,
"sortAscending": true,
"mosaicOperator": "First",
"defaultCompressionQuality": 75,
"defaultResamplingMethod": "Bilinear",
"maxImageHeight": 4100,
"maxImageWidth": 15000,
"allowRasterFunction": true,
"rasterFunctionInfos": [
{
"name": "None",
"description": "",
"help": ""
}
],
"rasterTypeInfos": [
{
"name": "Raster Dataset",
"description": "Supports all ArcGIS Raster Datasets",
"help": ""
}
],
"mensurationCapabilities": "Basic",
"hasHistograms": true,
"hasColormap": false,
"hasRasterAttributeTable": false,
"minScale": 0,
"maxScale": 0,
"exportTilesAllowed": false,
"supportsStatistics": false,
"supportsAdvancedQueries": false,
"editFieldsInfo": null,
"ownershipBasedAccessControlForRasters": null,
"allowComputeTiePoints": false,
"useStandardizedQueries": true,
"advancedQueryCapabilities": {
"useStandardizedQueries": true,
"supportsStatistics": false,
"supportsOrderBy": false,
"supportsDistinct": false,
"supportsPagination": false
},
"spatialReference": {
"wkid": 26917,
"latestWkid": 26917
}
}