{ "currentVersion": 10.91, "serviceDescription": "
Map showing road, transportation, cultural and hydrological features, power lines, the Niagara Escarpment, legend. Ozalid print.<\/span><\/p><\/div><\/div>",
"name": "EarlyNiagara/StCatharines1971_1",
"description": " Map showing road, transportation, cultural and hydrological features, power lines, the Niagara Escarpment, legend. Ozalid print.<\/span><\/p><\/div><\/div>",
"extent": {
"xmin": 635923.572934259,
"ymin": 4772988.106248661,
"xmax": 649346.0595099715,
"ymax": 4790447.499905156,
"spatialReference": {
"wkid": 26917,
"latestWkid": 26917
}
},
"initialExtent": {
"xmin": 635923.572934259,
"ymin": 4772988.106248661,
"xmax": 649346.0595099715,
"ymax": 4790447.499905156,
"spatialReference": {
"wkid": 26917,
"latestWkid": 26917
}
},
"fullExtent": {
"xmin": 635923.572934259,
"ymin": 4772988.106248661,
"xmax": 649346.0595099715,
"ymax": 4790447.499905156,
"spatialReference": {
"wkid": 26917,
"latestWkid": 26917
}
},
"hasMultidimensions": false,
"pixelSizeX": 1.6778108219640708,
"pixelSizeY": 1.6542916104315926,
"datasetFormat": "TIFF",
"uncompressedSize": 84432000,
"blockWidth": 8000,
"blockHeight": 131,
"compressionType": "JPEG",
"bandNames": [
"Band_1"
],
"allowCopy": true,
"allowAnalysis": true,
"bandCount": 1,
"pixelType": "U8",
"minPixelSize": 0,
"maxPixelSize": 0,
"copyrightText": "",
"serviceDataType": "esriImageServiceDataTypeGeneric",
"serviceSourceType": "esriImageServiceSourceTypeDataset",
"minValues": [
0
],
"maxValues": [
255
],
"meanValues": [
241.37229166672
],
"stdvValues": [
42.771634182832
],
"objectIdField": "",
"fields": [],
"capabilities": "Mensuration,Image,Metadata",
"defaultMosaicMethod": "Center",
"allowedMosaicMethods": "",
"sortField": "",
"sortValue": null,
"sortAscending": true,
"mosaicOperator": "First",
"defaultCompressionQuality": 75,
"defaultResamplingMethod": "Bilinear",
"maxImageHeight": 4100,
"maxImageWidth": 15000,
"allowRasterFunction": true,
"rasterFunctionInfos": [
{
"name": "None",
"description": "",
"help": ""
}
],
"rasterTypeInfos": [
{
"name": "Raster Dataset",
"description": "Supports all ArcGIS Raster Datasets",
"help": ""
}
],
"mensurationCapabilities": "Basic",
"hasHistograms": true,
"hasColormap": false,
"hasRasterAttributeTable": false,
"minScale": 0,
"maxScale": 0,
"exportTilesAllowed": false,
"supportsStatistics": false,
"supportsAdvancedQueries": false,
"editFieldsInfo": null,
"ownershipBasedAccessControlForRasters": null,
"allowComputeTiePoints": false,
"useStandardizedQueries": true,
"advancedQueryCapabilities": {
"useStandardizedQueries": true,
"supportsStatistics": false,
"supportsOrderBy": false,
"supportsDistinct": false,
"supportsPagination": false
},
"spatialReference": {
"wkid": 26917,
"latestWkid": 26917
}
}