{ "currentVersion": 10.91, "serviceDescription": "
Map showing street, transportation, cultural and recreational features, street numbering, ground cover, points of interest, indexes, legend.<\/span><\/p><\/div><\/div><\/div>",
"name": "EarlyNiagara/StCatharines1973",
"description": " Map showing street, transportation, cultural and recreational features, street numbering, ground cover, points of interest, indexes, legend.<\/span><\/p><\/div><\/div><\/div>",
"extent": {
"xmin": 637920.0058243662,
"ymin": 4774085.3275207,
"xmax": 647792.3562749387,
"ymax": 4788103.193354088,
"spatialReference": {
"wkid": 26917,
"latestWkid": 26917
}
},
"initialExtent": {
"xmin": 637920.0058243662,
"ymin": 4774085.3275207,
"xmax": 647792.3562749387,
"ymax": 4788103.193354088,
"spatialReference": {
"wkid": 26917,
"latestWkid": 26917
}
},
"fullExtent": {
"xmin": 637920.0058243662,
"ymin": 4774085.3275207,
"xmax": 647792.3562749387,
"ymax": 4788103.193354088,
"spatialReference": {
"wkid": 26917,
"latestWkid": 26917
}
},
"hasMultidimensions": false,
"pixelSizeX": 1.234043806321555,
"pixelSizeY": 1.1368909840541532,
"datasetFormat": "TIFF",
"uncompressedSize": 295920000,
"blockWidth": 8000,
"blockHeight": 43,
"compressionType": "YCbCr JPEG",
"bandNames": [
"Band_1",
"Band_2",
"Band_3"
],
"allowCopy": true,
"allowAnalysis": true,
"bandCount": 3,
"pixelType": "U8",
"minPixelSize": 0,
"maxPixelSize": 0,
"copyrightText": "Brock University Map, Data & GIS Library",
"serviceDataType": "esriImageServiceDataTypeRGB",
"serviceSourceType": "esriImageServiceSourceTypeDataset",
"minValues": [
0,
0,
0
],
"maxValues": [
255,
255,
255
],
"meanValues": [
190.4185527879,
187.31214685728,
172.21580291972
],
"stdvValues": [
64.461211467391,
58.234591962951,
55.757592908266
],
"objectIdField": "",
"fields": [],
"capabilities": "Mensuration,Image,Metadata",
"defaultMosaicMethod": "Center",
"allowedMosaicMethods": "",
"sortField": "",
"sortValue": null,
"sortAscending": true,
"mosaicOperator": "First",
"defaultCompressionQuality": 75,
"defaultResamplingMethod": "Bilinear",
"maxImageHeight": 4100,
"maxImageWidth": 15000,
"allowRasterFunction": true,
"rasterFunctionInfos": [
{
"name": "None",
"description": "",
"help": ""
}
],
"rasterTypeInfos": [
{
"name": "Raster Dataset",
"description": "Supports all ArcGIS Raster Datasets",
"help": ""
}
],
"mensurationCapabilities": "Basic",
"hasHistograms": true,
"hasColormap": false,
"hasRasterAttributeTable": false,
"minScale": 0,
"maxScale": 0,
"exportTilesAllowed": false,
"supportsStatistics": false,
"supportsAdvancedQueries": false,
"editFieldsInfo": null,
"ownershipBasedAccessControlForRasters": null,
"allowComputeTiePoints": false,
"useStandardizedQueries": true,
"advancedQueryCapabilities": {
"useStandardizedQueries": true,
"supportsStatistics": false,
"supportsOrderBy": false,
"supportsDistinct": false,
"supportsPagination": false
},
"spatialReference": {
"wkid": 26917,
"latestWkid": 26917
}
}