{ "currentVersion": 10.91, "serviceDescription": "
Historical map showing numbered census tract boundaries.<\/SPAN><\/P> Map date: 1966<\/SPAN><\/P> Digital reproduction of map in the Brock University Map, Data & GIS Library collection.<\/SPAN><\/P> Georeferenced and modified by Map, Data and GIS Library, Brock University. <\/SPAN><\/P> <\/P><\/DIV><\/DIV><\/DIV>",
"name": "EarlyNiagara/StCatharinesCensusTracts1966",
"description": " Historical map showing numbered census tract boundaries.<\/SPAN><\/P> Map date: 1966<\/SPAN><\/P> Digital reproduction of map in the Brock University Map, Data & GIS Library collection.<\/SPAN><\/P> Georeferenced and modified by Map, Data and GIS Library, Brock University. <\/SPAN><\/P> <\/P><\/DIV><\/DIV><\/DIV>",
"extent": {
"xmin": 639071.1406201173,
"ymin": 4773818.499369476,
"xmax": 649081.9864651173,
"ymax": 4787961.355239476,
"spatialReference": {
"wkid": 26917,
"latestWkid": 26917
}
},
"initialExtent": {
"xmin": 639071.1406201173,
"ymin": 4773818.499369476,
"xmax": 649081.9864651173,
"ymax": 4787961.355239476,
"spatialReference": {
"wkid": 26917,
"latestWkid": 26917
}
},
"fullExtent": {
"xmin": 639071.1406201173,
"ymin": 4773818.499369476,
"xmax": 649081.9864651173,
"ymax": 4787961.355239476,
"spatialReference": {
"wkid": 26917,
"latestWkid": 26917
}
},
"hasMultidimensions": false,
"pixelSizeX": 1.6495050000000007,
"pixelSizeY": 1.6495050000000102,
"datasetFormat": "TIFF",
"uncompressedSize": 312213636,
"blockWidth": 128,
"blockHeight": 128,
"compressionType": "None",
"bandNames": [
"Band_1",
"Band_2",
"Band_3"
],
"allowCopy": true,
"allowAnalysis": true,
"bandCount": 3,
"noDataValue": 256,
"noDataValues": [
256,
256,
256
],
"pixelType": "U16",
"minPixelSize": 0,
"maxPixelSize": 0,
"copyrightText": "[\"Prepared by City of St. Catharines\"]",
"serviceDataType": "esriImageServiceDataTypeGeneric",
"serviceSourceType": "esriImageServiceSourceTypeDataset",
"minValues": [
0,
0,
0
],
"maxValues": [
255,
255,
255
],
"meanValues": [
243.67360225371,
205.3945517981,
123.90545916746
],
"stdvValues": [
11.637015576321,
13.077306289589,
15.887803132695
],
"objectIdField": "",
"fields": [],
"capabilities": "Image,Metadata,Mensuration",
"defaultMosaicMethod": "Center",
"allowedMosaicMethods": "",
"sortField": "",
"sortValue": null,
"sortAscending": true,
"mosaicOperator": "First",
"defaultCompressionQuality": 75,
"defaultResamplingMethod": "Bilinear",
"maxImageHeight": 4100,
"maxImageWidth": 15000,
"allowRasterFunction": true,
"rasterFunctionInfos": [
{
"name": "None",
"description": "",
"help": ""
}
],
"rasterTypeInfos": [
{
"name": "Raster Dataset",
"description": "Supports all ArcGIS Raster Datasets",
"help": ""
}
],
"mensurationCapabilities": "Basic",
"hasHistograms": true,
"hasColormap": false,
"hasRasterAttributeTable": false,
"minScale": 0,
"maxScale": 0,
"exportTilesAllowed": false,
"supportsStatistics": false,
"supportsAdvancedQueries": false,
"editFieldsInfo": null,
"ownershipBasedAccessControlForRasters": null,
"allowComputeTiePoints": false,
"useStandardizedQueries": true,
"advancedQueryCapabilities": {
"useStandardizedQueries": true,
"supportsStatistics": false,
"supportsOrderBy": false,
"supportsDistinct": false,
"supportsPagination": false
},
"spatialReference": {
"wkid": 26917,
"latestWkid": 26917
}
}