{ "currentVersion": 10.91, "serviceDescription": "
Maps showing land use features, residential, commercial, industrial, institutional, park & open spaces, urbanized areas, boundaries, legend.<\/SPAN><\/P> St. Catharines Urban Renewal Study map no.3<\/SPAN><\/P> Scale 1:12,000<\/SPAN><\/P> Map date: 1966<\/SPAN><\/P> Digital reproduction of map in the Brock University Map, Data & GIS Library collection. <\/SPAN><\/P> Georeferenced and modified from Brock call# G 3464 S35 G4 1966 S35 by Map, Data and GIS Library, Brock University. <\/SPAN><\/P> <\/P><\/DIV><\/DIV><\/DIV>",
"name": "EarlyNiagara/StCatharinesExistingLandUse1966",
"description": " Maps showing land use features, residential, commercial, industrial, institutional, park & open spaces, urbanized areas, boundaries, legend.<\/SPAN><\/P> St. Catharines Urban Renewal Study map no.3<\/SPAN><\/P> Scale 1:12,000<\/SPAN><\/P> Map date: 1966<\/SPAN><\/P> Digital reproduction of map in the Brock University Map, Data & GIS Library collection. <\/SPAN><\/P> Georeferenced and modified from Brock call# G 3464 S35 G4 1966 S35 by Map, Data and GIS Library, Brock University. <\/SPAN><\/P> <\/P><\/DIV><\/DIV><\/DIV>",
"extent": {
"xmin": 636526.9784937997,
"ymin": 4768184.229105444,
"xmax": 650707.7195737996,
"ymax": 4790104.811275444,
"spatialReference": {
"wkid": 26917,
"latestWkid": 26917
}
},
"initialExtent": {
"xmin": 636526.9784937997,
"ymin": 4768184.229105444,
"xmax": 650707.7195737996,
"ymax": 4790104.811275444,
"spatialReference": {
"wkid": 26917,
"latestWkid": 26917
}
},
"fullExtent": {
"xmin": 636526.9784937997,
"ymin": 4768184.229105444,
"xmax": 650707.7195737996,
"ymax": 4790104.811275444,
"spatialReference": {
"wkid": 26917,
"latestWkid": 26917
}
},
"hasMultidimensions": false,
"pixelSizeX": 0.543489999999998,
"pixelSizeY": 0.5434900000000075,
"datasetFormat": "TIFF",
"uncompressedSize": 2104737272,
"blockWidth": 128,
"blockHeight": 128,
"compressionType": "None",
"bandNames": [
"Band_1"
],
"allowCopy": true,
"allowAnalysis": true,
"bandCount": 1,
"noDataValue": 256,
"noDataValues": [
256
],
"pixelType": "U16",
"minPixelSize": 0,
"maxPixelSize": 0,
"copyrightText": "Proctor, Redfern, Bousfield & Bacon Consulting Engineers & Town Planners\n\nMap, Data & GIS Library, Brock University.",
"serviceDataType": "esriImageServiceDataTypeGeneric",
"serviceSourceType": "esriImageServiceSourceTypeDataset",
"minValues": [],
"maxValues": [],
"meanValues": [],
"stdvValues": [],
"objectIdField": "",
"fields": [],
"capabilities": "Image,Metadata,Mensuration",
"defaultMosaicMethod": "Center",
"allowedMosaicMethods": "",
"sortField": "",
"sortValue": null,
"sortAscending": true,
"mosaicOperator": "First",
"defaultCompressionQuality": 75,
"defaultResamplingMethod": "Bilinear",
"maxImageHeight": 4100,
"maxImageWidth": 15000,
"allowRasterFunction": true,
"rasterFunctionInfos": [
{
"name": "None",
"description": "",
"help": ""
}
],
"rasterTypeInfos": [
{
"name": "Raster Dataset",
"description": "Supports all ArcGIS Raster Datasets",
"help": ""
}
],
"mensurationCapabilities": "Basic",
"hasHistograms": false,
"hasColormap": false,
"hasRasterAttributeTable": false,
"minScale": 0,
"maxScale": 0,
"exportTilesAllowed": false,
"supportsStatistics": false,
"supportsAdvancedQueries": false,
"editFieldsInfo": null,
"ownershipBasedAccessControlForRasters": null,
"allowComputeTiePoints": false,
"useStandardizedQueries": true,
"advancedQueryCapabilities": {
"useStandardizedQueries": true,
"supportsStatistics": false,
"supportsOrderBy": false,
"supportsDistinct": false,
"supportsPagination": false
},
"spatialReference": {
"wkid": 26917,
"latestWkid": 26917
}
}