{ "currentVersion": 10.91, "serviceDescription": "
Historical map showing the names of land owners, concession and lot numbers, notes.<\/span><\/p> Copied from an original by Charles Chambers and Samuel Holland ; Signed Augustus Jones, 25th October 1791.<\/span><\/p> \"Map #9\" in margin.<\/span><\/p> Digital reproduction of map (33 x 49 cm.) in the Archives of Ontario.<\/span><\/p> Georeferenced and modified by Map, Data and GIS Library, Brock University. <\/span><\/p> <\/p><\/div><\/div><\/div>",
"name": "EarlyNiagara/StCatharinesGrantham1791",
"description": " Historical map showing the names of land owners, concession and lot numbers, notes.<\/span><\/p> Copied from an original by Charles Chambers and Samuel Holland ; Signed Augustus Jones, 25th October 1791.<\/span><\/p> \"Map #9\" in margin.<\/span><\/p> Digital reproduction of map (33 x 49 cm.) in the Archives of Ontario.<\/span><\/p> Georeferenced and modified by Map, Data and GIS Library, Brock University. <\/span><\/p> <\/p><\/div><\/div><\/div>",
"extent": {
"xmin": -8826589.062924013,
"ymin": 5328190.565537329,
"xmax": -8810805.797840012,
"ymax": 5351640.207977328,
"spatialReference": {
"wkid": 102100,
"latestWkid": 3857
}
},
"initialExtent": {
"xmin": -8826589.062924013,
"ymin": 5328190.565537329,
"xmax": -8810805.797840012,
"ymax": 5351640.207977328,
"spatialReference": {
"wkid": 102100,
"latestWkid": 3857
}
},
"fullExtent": {
"xmin": -8826589.062924013,
"ymin": 5328190.565537329,
"xmax": -8810805.797840012,
"ymax": 5351640.207977328,
"spatialReference": {
"wkid": 102100,
"latestWkid": 3857
}
},
"hasMultidimensions": false,
"pixelSizeX": 3.8505160000000744,
"pixelSizeY": 3.850515999999937,
"datasetFormat": "TIFF",
"uncompressedSize": 49925820,
"blockWidth": 128,
"blockHeight": 128,
"compressionType": "None",
"bandNames": [
"Band_1"
],
"allowCopy": true,
"allowAnalysis": true,
"bandCount": 1,
"noDataValue": 256,
"noDataValues": [
256
],
"pixelType": "U16",
"minPixelSize": 0,
"maxPixelSize": 0,
"copyrightText": "Map, Data & GIS Library, Brock University.",
"serviceDataType": "esriImageServiceDataTypeGeneric",
"serviceSourceType": "esriImageServiceSourceTypeDataset",
"minValues": [
0
],
"maxValues": [
255
],
"meanValues": [
188.421482607
],
"stdvValues": [
39.021597437593
],
"objectIdField": "",
"fields": [],
"capabilities": "Mensuration,Image,Metadata",
"defaultMosaicMethod": "Center",
"allowedMosaicMethods": "",
"sortField": "",
"sortValue": null,
"sortAscending": true,
"mosaicOperator": "First",
"defaultCompressionQuality": 75,
"defaultResamplingMethod": "Bilinear",
"maxImageHeight": 4100,
"maxImageWidth": 15000,
"allowRasterFunction": true,
"rasterFunctionInfos": [
{
"name": "None",
"description": "",
"help": ""
}
],
"rasterTypeInfos": [
{
"name": "Raster Dataset",
"description": "Supports all ArcGIS Raster Datasets",
"help": ""
}
],
"mensurationCapabilities": "Basic",
"hasHistograms": true,
"hasColormap": false,
"hasRasterAttributeTable": false,
"minScale": 0,
"maxScale": 0,
"exportTilesAllowed": false,
"supportsStatistics": false,
"supportsAdvancedQueries": false,
"editFieldsInfo": null,
"ownershipBasedAccessControlForRasters": null,
"allowComputeTiePoints": false,
"useStandardizedQueries": true,
"advancedQueryCapabilities": {
"useStandardizedQueries": true,
"supportsStatistics": false,
"supportsOrderBy": false,
"supportsDistinct": false,
"supportsPagination": false
},
"spatialReference": {
"wkid": 102100,
"latestWkid": 3857
}
}