{ "currentVersion": 10.91, "serviceDescription": "
Historical map showing the names of land owners, concession and lot numbers, Twelve Mile Creek, notes. \"Recopied in 1965 by M.J. Servos\" from an original signed by August Jones, copied by Charles Chambers and signed by Samuel Holland. Signed Augustus Jones, 25th October 1791.<\/span><\/p><\/div><\/div>",
"name": "EarlyNiagara/StCatharinesGrantham1791_col",
"description": " Historical map showing the names of land owners, concession and lot numbers, Twelve Mile Creek, notes. \"Recopied in 1965 by M.J. Servos\" from an original signed by August Jones, copied by Charles Chambers and signed by Samuel Holland. Signed Augustus Jones, 25th October 1791.<\/span><\/p><\/div><\/div>",
"extent": {
"xmin": 638178.0886955493,
"ymin": 4771025.992605772,
"xmax": 652982.1024078703,
"ymax": 4790162.644005403,
"spatialReference": {
"wkid": 26917,
"latestWkid": 26917
}
},
"initialExtent": {
"xmin": 638178.0886955493,
"ymin": 4771025.992605772,
"xmax": 652982.1024078703,
"ymax": 4790162.644005403,
"spatialReference": {
"wkid": 26917,
"latestWkid": 26917
}
},
"fullExtent": {
"xmin": 638178.0886955493,
"ymin": 4771025.992605772,
"xmax": 652982.1024078703,
"ymax": 4790162.644005403,
"spatialReference": {
"wkid": 26917,
"latestWkid": 26917
}
},
"hasMultidimensions": false,
"pixelSizeX": 2.9537138292739544,
"pixelSizeY": 2.93822376779227,
"datasetFormat": "TIFF",
"uncompressedSize": 97914432,
"blockWidth": 5012,
"blockHeight": 17,
"compressionType": "LZW",
"bandNames": [
"Band_1",
"Band_2",
"Band_3"
],
"allowCopy": true,
"allowAnalysis": true,
"bandCount": 3,
"pixelType": "U8",
"minPixelSize": 0,
"maxPixelSize": 0,
"copyrightText": "Brock University Map, Data & GIS Library",
"serviceDataType": "esriImageServiceDataTypeRGB",
"serviceSourceType": "esriImageServiceSourceTypeDataset",
"minValues": [
0,
0,
0
],
"maxValues": [
255,
255,
255
],
"meanValues": [
230.77484395201,
186.24903002638,
111.8199604842
],
"stdvValues": [
37.298192245094,
32.401787423321,
22.925054616057
],
"objectIdField": "",
"fields": [],
"capabilities": "Mensuration,Image,Metadata",
"defaultMosaicMethod": "Center",
"allowedMosaicMethods": "",
"sortField": "",
"sortValue": null,
"sortAscending": true,
"mosaicOperator": "First",
"defaultCompressionQuality": 75,
"defaultResamplingMethod": "Bilinear",
"maxImageHeight": 4100,
"maxImageWidth": 15000,
"allowRasterFunction": true,
"rasterFunctionInfos": [
{
"name": "None",
"description": "",
"help": ""
}
],
"rasterTypeInfos": [
{
"name": "Raster Dataset",
"description": "Supports all ArcGIS Raster Datasets",
"help": ""
}
],
"mensurationCapabilities": "Basic",
"hasHistograms": true,
"hasColormap": false,
"hasRasterAttributeTable": false,
"minScale": 0,
"maxScale": 0,
"exportTilesAllowed": false,
"supportsStatistics": false,
"supportsAdvancedQueries": false,
"editFieldsInfo": null,
"ownershipBasedAccessControlForRasters": null,
"allowComputeTiePoints": false,
"useStandardizedQueries": true,
"advancedQueryCapabilities": {
"useStandardizedQueries": true,
"supportsStatistics": false,
"supportsOrderBy": false,
"supportsDistinct": false,
"supportsPagination": false
},
"spatialReference": {
"wkid": 26917,
"latestWkid": 26917
}
}