{ "currentVersion": 10.91, "serviceDescription": "
Map date: 1795<\/span><\/p> \"A13\" - written in margin.<\/span><\/p> \"1138\" - stamp in top right corner.<\/span><\/p> Scale [ca. 1:31,500]<\/span><\/p> Oriented with north to the right.<\/span><\/p> Digital reproduction of map (31 x 45 cm.) in the Brock University Map, Data & GIS Library collection. <\/span><\/p> Georeferenced and modified from negative version of Brock call# G 3464 G73 G46 1795 G73 by Map, Data and GIS Library, Brock University. <\/span><\/p> <\/p><\/div><\/div><\/div>",
"name": "EarlyNiagara/StCatharinesGrantham1795",
"description": " Map date: 1795<\/span><\/p> \"A13\" - written in margin.<\/span><\/p> \"1138\" - stamp in top right corner.<\/span><\/p> Scale [ca. 1:31,500]<\/span><\/p> Oriented with north to the right.<\/span><\/p> Digital reproduction of map (31 x 45 cm.) in the Brock University Map, Data & GIS Library collection. <\/span><\/p> Georeferenced and modified from negative version of Brock call# G 3464 G73 G46 1795 G73 by Map, Data and GIS Library, Brock University. <\/span><\/p> <\/p><\/div><\/div><\/div>",
"extent": {
"xmin": -8827846.790803302,
"ymin": 5324043.206065245,
"xmax": -8810347.668253303,
"ymax": 5350517.403815245,
"spatialReference": {
"wkid": 102100,
"latestWkid": 3857
}
},
"initialExtent": {
"xmin": -8827846.790803302,
"ymin": 5324043.206065245,
"xmax": -8810347.668253303,
"ymax": 5350517.403815245,
"spatialReference": {
"wkid": 102100,
"latestWkid": 3857
}
},
"fullExtent": {
"xmin": -8827846.790803302,
"ymin": 5324043.206065245,
"xmax": -8810347.668253303,
"ymax": 5350517.403815245,
"spatialReference": {
"wkid": 102100,
"latestWkid": 3857
}
},
"hasMultidimensions": false,
"pixelSizeX": 3.7901499999998927,
"pixelSizeY": 3.7901500000000405,
"datasetFormat": "TIFF",
"uncompressedSize": 193498470,
"blockWidth": 128,
"blockHeight": 128,
"compressionType": "LZW",
"bandNames": [
"Band_1",
"Band_2",
"Band_3"
],
"allowCopy": true,
"allowAnalysis": true,
"bandCount": 3,
"noDataValue": 256,
"noDataValues": [
256,
256,
256
],
"pixelType": "U16",
"minPixelSize": 0,
"maxPixelSize": 0,
"copyrightText": "Map, Data & GIS Library, Brock University.",
"serviceDataType": "esriImageServiceDataTypeGeneric",
"serviceSourceType": "esriImageServiceSourceTypeDataset",
"minValues": [
0,
0,
0
],
"maxValues": [
237,
237,
237
],
"meanValues": [
205.32732337205,
206.00478428066,
206.64614318488
],
"stdvValues": [
69.558646538388,
68.238960934814,
66.940356701073
],
"objectIdField": "",
"fields": [],
"capabilities": "Mensuration,Image,Metadata",
"defaultMosaicMethod": "Center",
"allowedMosaicMethods": "",
"sortField": "",
"sortValue": null,
"sortAscending": true,
"mosaicOperator": "First",
"defaultCompressionQuality": 75,
"defaultResamplingMethod": "Bilinear",
"maxImageHeight": 4100,
"maxImageWidth": 15000,
"allowRasterFunction": true,
"rasterFunctionInfos": [
{
"name": "None",
"description": "",
"help": ""
}
],
"rasterTypeInfos": [
{
"name": "Raster Dataset",
"description": "Supports all ArcGIS Raster Datasets",
"help": ""
}
],
"mensurationCapabilities": "Basic",
"hasHistograms": false,
"hasColormap": false,
"hasRasterAttributeTable": false,
"minScale": 0,
"maxScale": 0,
"exportTilesAllowed": false,
"supportsStatistics": false,
"supportsAdvancedQueries": false,
"editFieldsInfo": null,
"ownershipBasedAccessControlForRasters": null,
"allowComputeTiePoints": false,
"useStandardizedQueries": true,
"advancedQueryCapabilities": {
"useStandardizedQueries": true,
"supportsStatistics": false,
"supportsOrderBy": false,
"supportsDistinct": false,
"supportsPagination": false
},
"spatialReference": {
"wkid": 102100,
"latestWkid": 3857
}
}