{ "currentVersion": 10.91, "serviceDescription": "
Map date: 1795<\/span><\/p> Scale [ca. 1:28,600]<\/span><\/p> Digital reproduction of map (31 x 45 cm.) in the Brock University Map, Data & GIS Library collection. <\/span><\/p> \"A14\" in margin.<\/span><\/p> \"1139\" stamp in top left corner.<\/span><\/p> \"\"An accurate plan of Township no.3 in the District of Nassau ... Nassau 25 Oct 1791 (signed) Augustus Jones ..., copied from an original by Mr. Chas Chambers (signed), Samuel Holland, Surv. Gen. Newark 30 January 1794. Copied by Sewiz Grant ... D.W. Smith ..., ammended and corrected the 28 March 1795, D.W.S.\"<\/span><\/p> Georeferenced and modified from Brock call# G 3464 G73 G46 1795a G73 by Map, Data and GIS Library, Brock University. <\/span><\/p><\/div><\/div><\/div>",
"name": "EarlyNiagara/StCatharinesGrantham1795a",
"description": " Map date: 1795<\/span><\/p> Scale [ca. 1:28,600]<\/span><\/p> Digital reproduction of map (31 x 45 cm.) in the Brock University Map, Data & GIS Library collection. <\/span><\/p> \"A14\" in margin.<\/span><\/p> \"1139\" stamp in top left corner.<\/span><\/p> \"\"An accurate plan of Township no.3 in the District of Nassau ... Nassau 25 Oct 1791 (signed) Augustus Jones ..., copied from an original by Mr. Chas Chambers (signed), Samuel Holland, Surv. Gen. Newark 30 January 1794. Copied by Sewiz Grant ... D.W. Smith ..., ammended and corrected the 28 March 1795, D.W.S.\"<\/span><\/p> Georeferenced and modified from Brock call# G 3464 G73 G46 1795a G73 by Map, Data and GIS Library, Brock University. <\/span><\/p><\/div><\/div><\/div>",
"extent": {
"xmin": -8829090.104547998,
"ymin": 5325646.687975278,
"xmax": -8809317.834195998,
"ymax": 5352681.993859278,
"spatialReference": {
"wkid": 102100,
"latestWkid": 3857
}
},
"initialExtent": {
"xmin": -8829090.104547998,
"ymin": 5325646.687975278,
"xmax": -8809317.834195998,
"ymax": 5352681.993859278,
"spatialReference": {
"wkid": 102100,
"latestWkid": 3857
}
},
"fullExtent": {
"xmin": -8829090.104547998,
"ymin": 5325646.687975278,
"xmax": -8809317.834195998,
"ymax": 5352681.993859278,
"spatialReference": {
"wkid": 102100,
"latestWkid": 3857
}
},
"hasMultidimensions": false,
"pixelSizeX": 4.041756000000076,
"pixelSizeY": 4.041755999999987,
"datasetFormat": "TIFF",
"uncompressedSize": 196335528,
"blockWidth": 128,
"blockHeight": 128,
"compressionType": "LZW",
"bandNames": [
"Band_1",
"Band_2",
"Band_3"
],
"allowCopy": true,
"allowAnalysis": true,
"bandCount": 3,
"noDataValue": 256,
"noDataValues": [
256,
256,
256
],
"pixelType": "U16",
"minPixelSize": 0,
"maxPixelSize": 0,
"copyrightText": "Corrected by D.W. SmithSigned: Augustus Jones, Chas Chambers.Map, Data & GIS Library, Brock University.",
"serviceDataType": "esriImageServiceDataTypeGeneric",
"serviceSourceType": "esriImageServiceSourceTypeDataset",
"minValues": [
0,
0,
0
],
"maxValues": [
198,
198,
198
],
"meanValues": [
175.45130537123,
176.04729010949,
176.6316273039
],
"stdvValues": [
51.729794190994,
50.50932064949,
49.261928385554
],
"objectIdField": "",
"fields": [],
"capabilities": "Mensuration,Image,Metadata",
"defaultMosaicMethod": "Center",
"allowedMosaicMethods": "",
"sortField": "",
"sortValue": null,
"sortAscending": true,
"mosaicOperator": "First",
"defaultCompressionQuality": 75,
"defaultResamplingMethod": "Bilinear",
"maxImageHeight": 4100,
"maxImageWidth": 15000,
"allowRasterFunction": true,
"rasterFunctionInfos": [
{
"name": "None",
"description": "",
"help": ""
}
],
"rasterTypeInfos": [
{
"name": "Raster Dataset",
"description": "Supports all ArcGIS Raster Datasets",
"help": ""
}
],
"mensurationCapabilities": "Basic",
"hasHistograms": true,
"hasColormap": false,
"hasRasterAttributeTable": false,
"minScale": 0,
"maxScale": 0,
"exportTilesAllowed": false,
"supportsStatistics": false,
"supportsAdvancedQueries": false,
"editFieldsInfo": null,
"ownershipBasedAccessControlForRasters": null,
"allowComputeTiePoints": false,
"useStandardizedQueries": true,
"advancedQueryCapabilities": {
"useStandardizedQueries": true,
"supportsStatistics": false,
"supportsOrderBy": false,
"supportsDistinct": false,
"supportsPagination": false
},
"spatialReference": {
"wkid": 102100,
"latestWkid": 3857
}
}