{ "currentVersion": 10.91, "serviceDescription": "
Historical map showing lot and concession numbers, landowner names, political subdivision numbers, the 'old welland canal' (First and Second Welland Canals) and the \"new canal' (Third Welland Canal).<\/span><\/p> Compiled by C.E. Ingersoll, C.E.<\/span><\/p> Relief shown by hachures.<\/span><\/p> Digital reproduction of map #1984.94.272 in the St.Catharines Museum, <\/span><\/p> Georeferenced and modified by Map, Data and GIS Library, Brock University. <\/span><\/p> <\/p><\/div><\/div><\/div>",
"name": "EarlyNiagara/StCatharinesGrantham1897",
"description": " Historical map showing lot and concession numbers, landowner names, political subdivision numbers, the 'old welland canal' (First and Second Welland Canals) and the \"new canal' (Third Welland Canal).<\/span><\/p> Compiled by C.E. Ingersoll, C.E.<\/span><\/p> Relief shown by hachures.<\/span><\/p> Digital reproduction of map #1984.94.272 in the St.Catharines Museum, <\/span><\/p> Georeferenced and modified by Map, Data and GIS Library, Brock University. <\/span><\/p> <\/p><\/div><\/div><\/div>",
"extent": {
"xmin": -8825405.620878372,
"ymin": 5328243.741375589,
"xmax": -8811587.865992373,
"ymax": 5349254.812862589,
"spatialReference": {
"wkid": 102100,
"latestWkid": 3857
}
},
"initialExtent": {
"xmin": -8825405.620878372,
"ymin": 5328243.741375589,
"xmax": -8811587.865992373,
"ymax": 5349254.812862589,
"spatialReference": {
"wkid": 102100,
"latestWkid": 3857
}
},
"fullExtent": {
"xmin": -8825405.620878372,
"ymin": 5328243.741375589,
"xmax": -8811587.865992373,
"ymax": 5349254.812862589,
"spatialReference": {
"wkid": 102100,
"latestWkid": 3857
}
},
"hasMultidimensions": false,
"pixelSizeX": 7.485240999999721,
"pixelSizeY": 7.485241000000076,
"datasetFormat": "TIFF",
"uncompressedSize": 31090332,
"blockWidth": 128,
"blockHeight": 128,
"compressionType": "None",
"bandNames": [
"Band_1",
"Band_2",
"Band_3"
],
"allowCopy": true,
"allowAnalysis": true,
"bandCount": 3,
"noDataValue": 256,
"noDataValues": [
256,
256,
256
],
"pixelType": "U16",
"minPixelSize": 0,
"maxPixelSize": 0,
"copyrightText": "Map, Data & GIS Library, Brock University.",
"serviceDataType": "esriImageServiceDataTypeGeneric",
"serviceSourceType": "esriImageServiceSourceTypeDataset",
"minValues": [
0,
0,
0
],
"maxValues": [
249,
249,
246
],
"meanValues": [
62.429708242755,
123.85953816892,
159.64599268831
],
"stdvValues": [
37.616044046358,
30.252669542664,
23.555993390742
],
"objectIdField": "",
"fields": [],
"capabilities": "Mensuration,Image,Metadata",
"defaultMosaicMethod": "Center",
"allowedMosaicMethods": "",
"sortField": "",
"sortValue": null,
"sortAscending": true,
"mosaicOperator": "First",
"defaultCompressionQuality": 75,
"defaultResamplingMethod": "Bilinear",
"maxImageHeight": 4100,
"maxImageWidth": 15000,
"allowRasterFunction": true,
"rasterFunctionInfos": [
{
"name": "None",
"description": "",
"help": ""
}
],
"rasterTypeInfos": [
{
"name": "Raster Dataset",
"description": "Supports all ArcGIS Raster Datasets",
"help": ""
}
],
"mensurationCapabilities": "Basic",
"hasHistograms": true,
"hasColormap": false,
"hasRasterAttributeTable": false,
"minScale": 0,
"maxScale": 0,
"exportTilesAllowed": false,
"supportsStatistics": false,
"supportsAdvancedQueries": false,
"editFieldsInfo": null,
"ownershipBasedAccessControlForRasters": null,
"allowComputeTiePoints": false,
"useStandardizedQueries": true,
"advancedQueryCapabilities": {
"useStandardizedQueries": true,
"supportsStatistics": false,
"supportsOrderBy": false,
"supportsDistinct": false,
"supportsPagination": false
},
"spatialReference": {
"wkid": 102100,
"latestWkid": 3857
}
}