{ "currentVersion": 10.91, "serviceDescription": "
Maps showing land use features, residential, commercial, industrial, institutional, park & open spaces, urbanized areas, boundaries, legend. Titles and sizes vary.<\/span><\/p><\/div><\/div>",
"name": "EarlyNiagara/StCatharinesLandUse1970",
"description": " Maps showing land use features, residential, commercial, industrial, institutional, park & open spaces, urbanized areas, boundaries, legend. Titles and sizes vary.<\/span><\/p><\/div><\/div>",
"extent": {
"xmin": 636286.7055216024,
"ymin": 4773058.921671473,
"xmax": 649130.3133723824,
"ymax": 4789932.69264037,
"spatialReference": {
"wkid": 26917,
"latestWkid": 26917
}
},
"initialExtent": {
"xmin": 636286.7055216024,
"ymin": 4773058.921671473,
"xmax": 649130.3133723824,
"ymax": 4789932.69264037,
"spatialReference": {
"wkid": 26917,
"latestWkid": 26917
}
},
"fullExtent": {
"xmin": 636286.7055216024,
"ymin": 4773058.921671473,
"xmax": 649130.3133723824,
"ymax": 4789932.69264037,
"spatialReference": {
"wkid": 26917,
"latestWkid": 26917
}
},
"hasMultidimensions": false,
"pixelSizeX": 0.5137237650805972,
"pixelSizeY": 0.5107382701403335,
"datasetFormat": "TIFF",
"uncompressedSize": 825983038,
"blockWidth": 25001,
"blockHeight": 1024,
"compressionType": "JPEG",
"bandNames": [
"Band_1"
],
"allowCopy": true,
"allowAnalysis": true,
"bandCount": 1,
"pixelType": "U8",
"minPixelSize": 0,
"maxPixelSize": 0,
"copyrightText": "Brock University Map, Data & GIS Library",
"serviceDataType": "esriImageServiceDataTypeGeneric",
"serviceSourceType": "esriImageServiceSourceTypeDataset",
"minValues": [
0
],
"maxValues": [
255
],
"meanValues": [
243.78832198212
],
"stdvValues": [
27.413702641047
],
"objectIdField": "",
"fields": [],
"capabilities": "Mensuration,Image,Metadata",
"defaultMosaicMethod": "Center",
"allowedMosaicMethods": "",
"sortField": "",
"sortValue": null,
"sortAscending": true,
"mosaicOperator": "First",
"defaultCompressionQuality": 75,
"defaultResamplingMethod": "Bilinear",
"maxImageHeight": 4100,
"maxImageWidth": 15000,
"allowRasterFunction": true,
"rasterFunctionInfos": [
{
"name": "None",
"description": "",
"help": ""
}
],
"rasterTypeInfos": [
{
"name": "Raster Dataset",
"description": "Supports all ArcGIS Raster Datasets",
"help": ""
}
],
"mensurationCapabilities": "Basic",
"hasHistograms": true,
"hasColormap": false,
"hasRasterAttributeTable": false,
"minScale": 0,
"maxScale": 0,
"exportTilesAllowed": false,
"supportsStatistics": false,
"supportsAdvancedQueries": false,
"editFieldsInfo": null,
"ownershipBasedAccessControlForRasters": null,
"allowComputeTiePoints": false,
"useStandardizedQueries": true,
"advancedQueryCapabilities": {
"useStandardizedQueries": true,
"supportsStatistics": false,
"supportsOrderBy": false,
"supportsDistinct": false,
"supportsPagination": false
},
"spatialReference": {
"wkid": 26917,
"latestWkid": 26917
}
}