{ "currentVersion": 10.91, "serviceDescription": "
Map date: 1836<\/span><\/p> Scale [ca. 1:4,038]<\/span><\/p> Includes inset: Elevation of the Hydraulic Ditches<\/span><\/p> Digital reproduction of map ( 37 x 56 cm.) in the Brock University Map, Data & GIS Library collection. <\/span><\/p> Georeferenced and modified from Brock call# G 3464 S35 1836 M35 by Map, Data and GIS Library, Brock University. <\/span><\/p> <\/p><\/div><\/div><\/div>",
"name": "EarlyNiagara/StCatharinesMaingyMap1836",
"description": " Map date: 1836<\/span><\/p> Scale [ca. 1:4,038]<\/span><\/p> Includes inset: Elevation of the Hydraulic Ditches<\/span><\/p> Digital reproduction of map ( 37 x 56 cm.) in the Brock University Map, Data & GIS Library collection. <\/span><\/p> Georeferenced and modified from Brock call# G 3464 S35 1836 M35 by Map, Data and GIS Library, Brock University. <\/span><\/p> <\/p><\/div><\/div><\/div>",
"extent": {
"xmin": -8823474.943243884,
"ymin": 5334773.22312612,
"xmax": -8819935.920187883,
"ymax": 5337552.21252612,
"spatialReference": {
"wkid": 102100,
"latestWkid": 3857
}
},
"initialExtent": {
"xmin": -8823474.943243884,
"ymin": 5334773.22312612,
"xmax": -8819935.920187883,
"ymax": 5337552.21252612,
"spatialReference": {
"wkid": 102100,
"latestWkid": 3857
}
},
"fullExtent": {
"xmin": -8823474.943243884,
"ymin": 5334773.22312612,
"xmax": -8819935.920187883,
"ymax": 5337552.21252612,
"spatialReference": {
"wkid": 102100,
"latestWkid": 3857
}
},
"hasMultidimensions": false,
"pixelSizeX": 0.5318640000000708,
"pixelSizeY": 0.5318640000000596,
"datasetFormat": "TIFF",
"uncompressedSize": 69534300,
"blockWidth": 128,
"blockHeight": 128,
"compressionType": "LZW",
"bandNames": [
"Band_1"
],
"allowCopy": true,
"allowAnalysis": true,
"bandCount": 1,
"noDataValue": 256,
"noDataValues": [
256
],
"pixelType": "U16",
"minPixelSize": 0,
"maxPixelSize": 0,
"copyrightText": "Surveyor: Robert A. MaingyMap, Data & GIS Library, Brock University.",
"serviceDataType": "esriImageServiceDataTypeGeneric",
"serviceSourceType": "esriImageServiceSourceTypeDataset",
"minValues": [
0
],
"maxValues": [
255
],
"meanValues": [
177.73986487279
],
"stdvValues": [
39.039215465962
],
"objectIdField": "",
"fields": [],
"capabilities": "Mensuration,Image,Metadata",
"defaultMosaicMethod": "Center",
"allowedMosaicMethods": "",
"sortField": "",
"sortValue": null,
"sortAscending": true,
"mosaicOperator": "First",
"defaultCompressionQuality": 75,
"defaultResamplingMethod": "Bilinear",
"maxImageHeight": 4100,
"maxImageWidth": 15000,
"allowRasterFunction": true,
"rasterFunctionInfos": [
{
"name": "None",
"description": "",
"help": ""
}
],
"rasterTypeInfos": [
{
"name": "Raster Dataset",
"description": "Supports all ArcGIS Raster Datasets",
"help": ""
}
],
"mensurationCapabilities": "Basic",
"hasHistograms": true,
"hasColormap": false,
"hasRasterAttributeTable": false,
"minScale": 0,
"maxScale": 0,
"exportTilesAllowed": false,
"supportsStatistics": false,
"supportsAdvancedQueries": false,
"editFieldsInfo": null,
"ownershipBasedAccessControlForRasters": null,
"allowComputeTiePoints": false,
"useStandardizedQueries": true,
"advancedQueryCapabilities": {
"useStandardizedQueries": true,
"supportsStatistics": false,
"supportsOrderBy": false,
"supportsDistinct": false,
"supportsPagination": false
},
"spatialReference": {
"wkid": 102100,
"latestWkid": 3857
}
}